Workbook
Name Alpha: #REF!
Name Alpha: #REF!
Name Alpha: #REF!
Name Alpha: #REF!
Name Alpha: #REF!
Name beeta: #REF!
Name beeta: #REF!
Name beeta: #REF!
Name beeta: #REF!
Name beeta: #REF!
Name beta: #REF!
Name gamma: #REF!
Name gamma: #REF!
Name oldname: #REF!
Name oldname2: #REF!

Sheet Võlasaldo
C1: 1 | D1: 2 | E1: 3 | F1: 4 | G1: 5 | H1: 6 | I1: 7 | J1: 8 | K1: 9 | L1: 10 | M1: 11 | N1: 12 | O1: 13 | P1: 14 | Q1: 15 | R1: 16 | S1: 17 | T1: 18 | U1: 19 | V1: 20 | W1: 21 | X1: 22 | Y1: 23 | Z1: 24 | AA1: 25 | AB1: 26 | AC1: 27 | AD1: 28 | AE1: 29 | AF1: 30 | AG1: 31 | AH1: 32 | AI1: 33 | AJ1: 34 | AK1: 35 | AL1: 36 | AM1: 37 | AN1: 38 | AO1: 39 | AP1: 40 | AQ1: 41 | AR1: 42 | AS1: 43 | AT1: 44 | AU1: 45 | AV1: 46 | AW1: 47 | AX1: 48 | AY1: 49 | AZ1: 50 | BA1: 51 | BB1: 52 | BC1: 53 | BD1: 54
D3: 2022 | E3: 2023 | R3: 2024 | AE3: 2025 | AR3: 2026
B4: Maakond | C4: Omavalitsus | D4: 12 | E4: 1 | F4: 1 2020+ | G4: 2 | H4: 3 | I4: 4 | J4: 5 | K4: 6 | L4: 7 | M4: 8 | N4: 9 | O4: 10 | P4: 11 | Q4: 12 | R4: 1 | S4: 1 2021+ | T4: 2 | U4: 3 | V4: 4 | W4: 5 | X4: 6 | Y4: 7 | Z4: 8 | AA4: 9 | AB4: 10 | AC4: 11 | AD4: 12 | AE4: 1 | AF4: 1 2022+ | AG4: 2 | AH4: 3 | AI4: 4 | AJ4: 5 | AK4: 6 | AL4: 7 | AM4: 8 | AN4: 9 | AO4: 10 | AP4: 11 | AQ4: 12 | AR4: 1 | AS4: 1 2023+ | AT4: 2 | AU4: 3 | AV4: 4 | AW4: 5 | AX4: 6 | AY4: 7 | AZ4: 8 | BA4: 9 | BB4: 10 | BC4: 11 | BD4: 12
A5: 141 | B5: Harju | C5: Anija vald | D5: 65199.266 | E5: 66003.815 | F5: 61370.587 | G5: 69108.707 | H5: 72710.222 | I5: 73767.008 | J5: 67110.55 | K5: 66222.4 | L5: 66312.459 | M5: 67675.182 | N5: 66035.705 | O5: 70160.828 | P5: 69150.328 | Q5: 64628.252 | R5: 72374.864 | S5: 62986.503 | T5: 60865.732 | U5: 64564.259 | V5: 67409.392 | W5: 67174.336 | X5: 69524.874 | Y5: 70730.446 | Z5: 71208.635 | AA5: 74067.3 | AB5: 77058.72 | AC5: 78345.774 | AD5: 81937.337 | AE5: 84776.982 | AF5: 77895.556 | AG5: 78119.953 | AH5: 77869.15 | AI5: 75200.123 | AJ5: 74442.318 | AK5: 72579.154 | AL5: 76142.965 | AM5: 78301.722 | AN5: 78402.25 | AO5: 80243.84 | AP5: 80799.594 | AQ5: 82159.772 | AR5: 80916.308 | AS5: 62289.087 | AT5: 60835.343 | AU5: 60294.689 | AV5: 63679.592 | AW5: 66347.55 | AX5: 67072.84 | AY5: 68273.819 | AZ5: 63327.574 | BA5: 64433.091
A6: 198 | B6: Harju | C6: Harku vald | D6: 197979.6 | E6: 201012.43 | F6: 184997.76 | G6: 190697.77 | H6: 197480.53 | I6: 190946.3 | J6: 188362.94 | K6: 198020.28 | L6: 200165.19 | M6: 209032.57 | N6: 207119.69 | O6: 214784.62 | P6: 215800.98 | Q6: 199535.98 | R6: 220777.29 | S6: 202533.39 | T6: 195904.94 | U6: 208088.23 | V6: 216851.86 | W6: 213007.28 | X6: 208333.09 | Y6: 217144.75 | Z6: 233809.45 | AA6: 247955.92 | AB6: 259816.43 | AC6: 264739.87 | AD6: 267744.22 | AE6: 271218.03 | AF6: 235430.36 | AG6: 235333.57 | AH6: 241083.93 | AI6: 237311.88 | AJ6: 253643.02 | AK6: 259088.06 | AL6: 256334.22 | AM6: 250885.9 | AN6: 258372.29 | AO6: 256657.27 | AP6: 260434.98 | AQ6: 254735.09 | AR6: 260392.42 | AS6: 227456.61 | AT6: 233237.85 | AU6: 234410.72 | AV6: 231390.21 | AW6: 232170.18 | AX6: 230897.59 | AY6: 236372.26 | AZ6: 237751.01 | BA6: 247061.14
A7: 245 | B7: Harju | C7: Jõelähtme vald | D7: 65602.668 | E7: 65344.811 | F7: 57334.685 | G7: 62234.219 | H7: 65788.731 | I7: 64914.096 | J7: 62118.566 | K7: 61783.686 | L7: 68360.131 | M7: 67540.153 | N7: 67185.061 | O7: 67954.687 | P7: 64632.318 | Q7: 58413.118 | R7: 68018.553 | S7: 56267.973 | T7: 52446.479 | U7: 59349.769 | V7: 61535.748 | W7: 61946.623 | X7: 60859.855 | Y7: 61094.016 | Z7: 59148.241 | AA7: 65100.791 | AB7: 67392.593 | AC7: 66078.574 | AD7: 71078.637 | AE7: 73885.345 | AF7: 67587.807 | AG7: 67136.71 | AH7: 66615.999 | AI7: 63505.406 | AJ7: 67967.087 | AK7: 67647.42 | AL7: 67961.016 | AM7: 68777.147 | AN7: 71329.002 | AO7: 71351.341 | AP7: 71344.122 | AQ7: 73059.908 | AR7: 72012.592 | AS7: 57644.685 | AT7: 61351.341 | AU7: 61256.753 | AV7: 62273.365 | AW7: 64488.122 | AX7: 69439.551 | AY7: 68423.477 | AZ7: 71070.705 | BA7: 75464.417
A8: 296 | B8: Harju | C8: Keila linn | D8: 125482.33 | E8: 126153.99 | F8: 102639.88 | G8: 101584.17 | H8: 104684.44 | I8: 104284.98 | J8: 103405.08 | K8: 102396.86 | L8: 99692.819 | M8: 100275.03 | N8: 104375.04 | O8: 113098.07 | P8: 115282.56 | Q8: 106898.84 | R8: 119267.99 | S8: 101455.6 | T8: 101788.41 | U8: 105565.21 | V8: 105271.85 | W8: 108192.15 | X8: 103781.37 | Y8: 99326.118 | Z8: 105060.28 | AA8: 108506.95 | AB8: 111888.95 | AC8: 111772.21 | AD8: 113306.41 | AE8: 113691.9 | AF8: 94194.943 | AG8: 96354.985 | AH8: 99076.958 | AI8: 94795.801 | AJ8: 96540.432 | AK8: 99697.494 | AL8: 101471.6 | AM8: 107616.95 | AN8: 112051.66 | AO8: 116649.47 | AP8: 115220.91 | AQ8: 121394.42 | AR8: 127948.22 | AS8: 109028.22 | AT8: 110060.59 | AU8: 107638.98 | AV8: 110802.91 | AW8: 112498.65 | AX8: 112166.59 | AY8: 112733.7 | AZ8: 121575.07 | BA8: 121634.33
A9: 305 | B9: Harju | C9: Kiili vald | D9: 64534.458 | E9: 66818.34 | F9: 63708.648 | G9: 67516.114 | H9: 66942.512 | I9: 62467.678 | J9: 66200.872 | K9: 65553.717 | L9: 65443.804 | M9: 73097.008 | N9: 69778.348 | O9: 66966.791 | P9: 67005.182 | Q9: 59430.436 | R9: 69074.143 | S9: 56462.323 | T9: 52494.174 | U9: 59297.724 | V9: 61698.711 | W9: 59941.794 | X9: 60244.792 | Y9: 64658.377 | Z9: 69353.567 | AA9: 73616.452 | AB9: 75715.416 | AC9: 77499.523 | AD9: 84118.856 | AE9: 84281.283 | AF9: 68376.516 | AG9: 69022.152 | AH9: 68803.523 | AI9: 68772.139 | AJ9: 71961.172 | AK9: 70691.119 | AL9: 73907.911 | AM9: 76887.179 | AN9: 77046.575 | AO9: 78958.203 | AP9: 73860.604 | AQ9: 76721.392 | AR9: 77448.549 | AS9: 66231.504 | AT9: 71296.516 | AU9: 70942.549 | AV9: 69690.917 | AW9: 71176.751 | AX9: 73558.332 | AY9: 73388.8 | AZ9: 76146.717 | BA9: 74760.758
A10: 338 | B10: Harju | C10: Kose vald | D10: 100732.42 | E10: 102437.68 | F10: 89719.136 | G10: 89874.377 | H10: 97734.489 | I10: 96990.816 | J10: 96694.686 | K10: 99855.834 | L10: 101080.9 | M10: 101263.41 | N10: 101988.54 | O10: 102562.86 | P10: 105285.67 | Q10: 100166.79 | R10: 106488.37 | S10: 85269.777 | T10: 81141.417 | U10: 88435.798 | V10: 85317.357 | W10: 85409.879 | X10: 86650.791 | Y10: 88391.545 | Z10: 91883.668 | AA10: 92442.655 | AB10: 93613.853 | AC10: 94582.164 | AD10: 91804.595 | AE10: 97629.288 | AF10: 77643.769 | AG10: 72689.995 | AH10: 74980.508 | AI10: 72682.797 | AJ10: 74078.636 | AK10: 76545.39 | AL10: 77298.883 | AM10: 75698.375 | AN10: 76268.5 | AO10: 78882.004 | AP10: 75320.437 | AQ10: 77609.912 | AR10: 87895.218 | AS10: 73809.568 | AT10: 74055.383 | AU10: 70491.284 | AV10: 68731.292 | AW10: 74664.37 | AX10: 77456.957 | AY10: 75135.584 | AZ10: 75561.818 | BA10: 78931.642
A11: 353 | B11: Harju | C11: Kuusalu vald | D11: 51468.878 | E11: 47552.078 | F11: 40326.848 | G11: 44129.888 | H11: 43687.608 | I11: 47454.529 | J11: 41241.429 | K11: 42343.423 | L11: 50704.898 | M11: 49913.505 | N11: 52648.398 | O11: 50963.952 | P11: 49519.543 | Q11: 49806.344 | R11: 58836.502 | S11: 54484.856 | T11: 51102.903 | U11: 60391.811 | V11: 58773.171 | W11: 59381.841 | X11: 58692.344 | Y11: 61278.838 | Z11: 57831.694 | AA11: 56398.342 | AB11: 55855.345 | AC11: 57571.821 | AD11: 61995.068 | AE11: 62129.078 | AF11: 59091.597 | AG11: 62581.877 | AH11: 60964.018 | AI11: 59764.947 | AJ11: 63163.826 | AK11: 65810.621 | AL11: 64887.89 | AM11: 66174.245 | AN11: 72353.723 | AO11: 71309.623 | AP11: 69561.976 | AQ11: 70936.326 | AR11: 74555.877 | AS11: 60402.533 | AT11: 61928.794 | AU11: 58620.505 | AV11: 57604.463 | AW11: 60617.507 | AX11: 59011.478 | AY11: 58973.563 | AZ11: 55534.709 | BA11: 55364.018
A12: 424 | B12: Harju | C12: Loksa linn | D12: 73151.384 | E12: 68275.412 | F12: 65490.209 | G12: 68247.468 | H12: 67819.3 | I12: 68890.676 | J12: 67703.168 | K12: 66567.207 | L12: 51321.556 | M12: 51920.872 | N12: 52913.91 | O12: 53980.742 | P12: 51536.956 | Q12: 51344.998 | R12: 52109.6 | S12: 49027.03 | T12: 51099.072 | U12: 51694.031 | V12: 51672.401 | W12: 54449.981 | X12: 50675.874 | Y12: 50413.54 | Z12: 50838.282 | AA12: 54539.639 | AB12: 55221.036 | AC12: 52940.742 | AD12: 54429.845 | AE12: 55916.214 | AF12: 35168.484 | AG12: 49192.225 | AH12: 49818.215 | AI12: 49635.916 | AJ12: 50360.925 | AK12: 51745.539 | AL12: 51131.898 | AM12: 48882.469 | AN12: 54154.595 | AO12: 51395.404 | AP12: 49450.358 | AQ12: 48207.168 | AR12: 49674.643 | AS12: 31930.07 | AT12: 31399.71 | AU12: 31197.486 | AV12: 31187.337 | AW12: 30398.996 | AX12: 31752.352 | AY12: 29583.117 | AZ12: 31560.249 | BA12: 31972.294
A13: 431 | B13: Harju | C13: Lääne-Harju vald | D13: 151212.07 | E13: 157012.67 | F13: 136728.16 | G13: 135472.71 | H13: 141466.23 | I13: 140430.25 | J13: 143262.74 | K13: 140150.75 | L13: 135243.8 | M13: 138284.27 | N13: 143567 | O13: 147486.77 | P13: 145737.5 | Q13: 141079.44 | R13: 150022.17 | S13: 128104.76 | T13: 123599.19 | U13: 128780.92 | V13: 132654.27 | W13: 132485.5 | X13: 131745.57 | Y13: 127079.08 | Z13: 128846.84 | AA13: 131568.43 | AB13: 138732.33 | AC13: 135971.48 | AD13: 138732.91 | AE13: 146401.86 | AF13: 112571.56 | AG13: 115133.7 | AH13: 116665.5 | AI13: 118128.77 | AJ13: 130668.75 | AK13: 128700.02 | AL13: 130134.82 | AM13: 129683.76 | AN13: 129826.5 | AO13: 134490.31 | AP13: 134364.98 | AQ13: 145832.02 | AR13: 151597.6 | AS13: 122036.55 | AT13: 122578.94 | AU13: 127885.1 | AV13: 126169.52 | AW13: 132176.83 | AX13: 130122.31 | AY13: 126508.93 | AZ13: 130811.35 | BA13: 141723.64
A14: 446 | B14: Harju | C14: Maardu linn | D14: 177137.91 | E14: 183341.32 | F14: 158421.68 | G14: 164478.46 | H14: 163717.21 | I14: 170379.77 | J14: 172971.86 | K14: 173491.64 | L14: 195508.21 | M14: 185385.62 | N14: 185789.87 | O14: 187747.36 | P14: 186621.45 | Q14: 176663.55 | R14: 189422.48 | S14: 146091.64 | T14: 139428.41 | U14: 153757.99 | V14: 158642.86 | W14: 167555.74 | X14: 165179.56 | Y14: 170268.43 | Z14: 182509.1 | AA14: 187391.48 | AB14: 181335.43 | AC14: 186534.72 | AD14: 193378.37 | AE14: 204020.51 | AF14: 178252.21 | AG14: 186813.47 | AH14: 190109.39 | AI14: 189022.4 | AJ14: 193551.43 | AK14: 195486.89 | AL14: 204026.78 | AM14: 213195.95 | AN14: 212037.88 | AO14: 214013.44 | AP14: 212657.02 | AQ14: 216661.33 | AR14: 219123.44 | AS14: 189549.23 | AT14: 197494.27 | AU14: 202872.09 | AV14: 202518.23 | AW14: 209420.99 | AX14: 222080.01 | AY14: 212891.49 | AZ14: 213477.41 | BA14: 218766.64
A15: 651 | B15: Harju | C15: Raasiku vald | D15: 88139.124 | E15: 86777.238 | F15: 81077.797 | G15: 83459.272 | H15: 87394.471 | I15: 87062.342 | J15: 87654.601 | K15: 87752.434 | L15: 91432.765 | M15: 94202.103 | N15: 95916.808 | O15: 98314.908 | P15: 93206.552 | Q15: 85351.942 | R15: 88346.367 | S15: 77378.449 | T15: 76073.52 | U15: 80084.108 | V15: 82473.347 | W15: 80716.275 | X15: 80157.308 | Y15: 81698.185 | Z15: 84402.92 | AA15: 86870.902 | AB15: 91266.747 | AC15: 88843.092 | AD15: 88537.84 | AE15: 89754.337 | AF15: 76189.545 | AG15: 70762.688 | AH15: 71334.222 | AI15: 68998.327 | AJ15: 71037.474 | AK15: 67318.314 | AL15: 67258.119 | AM15: 68827.176 | AN15: 68096.242 | AO15: 68875.238 | AP15: 68869.091 | AQ15: 69476.021 | AR15: 71815.105 | AS15: 38559.847 | AT15: 39560.958 | AU15: 40586.778 | AV15: 42529.336 | AW15: 43023.171 | AX15: 45252.382 | AY15: 44153.275 | AZ15: 43949.423 | BA15: 44703.449
A16: 653 | B16: Harju | C16: Rae vald | D16: 244420.63 | E16: 254572.92 | F16: 224943.08 | G16: 232696.51 | H16: 236982.14 | I16: 235624.68 | J16: 236799.27 | K16: 248376.31 | L16: 257488.87 | M16: 260650.86 | N16: 274143.89 | O16: 291064.9 | P16: 285122.33 | Q16: 275118.39 | R16: 306811.79 | S16: 260753.24 | T16: 249661 | U16: 254291.54 | V16: 257784.99 | W16: 262853.21 | X16: 259468.12 | Y16: 273721.01 | Z16: 296349.11 | AA16: 311523.88 | AB16: 323409.16 | AC16: 319533.11 | AD16: 314497.61 | AE16: 322234.51 | AF16: 286517.89 | AG16: 294440.62 | AH16: 297493.07 | AI16: 286965.5 | AJ16: 294916.94 | AK16: 293941.47 | AL16: 297943.28 | AM16: 309170.3 | AN16: 321713.82 | AO16: 321556.43 | AP16: 323216.05 | AQ16: 325367.59 | AR16: 331321.03 | AS16: 292548.15 | AT16: 290206.87 | AU16: 291600.53 | AV16: 282731.33 | AW16: 288110.42 | AX16: 292115.41 | AY16: 288886.37 | AZ16: 290725.34 | BA16: 302782.1
... A82: 917 | B82: Võru | C82: Võru vald | D82: 70313.907 | E82: 74659.333 | F82: 61863.698 | G82: 60327.197 | H82: 57787.73 | I82: 59547.405 | J82: 60050.562 | K82: 62132.798 | L82: 59440.363 | M82: 67187.572 | N82: 71394.144 | O82: 75470.351 | P82: 75063.352 | Q82: 65848.172 | R82: 82627.574 | S82: 72362.306 | T82: 64998.819 | U82: 71325.645 | V82: 72882.28 | W82: 75147.023 | X82: 71150.317 | Y82: 73250.687 | Z82: 77716.558 | AA82: 79955.241 | AB82: 82063.454 | AC82: 80971.44 | AD82: 76632.344 | AE82: 90436.092 | AF82: 79523.07 | AG82: 67020.984 | AH82: 67069.028 | AI82: 64243.953 | AJ82: 69047.524 | AK82: 74195.943 | AL82: 85732.383 | AM82: 88860.247 | AN82: 87699.516 | AO82: 84840.103 | AP82: 77294.51 | AQ82: 78253.051 | AR82: 86770.639 | AS82: 76185.201 | AT82: 77158.942 | AU82: 79675.502 | AV82: 76815.252 | AW82: 75649.16 | AX82: 68751.068 | AY82: 67530.987 | AZ82: 72331.258 | BA82: 78225.434
C83: Aadressita
C84: KOKKU | D84: =SUM(D5:D83) -> 12766661 | E84: =SUM(E5:E83) -> 13111853 | F84: =SUM(F5:F83) -> 11295763 | G84: =SUM(G5:G83) -> 11489590 | H84: =SUM(H5:H83) -> 11810172 | I84: =SUM(I5:I83) -> 11652744 | J84: =SUM(J5:J83) -> 11691982 | K84: =SUM(K5:K83) -> 11700906 | ... BA84: =SUM(BA5:BA83) -> 14398680
C85: muutus | E85: =E84-D84 -> 345191.53 | G85: =G84-F84 -> 193826.39 | H85: =H84-G84 -> 320582.78 | I85: =I84-H84 -> -157428.76 | J85: =J84-I84 -> 39238.009 | K85: =K84-J84 -> 8924.1932 | L85: =L84-K84 -> 364342.74 | M85: =M84-L84 -> 615121.82 | N85: =N84-M84 -> 69240.626 | ... R85: =R84-Q84 -> 1491152 | T85: =T84-S84 -> -527617.25 | U85: =U84-T84 -> 833663.24 | V85: =V84-U84 -> 329735.78 | W85: =W84-V84 -> -77894.988 | X85: =X84-W84 -> -219966.7 | Y85: =Y84-X84 -> 238968.34 | Z85: =Z84-Y84 -> 651744.31 | AA85: =AA84-Z84 -> 325713.41 | ... AE85: =AE84-AD84 -> 536258.27 | AG85: =AG84-AF84 -> 315982.13 | AH85: =AH84-AG84 -> 61318.571 | AI85: =AI84-AH84 -> -351220.49 | AJ85: =AJ84-AI84 -> 438235.81 | AK85: =AK84-AJ84 -> 36777.807 | AL85: =AL84-AK84 -> 194007.4 | AM85: =AM84-AL84 -> 242480 | AN85: =AN84-AM84 -> 138059.08 | ... AR85: =AR84-AQ84 -> 606524.05 | AT85: =AT84-AS84 -> 266192.11 | AU85: =AU84-AT84 -> 152403.15 | AV85: =AV84-AU84 -> -264856.28 | AW85: =AW84-AV84 -> 302685.2 | AX85: =AX84-AW84 -> 193589.84 | AY85: =AY84-AX84 -> -15435.596 | AZ85: =AZ84-AY84 -> -48446.509 | BA85: =BA84-AZ84 -> 467995.42

Sheet VMS muut
C1: 1 | D1: 2 | E1: 3 | F1: 4 | G1: 5 | H1: 6 | I1: 7 | J1: 8 | K1: 9 | L1: 10 | M1: 11 | N1: 12 | O1: 13 | P1: 14 | Q1: 15 | R1: 16 | S1: 17 | T1: 18 | U1: 19 | V1: 20 | W1: 21 | X1: 22 | Y1: 23 | Z1: 24 | AA1: 25 | AB1: 26 | AC1: 27 | AD1: 28 | AE1: 29 | AF1: 30 | AG1: 31 | AH1: 32 | AI1: 33 | AJ1: 34 | AK1: 35 | AL1: 36 | AM1: 37 | AN1: 38 | AO1: 39 | AP1: 40 | AQ1: 41 | AR1: 42 | AS1: 43 | AT1: 44 | AU1: 45 | AV1: 46 | AW1: 47 | AX1: 48 | AY1: 49
C2: Varasema perioodi VMS muutus: Kogu VMS muutus lahutada viimase kuu muutus (VMS algne lehel andmed).
D3: 2023 | P3: 2024 | AB3: 2025 | AN3: 2026
A4: Kood | B4: Maakond | C4: Omavalitsus | D4: 1 | E4: 2 | F4: 3 | G4: 4 | H4: 5 | I4: 6 | J4: 7 | K4: 8 | L4: 9 | M4: 10 | N4: 11 | O4: 12 | P4: 1 | Q4: 2 | R4: 3 | S4: 4 | T4: 5 | U4: 6 | V4: 7 | W4: 8 | X4: 9 | Y4: 10 | Z4: 11 | AA4: 12 | AB4: 1 | AC4: 2 | AD4: 3 | AE4: 4 | AF4: 5 | AG4: 6 | AH4: 7 | AI4: 8 | AJ4: 9 | AK4: 10 | AL4: 11 | AM4: 12 | AN4: 1 | AO4: 2 | AP4: 3 | AQ4: 4 | AR4: 5 | AS4: 6 | AT4: 7 | AU4: 8 | AV4: 9 | AW4: 10 | AX4: 11 | AY4: 12
A5: 141 | B5: Harju | C5: Anija vald | D5: 65682.53 | E5: 5044.38 | F5: 4851.4 | G5: 8975.47 | H5: 7701.54 | I5: 3409.73 | J5: 13133.76 | K5: 12754.71 | L5: 17633.86 | M5: 16795.64 | N5: 16633.86 | O5: 22980.71 | P5: 39703.97 | Q5: 2038.94 | R5: 11633.18 | S5: 8175.36 | T5: 10621.49 | U5: 3268.36 | V5: 15108.98 | W5: 14154.17 | X5: -435.3 | Y5: 2210.11 | Z5: 3783.41 | AA5: 15857.25 | AB5: 7201.86 | AC5: 22698.65 | AD5: 12105.33 | AE5: 1774.9 | AF5: 10116.35 | AG5: 12328.5 | AH5: 5989.19 | AI5: 5603.65 | AJ5: 2632.96 | AK5: 5390 | AL5: 8438.42 | AM5: 889.26 | AN5: 11120.59 | AO5: 3555 | AP5: 18408 | AQ5: 12700.3 | AR5: 6692.87 | AS5: 5672.34 | AT5: 8128.29 | AU5: 2671.49
A6: 198 | B6: Harju | C6: Harku vald | D6: 94795.6 | E6: 46978.27 | F6: 49851.56 | G6: 34865.91 | H6: 84098.12 | I6: 31906.17 | J6: 48262.91 | K6: 58314.11 | L6: 112412.29 | M6: 49189.98 | N6: 39366.82 | O6: 125542.47 | P6: 236185.41 | Q6: 25398.22 | R6: 93932.3 | S6: 52783.07 | T6: 35042.68 | U6: 44059.89 | V6: 31867.57 | W6: 86950.04 | X6: 34263.92 | Y6: 32651.24 | Z6: 32223.74 | AA6: 33077.54 | AB6: 102581.2 | AC6: 79097.96 | AD6: 46845.23 | AE6: 37674.12 | AF6: 43114.49 | AG6: 42395.06 | AH6: 47195.92 | AI6: 8482.82 | AJ6: 149719.88 | AK6: 43970 | AL6: 33119.74 | AM6: 69365.03 | AN6: 50288.3 | AO6: 39583 | AP6: 73135 | AQ6: 38790.92 | AR6: 9966.68 | AS6: 174258.69 | AT6: 66320.78 | AU6: 52984.77
A7: 245 | B7: Harju | C7: Jõelähtme vald | D7: 34922.84 | E7: 3710.31 | F7: 12337.85 | G7: 20170.55 | H7: 20122.8 | I7: 22849.45 | J7: 27721 | K7: 13059.61 | L7: 19092.49 | M7: 14227.73 | N7: 5460.5 | O7: 37113.55 | P7: 34987.94 | Q7: 23982.17 | R7: 22070.37 | S7: 10523.39 | T7: 9965.03 | U7: 21512.11 | V7: 18139.01 | W7: 35861.3 | X7: 27815.88 | Y7: 14111.89 | Z7: 13846.06 | AA7: 21782.72 | AB7: 27107.93 | AC7: 21462.83 | AD7: 30919.55 | AE7: 14727.53 | AF7: 12804.74 | AG7: 19571.11 | AH7: 11878.97 | AI7: 25330.24 | AJ7: 9322.64 | AK7: 15750 | AL7: 13111.97 | AM7: 22274.95 | AN7: 20987.71 | AO7: 19741 | AP7: 26104 | AQ7: 12777.02 | AR7: 29939.82 | AS7: 26911.45 | AT7: 16392.6 | AU7: 42706.16
A8: 296 | B8: Harju | C8: Keila linn | D8: 29510.91 | E8: 17061.39 | F8: 56548.24 | G8: 25521.89 | H8: 37243.94 | I8: 7475.01 | J8: 20530.94 | K8: 26693.42 | L8: 17719.05 | M8: 44080.94 | N8: -857.21 | O8: 31077.06 | P8: 53378.22 | Q8: 9591.74 | R8: 6582.3 | S8: 10680 | T8: 5448.57 | U8: 18503.37 | V8: 21670.61 | W8: 58241.1 | X8: 20959.15 | Y8: 18748.92 | Z8: 22914.8 | AA8: 34784.95 | AB8: 43725.99 | AC8: 41852.11 | AD8: 24478.94 | AE8: 11582.26 | AF8: 36094.02 | AG8: 40602.45 | AH8: 23321.08 | AI8: 43344.46 | AJ8: 13854.17 | AK8: 21833 | AL8: 35536.73 | AM8: 9601.58 | AN8: 29456.12 | AO8: 2987 | AP8: 112814 | AQ8: 13434.67 | AR8: 4350.09 | AS8: 28336.29 | AT8: 13723.99 | AU8: 9659.73
A9: 305 | B9: Harju | C9: Kiili vald | D9: 58497.64 | E9: 14371.68 | F9: 10183.55 | G9: 31777.55 | H9: 34458.4 | I9: 9612.2 | J9: 19095.6 | K9: 20572.67 | L9: 10732.33 | M9: 28095.26 | N9: 12413.05 | O9: 30283.87 | P9: 79342.79 | Q9: 8293.96 | R9: 16109.72 | S9: 29240.32 | T9: 13744.33 | U9: 4194.67 | V9: 8281.8 | W9: 24219.59 | X9: 28536.46 | Y9: 22243.4 | Z9: 8688.71 | AA9: 10952.28 | AB9: 22933.15 | AC9: 29800.22 | AD9: 19035.47 | AE9: 5721.16 | AF9: 17019.66 | AG9: 15009.67 | AH9: 12130.83 | AI9: 13853.39 | AJ9: 16636.6 | AK9: 17288 | AL9: 23731.67 | AM9: 11941.54 | AN9: 50008.01 | AO9: 8345 | AP9: 22533 | AQ9: 14589.97 | AR9: 18788.06 | AS9: 17148.46 | AT9: 4888.7 | AU9: -8639.32
A10: 338 | B10: Harju | C10: Kose vald | D10: 75054.03 | E10: 21829.65 | F10: 9974.11 | G10: 17915.2 | H10: 53253.81 | I10: 2732.35 | J10: 39279.69 | K10: 12302.35 | L10: 24948.55 | M10: 11068.26 | N10: 21837.55 | O10: 24351.5 | P10: 111682.94 | Q10: 25515.27 | R10: -19923.61 | S10: 13601.01 | T10: 12548.32 | U10: 12122.44 | V10: 18218.92 | W10: 26396.02 | X10: 14523.92 | Y10: 6824.97 | Z10: 3479.96 | AA10: 18141.01 | AB10: 9806.23 | AC10: 9237.87 | AD10: 6323.82 | AE10: 6256.24 | AF10: 20219.79 | AG10: 29425.54 | AH10: 12623.12 | AI10: 18125.2 | AJ10: 1988.06 | AK10: 14411 | AL10: 30765.41 | AM10: 3286.8 | AN10: 1299.14 | AO10: 2381 | AP10: 38061 | AQ10: 5125.36 | AR10: 7731.19 | AS10: 17697.97 | AT10: 9649.43 | AU10: 62
A11: 353 | B11: Harju | C11: Kuusalu vald | D11: 40606.45 | E11: 6103.93 | F11: 17818.56 | G11: 6580.21 | H11: 19457.83 | I11: 20508.66 | J11: 21992.68 | K11: 17504.96 | L11: 10631.59 | M11: 13954.99 | N11: 20308.42 | O11: 16441.89 | P11: 99365.75 | Q11: 17418.51 | R11: 11409.98 | S11: 7159.42 | T11: 11101.94 | U11: 26887.79 | V11: 13622.35 | W11: 20950.82 | X11: 14451.64 | Y11: 4412.63 | Z11: 11243.89 | AA11: 12574.11 | AB11: 46385.93 | AC11: 17883.7 | AD11: 9145.65 | AE11: 8291.25 | AF11: 11353.94 | AG11: -840.63 | AH11: 14883.85 | AI11: 24105.3 | AJ11: 5943.83 | AK11: 2879 | AL11: 11447.32 | AM11: 25773.81 | AN11: 14290.93 | AO11: 10368 | AP11: 30228 | AQ11: 3549.09 | AR11: 12754.5 | AS11: 15284 | AT11: 11491.07 | AU11: 3004.79
A12: 424 | B12: Harju | C12: Loksa linn | D12: 54987.91 | E12: 0 | F12: 8316.09 | G12: 3313.68 | H12: 667.91 | I12: 2058.54 | J12: 1761.95 | K12: 2180.52 | L12: 7284.34 | M12: 5543.91 | N12: 7518.08 | O12: 10452.95 | P12: 18669.94 | Q12: 1342.37 | R12: 1262.62 | S12: 5724.03 | T12: 784.03 | U12: 11513.58 | V12: 1345.59 | W12: 6719.17 | X12: -19.27 | Y12: 1601.48 | Z12: 334.05 | AA12: 401.87 | AB12: 37855.34 | AC12: 10396.1 | AD12: -581.97 | AE12: 412.82 | AF12: 1330 | AG12: 3617.84 | AH12: 4060.22 | AI12: 2732.53 | AJ12: 1484.05 | AK12: 306 | AL12: 1914.35 | AM12: 6905.81 | AN12: 1465.4 | AO12: 1061 | AP12: 1168 | AQ12: -903.29 | AR12: 906.82 | AS12: 3534.28 | AT12: 4712.93 | AU12: 1598.12
A13: 431 | B13: Harju | C13: Lääne-Harju vald | D13: 84291.44 | E13: 24051.71 | F13: 45678.64 | G13: 38196.36 | H13: 40040.81 | I13: 23304.01 | J13: 19058.6 | K13: 26196.47 | L13: 22088.64 | M13: 8241.46 | N13: 37816.85 | O13: 44164.43 | P13: 73590.73 | Q13: 18104.91 | R13: 28578.48 | S13: 30189.92 | T13: 30778.89 | U13: 1981.79 | V13: 15010.19 | W13: 10741.36 | X13: 8850.36 | Y13: 15125.59 | Z13: 15307.1 | AA13: 16495.35 | AB13: 52224.62 | AC13: 31392.51 | AD13: 138113.97 | AE13: 7742.35 | AF13: 26692.94 | AG13: 27774.56 | AH13: 27564.75 | AI13: 29571.08 | AJ13: 13974.03 | AK13: 26098 | AL13: 42768.94 | AM13: 13559.16 | AN13: 38550.14 | AO13: 34492 | AP13: 133894 | AQ13: 6443.34 | AR13: 8881.29 | AS13: 24126.69 | AT13: -3361.8 | AU13: 18646.24
A14: 446 | B14: Harju | C14: Maardu linn | D14: 145485.43 | E14: 14002.9 | F14: 21605.91 | G14: 120987.12 | H14: 24093.56 | I14: 40121.65 | J14: 163293.5 | K14: 25153.28 | L14: 36034.68 | M14: 21834.1 | N14: 21438.05 | O14: 34446.01 | P14: 51986.71 | Q14: 13788.89 | R14: 34450.83 | S14: 21929.52 | T14: 16395.97 | U14: 15545.46 | V14: 13691.11 | W14: 29555.61 | X14: 24496.23 | Y14: 12485.7 | Z14: 20607 | AA14: 42221.72 | AB14: 87742.18 | AC14: 53035.87 | AD14: 45003.33 | AE14: 6376.52 | AF14: 125336.61 | AG14: 156198.28 | AH14: 140373.96 | AI14: 141442.06 | AJ14: 18150.31 | AK14: 25030 | AL14: 31201.08 | AM14: 17654.69 | AN14: 52608.07 | AO14: 21374 | AP14: 77428 | AQ14: 53615.72 | AR14: 5239.95 | AS14: 27428.88 | AT14: 25340.05 | AU14: 29624.9
A15: 651 | B15: Harju | C15: Raasiku vald | D15: 72136.56 | E15: 5396.72 | F15: 12430.07 | G15: 7321.03 | H15: 15352.77 | I15: 7468.8 | J15: 16058.88 | K15: 20606.2 | L15: 29036.36 | M15: 4931.18 | N15: -300.6 | O15: 34957.07 | P15: 45164.18 | Q15: 16645.42 | R15: 18712.15 | S15: 10391.74 | T15: 12392.77 | U15: 5744.28 | V15: 14948.1 | W15: 22253.17 | X15: 14315.4 | Y15: 2552.56 | Z15: 16837.62 | AA15: 7105.56 | AB15: 12426.11 | AC15: 19060.97 | AD15: 13419.15 | AE15: -38.05 | AF15: 3882.87 | AG15: 22058.5 | AH15: 9033.1 | AI15: 10067.05 | AJ15: 2960.84 | AK15: 14843 | AL15: 5278.81 | AM15: 7788.04 | AN15: 13398.07 | AO15: 7815 | AP15: 12348 | AQ15: 7663.42 | AR15: 11833.4 | AS15: 3547.85 | AT15: 15839.99 | AU15: 23704.69
A16: 653 | B16: Harju | C16: Rae vald | D16: 168071.98 | E16: 46632.22 | F16: 65328.17 | G16: 440756.62 | H16: 104911.24 | I16: 126137.48 | J16: 85632.46 | K16: 105195.38 | L16: 85233.51 | M16: 84902.96 | N16: 84006.14 | O16: 87829.12 | P16: 126827.81 | Q16: 57564.36 | R16: 84840.76 | S16: 212479.5 | T16: 51106.31 | U16: 59793.34 | V16: 39967.26 | W16: 136613.28 | X16: 104862.71 | Y16: 60437.06 | Z16: 121848.2 | AA16: 79312.6 | AB16: 178391.66 | AC16: 200624.17 | AD16: 64843.11 | AE16: 11745.39 | AF16: 66988.53 | AG16: 106234.11 | AH16: 126691.33 | AI16: 68066.82 | AJ16: 48609.74 | AK16: 41395 | AL16: 37526.44 | AM16: 104608.06 | AN16: 313368.13 | AO16: 15632 | AP16: 181160 | AQ16: 33582.77 | AR16: 42502.23 | AS16: 35264.96 | AT16: 60793.36 | AU16: 78380.92
... A82: 919 | B82: Võru | C82: Võru linn | D82: 53071.41 | E82: 7911.56 | F82: 14154.55 | G82: 18190.22 | H82: 10885.97 | I82: -2092.59 | J82: 25252.91 | K82: -2213.01 | L82: 4876.07 | M82: 12324.47 | N82: 13721.13 | O82: 135253.12 | P82: 114179.78 | Q82: 13182.37 | R82: 10362.69 | S82: 10944.17 | T82: 3991.83 | U82: 19467.31 | V82: 9285.34 | W82: 46914.56 | X82: 27954.45 | Y82: 9537.88 | Z82: 9712.55 | AA82: 21225.32 | AB82: 13799 | AC82: 22535.74 | AD82: 11969.43 | AE82: 7278.86 | AF82: 10814.65 | AG82: 8064.15 | AH82: 9531.63 | AI82: 15239.66 | AJ82: 20881.69 | AK82: 8232 | AL82: 50168.42 | AM82: 42396.28 | AN82: 21724.49 | AO82: 8554 | AP82: 30499 | AQ82: 12497.42 | AR82: 24854.89 | AS82: 54950.2 | AT82: 8660.94 | AU82: 18792.01
C83: Aadressita | D83: 1469694.6 | E83: 54276.66 | F83: 76129.22 | G83: 100649.3 | H83: 106250.84 | I83: 81877.21 | J83: 106000.72 | K83: 31276.99 | L83: 115590.46 | M83: 194043.72 | N83: -212502.75 | O83: 217754.93 | P83: 274896.41 | Q83: 54688.36 | R83: 185773.67 | S83: 53091.41 | T83: 82170.03 | U83: 45216.11 | V83: 25743.49 | W83: 52181.37 | X83: 75106.57 | Y83: 53053.94 | Z83: 69907.52 | AA83: -35318.55 | AB83: -68321.58 | AC83: 14439.46 | AD83: 102980.33 | AE83: 47940.94 | AF83: 31641.13 | AG83: 35538.27 | AH83: 19203.77 | AI83: 97179.22 | AJ83: 58343.39 | AK83: 67933 | AL83: 75855.56 | AM83: 82646.06 | AN83: 38598.86 | AO83: 7402 | AP83: 334351 | AQ83: 82583.85 | AR83: -1654.25 | AS83: 409217.13 | AT83: 14205.73 | AU83: 67707.87
C84: KOKKU | D84: =SUM(D5:D83) -> 9882229.1 | E84: =SUM(E5:E83) -> 1687828 | F84: =SUM(F5:F83) -> 2483876 | G84: =SUM(G5:G83) -> 2871862.1 | H84: =SUM(H5:H83) -> 3547058.4 | I84: =SUM(I5:I83) -> 2989813.2 | J84: =SUM(J5:J83) -> 3090598.1 | K84: =SUM(K5:K83) -> 2363293.5 | ... AY84: =SUM(AY5:AY83) -> 0

Sheet VMS algne
D1: 2023 | P1: 2024 | AB1: 2025 | AN1: 2026
A2: tusa_kood | B2: Maakond | C2: Omavalitsus | D2: 1 | E2: 2 | F2: 3 | G2: 4 | H2: 5 | I2: 6 | J2: 7 | K2: 8 | L2: 9 | M2: 10 | N2: 11 | O2: 12 | P2: 1 | Q2: 2 | R2: 3 | S2: 4 | T2: 5 | U2: 6 | V2: 7 | W2: 8 | X2: 9 | Y2: 10 | Z2: 11 | AA2: 12 | AB2: 1 | AC2: 2 | AD2: 3 | AE2: 4 | AF2: 5 | AG2: 6 | AH2: 7 | AI2: 8 | AJ2: 9 | AK2: 10 | AL2: 11 | AM2: 12 | AN2: 1 | AO2: 2 | AP2: 3 | AQ2: 4 | AR2: 5 | AS2: 6 | AT2: 7 | AU2: 8 | AV2: 9 | AW2: 10 | AX2: 11 | AY2: 12
A3: 141 | B3: Harju | C3: Anija vald | D3: 4812290.1 | E3: 4794065 | F3: 4768412.8 | G3: 5058848.2 | H3: 4862158.8 | I3: 5176044.3 | J3: 5176458.6 | K3: 4859666.7 | L3: 4875498.6 | M3: 4918343.1 | N3: 4983071.3 | O3: 5437390.1 | P3: 5063929.7 | Q3: 5046669.2 | R3: 5237760.2 | S3: 5291802.1 | T3: 5307770.9 | U3: 5589951.4 | V3: 5649531.3 | W3: 5296261.7 | X3: 5273077.2 | Y3: 5389465.4 | Z3: 5470007.8 | AA3: 6027172.1 | AB3: 5330622.7 | AC3: 5372225 | AD3: 5559168.4 | AE3: 5768923.3 | AF3: 5569191 | AG3: 5778489.5 | AH3: 6167460.4 | AI3: 5544843.2 | AJ3: 5649643 | AK3: 5752740.9 | AL3: 5744743 | AM3: 6133135.5 | AN3: 5848537.8 | AO3: 5730558.5 | AP3: 5930272.6 | AQ3: 6091027.4 | AR3: 5984516.9 | AS3: 6148783.4 | AT3: 6420389.8 | AU3: 5976743.9
A4: 198 | B4: Harju | C4: Harku vald | D4: 19771046 | E4: 19829938 | F4: 20461541 | G4: 21084102 | H4: 20377539 | I4: 21594912 | J4: 20861262 | K4: 20375990 | L4: 19967098 | M4: 20300430 | N4: 21103263 | O4: 22771040 | P4: 21733244 | Q4: 22186340 | R4: 23006494 | S4: 23444248 | T4: 22576206 | U4: 23301977 | V4: 23297090 | W4: 22353167 | X4: 22304232 | Y4: 22798386 | Z4: 23008766 | AA4: 26132568 | AB4: 22805432 | AC4: 24391053 | AD4: 24689834 | AE4: 25387158 | AF4: 24981466 | AG4: 24761223 | AH4: 24835627 | AI4: 24039030 | AJ4: 23887180 | AK4: 24302743 | AL4: 24606523 | AM4: 26944630 | AN4: 25598061 | AO4: 25669411 | AP4: 27091573 | AQ4: 27328347 | AR4: 26479285 | AS4: 27354396 | AT4: 27189918 | AU4: 26131694
A5: 245 | B5: Harju | C5: Jõelähtme vald | D5: 6959703.1 | E5: 6915091.7 | F5: 7213623.1 | G5: 7705900.3 | H5: 7402080.7 | I5: 7663547.4 | J5: 7604390 | K5: 7317044.7 | L5: 7194590.5 | M5: 7308095 | N5: 7495679.4 | O5: 8017843.8 | P5: 7758532 | Q5: 7808464.8 | R5: 7885369.1 | S5: 8057984.8 | T5: 8079879.2 | U5: 8285809.3 | V5: 8417329 | W5: 8117228.2 | X5: 7885454.6 | Y5: 8036275.6 | Z5: 8500061.2 | AA5: 9043061.9 | AB5: 8526068 | AC5: 8570597.6 | AD5: 8910185.7 | AE5: 9209174.9 | AF5: 8994838.1 | AG5: 9105300.6 | AH5: 9168281.2 | AI5: 8880025.5 | AJ5: 8726850.1 | AK5: 9012258.2 | AL5: 9052619.3 | AM5: 9678684.9 | AN5: 9789402.2 | AO5: 9469266.9 | AP5: 9843767 | AQ5: 10378509 | AR5: 9885062.5 | AS5: 10195059 | AT5: 10286876 | AU5: 9878735.9
A6: 296 | B6: Harju | C6: Keila linn | D6: 9480163.8 | E6: 9478152.5 | F6: 9661279.4 | G6: 10280712 | H6: 9837961.3 | I6: 10544500 | J6: 10144424 | K6: 10132039 | L6: 9773839.7 | M6: 10001976 | N6: 10065504 | O6: 11277188 | P6: 10096944 | Q6: 10163377 | R6: 10553937 | S6: 10927398 | T6: 10734845 | U6: 11280617 | V6: 10876296 | W6: 11008521 | X6: 10484160 | Y6: 10906872 | Z6: 11128725 | AA6: 12422119 | AB6: 10666984 | AC6: 11080613 | AD6: 11220545 | AE6: 11910480 | AF6: 11589249 | AG6: 11976720 | AH6: 11833568 | AI6: 11691510 | AJ6: 11378599 | AK6: 11760339 | AL6: 12130430 | AM6: 12812391 | AN6: 11782792 | AO6: 11937249 | AP6: 12053419 | AQ6: 12644862 | AR6: 12365618 | AS6: 12731558 | AT6: 12728028 | AU6: 12490570
A7: 305 | B7: Harju | C7: Kiili vald | D7: 7247693 | E7: 7322440 | F7: 7461409.2 | G7: 8000988.6 | H7: 7496588.8 | I7: 7832862.7 | J7: 7709010.4 | K7: 7425526.2 | L7: 7452602.4 | M7: 7508518 | N7: 7521450.9 | O7: 8520470.7 | P7: 8613004.5 | Q7: 8444296.9 | R7: 8836817.8 | S7: 9154760.3 | T7: 8858628.2 | U7: 9164542.2 | V7: 9010961.7 | W7: 8996380.3 | X7: 8733805.3 | Y7: 8919553.9 | Z7: 8991520.4 | AA7: 10128487 | AB7: 9446821.5 | AC7: 10105570 | AD7: 10260588 | AE7: 10496864 | AF7: 9797359.8 | AG7: 10404021 | AH7: 10229047 | AI7: 9880017 | AJ7: 9963568.5 | AK7: 9987003.6 | AL7: 9982515.2 | AM7: 10649676 | AN7: 11053978 | AO7: 11332372 | AP7: 11510153 | AQ7: 11790932 | AR7: 11257183 | AS7: 11796563 | AT7: 11475156 | AU7: 11374466
A8: 338 | B8: Harju | C8: Kose vald | D8: 6413707.9 | E8: 6461307.8 | F8: 6481949.9 | G8: 6887260.5 | H8: 6734061 | I8: 7104641.3 | J8: 6793295.5 | K8: 6691411.4 | L8: 6678054.8 | M8: 6804187.7 | N8: 6884866.6 | O8: 7481770.9 | P8: 7036684.2 | Q8: 7150295.2 | R8: 7149063.6 | S8: 7478219.2 | T8: 7492242.1 | U8: 7598249.6 | V8: 7507333.4 | W8: 7467257.9 | X8: 7329764 | Y8: 7437505.1 | Z8: 7580390.5 | AA8: 8345319.4 | AB8: 7385666.7 | AC8: 7718904.6 | AD8: 7571559.5 | AE8: 8082836.4 | AF8: 7795804.5 | AG8: 8060661.3 | AH8: 7875782.9 | AI8: 7868028.2 | AJ8: 7657874.2 | AK8: 7868152.8 | AL8: 7997095.6 | AM8: 8530236.1 | AN8: 8036756.5 | AO8: 8013113.7 | AP8: 8006501.5 | AQ8: 8394887.3 | AR8: 8358391 | AS8: 8530476 | AT8: 8459453.7 | AU8: 8504377.1
A9: 353 | B9: Harju | C9: Kuusalu vald | D9: 5389845 | E9: 5403853.6 | F9: 5583129.1 | G9: 5908598.7 | H9: 5494947.9 | I9: 6195654.9 | J9: 5725263 | K9: 5572885.4 | L9: 5559702.9 | M9: 5622542.2 | N9: 5730241.5 | O9: 6214819.8 | P9: 5694368.2 | Q9: 5648791.2 | R9: 5883720.9 | S9: 6257221.8 | T9: 5915060.4 | U9: 6368148.2 | V9: 6101042.3 | W9: 6000632 | X9: 5835879 | Y9: 6035771.4 | Z9: 6061686.9 | AA9: 6893310.9 | AB9: 5803592.8 | AC9: 5994053.5 | AD9: 6220695 | AE9: 6508299.2 | AF9: 6303318.1 | AG9: 6529862.6 | AH9: 6244965.7 | AI9: 6120014.4 | AJ9: 6229316.9 | AK9: 6268455.4 | AL9: 6251296 | AM9: 6926257.8 | AN9: 6281794.2 | AO9: 6169507.7 | AP9: 6665845.4 | AQ9: 6699143.8 | AR9: 6652356.7 | AS9: 6964250.9 | AT9: 6701223.5 | AU9: 6592080.6
A10: 424 | B10: Harju | C10: Loksa linn | D10: 1261532 | E10: 1299723.7 | F10: 1286340.7 | G10: 1346549.8 | H10: 1339135.2 | I10: 1528806.8 | J10: 1440223.4 | K10: 1335710.6 | L10: 1371195.1 | M10: 1393771.6 | N10: 1402413.9 | O10: 1566661.2 | P10: 1315651.8 | Q10: 1348044.1 | R10: 1364398.7 | S10: 1391749.9 | T10: 1419488.4 | U10: 1541705.3 | V10: 1457710 | W10: 1401884.5 | X10: 1369299.1 | Y10: 1391124.1 | Z10: 1495771.3 | AA10: 1524855.9 | AB10: 1401661.9 | AC10: 1409441.3 | AD10: 1372334.1 | AE10: 1456704 | AF10: 1525753.9 | AG10: 1536095.8 | AH10: 1520709.2 | AI10: 1496976.6 | AJ10: 1480753.1 | AK10: 1495028.3 | AL10: 1510835 | AM10: 1580082.9 | AN10: 1464764.1 | AO10: 1441287.7 | AP10: 1498631.9 | AQ10: 1530104.7 | AR10: 1549329.9 | AS10: 1609364.9 | AT10: 1600812.2 | AU10: 1508108.7
A11: 431 | B11: Harju | C11: Lääne-Harju vald | D11: 10483715 | E11: 10476296 | F11: 11030879 | G11: 11658585 | H11: 10994945 | I11: 11550306 | J11: 11082839 | K11: 10907994 | L11: 10720541 | M11: 10855329 | N11: 11073621 | O11: 12036030 | P11: 11209372 | Q11: 11456628 | R11: 11479344 | S11: 11983462 | T11: 12083678 | U11: 12328031 | V11: 12226099 | W11: 11866513 | X11: 11572650 | Y11: 11870167 | Z11: 12033684 | AA11: 13315711 | AB11: 11867453 | AC11: 12191463 | AD11: 12339476 | AE11: 13004597 | AF11: 12855749 | AG11: 13258610 | AH11: 12865654 | AI11: 12758920 | AJ11: 12436245 | AK11: 12742333 | AL11: 12802299 | AM11: 13857039 | AN11: 13161681 | AO11: 13228608 | AP11: 13429187 | AQ11: 14069583 | AR11: 13821383 | AS11: 14387642 | AT11: 14041338 | AU11: 13857120
A12: 446 | B12: Harju | C12: Maardu linn | D12: 11115269 | E12: 10854346 | F12: 10895240 | G12: 11804086 | H12: 11409026 | I12: 12315134 | J12: 11832822 | K12: 11382730 | L12: 11354067 | M12: 11408200 | N12: 11499110 | O12: 12530899 | P12: 11686501 | Q12: 11822026 | R12: 11886199 | S12: 12397396 | T12: 12221091 | U12: 13228180 | V12: 12448730 | W12: 12213215 | X12: 12022999 | Y12: 12311653 | Z12: 12526791 | AA12: 13465663 | AB12: 12209705 | AC12: 12207229 | AD12: 12482323 | AE12: 12995181 | AF12: 12787249 | AG12: 13533627 | AH12: 13144187 | AI12: 12680875 | AJ12: 12558615 | AK12: 12906601 | AL12: 13009540 | AM12: 13763872 | AN12: 13074186 | AO12: 12712816 | AP12: 12955756 | AQ12: 13665616 | AR12: 13407868 | AS12: 14173314 | AT12: 13898661 | AU12: 13418099
A13: 651 | B13: Harju | C13: Raasiku vald | D13: 5013741 | E13: 4935787.1 | F13: 5067856.6 | G13: 5308877.7 | H13: 5036922.9 | I13: 5498514.8 | J13: 5432212.1 | K13: 5247312.6 | L13: 5117953.2 | M13: 5179014.3 | N13: 5322513.5 | O13: 5753631.8 | P13: 5297810 | Q13: 5325462 | R13: 5456615.1 | S13: 5546206.4 | T13: 5584238 | U13: 5789195.6 | V13: 5777819.7 | W13: 5624540.9 | X13: 5580049.9 | Y13: 5553360.5 | Z13: 5954333.8 | AA13: 6331382.5 | AB13: 5537787 | AC13: 5797230.1 | AD13: 5871186.6 | AE13: 6188545.1 | AF13: 5768792.3 | AG13: 6086965.5 | AH13: 6156095.3 | AI13: 5926219.2 | AJ13: 5787514 | AK13: 5966348.3 | AL13: 6018981.7 | AM13: 6481633.8 | AN13: 6212893.7 | AO13: 6219185.7 | AP13: 6283362.7 | AQ13: 6562817.3 | AR13: 6350736.3 | AS13: 6632855.8 | AT13: 6615761.3 | AU13: 6373656.6
A14: 653 | B14: Harju | C14: Rae vald | D14: 27873841 | E14: 27834433 | F14: 29044025 | G14: 30290938 | H14: 28679596 | I14: 29620924 | J14: 29351235 | K14: 28685748 | L14: 28388946 | M14: 28623908 | N14: 29207928 | O14: 31674340 | P14: 30891697 | Q14: 30505175 | R14: 31738876 | S14: 32878098 | T14: 31191660 | U14: 32256618 | V14: 31981418 | W14: 31429152 | X14: 30942872 | Y14: 31551137 | Z14: 31845075 | AA14: 35907610 | AB14: 31894961 | AC14: 33471778 | AD14: 33967593 | AE14: 35920427 | AF14: 33652658 | AG14: 34477472 | AH14: 34423293 | AI14: 33788130 | AJ14: 33173732 | AK14: 33703427 | AL14: 34370715 | AM14: 36497512 | AN14: 35738792 | AO14: 35489268 | AP14: 38011235 | AQ14: 38444473 | AR14: 36278832 | AS14: 37644574 | AT14: 37194121 | AU14: 36400984
... A80: 919 | B80: Võru | C80: Võru linn | D80: 6783735.7 | E80: 6792269.5 | F80: 6820631.8 | G80: 7284055 | H80: 7162883.5 | I80: 7865139.6 | J80: 7305807.6 | K80: 7168134.6 | L80: 7246057.6 | M80: 7396820.3 | N80: 7509989.9 | O80: 8121516.9 | P80: 7203426.7 | Q80: 7238291.6 | R80: 7377641 | S80: 7664712.7 | T80: 7687404.6 | U80: 8394071.1 | V80: 7403124.9 | W80: 7619470.8 | X80: 7684592.4 | Y80: 7889277.5 | Z80: 8081191.7 | AA80: 8859349.4 | AB80: 7653292.2 | AC80: 7797781.9 | AD80: 7704064.9 | AE80: 8073903.4 | AF80: 8211767.6 | AG80: 8666101.9 | AH80: 8273761 | AI80: 7964383 | AJ80: 8116028.7 | AK80: 8267775.4 | AL80: 8365128.9 | AM80: 8994871.1 | AN80: 8100764.6 | AO80: 8066565.7 | AP80: 8052539.8 | AQ80: 8630092.5 | AR80: 8655069.3 | AS80: 9153028.2 | AT80: 8860912.7 | AU80: 8456427.7
A81: (blank) | C81: Aadressita | D81: 3388394.1 | E81: 4546644.7 | F81: 5385430.8 | G81: 6204066.7 | H81: 6876566 | I81: 7822861.1 | J81: 8111932.8 | K81: 8270529 | L81: 9107238.9 | M81: 9223553 | N81: 9690413.9 | O81: 10666740 | P81: 1632311.1 | Q81: 2087803.7 | R81: 2827908 | S81: 3170598.1 | T81: 3480707.3 | U81: 4057889.2 | V81: 4431573.1 | W81: 4748157.6 | X81: 5125042.6 | Y81: 5686438.8 | Z81: 6289379.2 | AA81: 7068109.5 | AB81: 1052933.9 | AC81: 1631353 | AD81: 2164701.7 | AE81: 2323700.1 | AF81: 2639564.8 | AG81: 3285405.3 | AH81: 3478164.1 | AI81: 3899194.7 | AJ81: 4303592.9 | AK81: 4776589.7 | AL81: 5352295.3 | AM81: 6153986 | AN81: 1087309 | AO81: 1695836.4 | AP81: 2103564.8 | AQ81: 2598179.1 | AR81: 2885034 | AS81: 3283833.2 | AT81: 3879451.9 | AU81: 4216637.1
A82: 999 | C82: KOKKU | D82: =SUM(D3:D81) -> 1.0853865e+09 | E82: =SUM(E3:E81) -> 1.0930748e+09 | F82: =SUM(F3:F81) -> 1.1147673e+09 | G82: =SUM(G3:G81) -> 1.1831833e+09 | H82: =SUM(H3:H81) -> 1.1392508e+09 | I82: =SUM(I3:I81) -> 1.2156728e+09 | J82: =SUM(J3:J81) -> 1.1735123e+09 | K82: =SUM(K3:K81) -> 1.1352174e+09 | ... AU82: =SUM(AU3:AU81) -> 1.3642298e+09
C84: 1 | D84: 2 | E84: 3 | F84: 4 | G84: 5 | H84: 6 | I84: 7 | J84: 8 | K84: 9 | L84: 10 | M84: 11 | N84: 12 | O84: 13 | P84: 14 | Q84: 15 | R84: 16 | S84: 17 | T84: 18 | U84: 19 | V84: 20 | W84: 21 | X84: 22 | Y84: 23 | Z84: 24 | AA84: 25 | AB84: 26 | AC84: 27 | AD84: 28 | AE84: 29 | AF84: 30 | AG84: 31 | AH84: 32 | AI84: 33 | AJ84: 34 | AK84: 35 | AL84: 36 | AM84: 37 | AN84: 38 | AO84: 39 | AP84: 40 | AQ84: 41 | AR84: 42 | AS84: 43 | AT84: 44 | AU84: 45 | AV84: 46 | AW84: 47 | AX84: 48 | AY84: 49
C86: Aadressita isikute tulumaks | D86: =ROUND(D81*0.1189,-3) -> 403000 | E86: =ROUND(E81*0.1189,-3) -> 541000 | F86: =ROUND(F81*0.1189,-3) -> 640000 | G86: =ROUND(G81*0.1189,-3) -> 738000 | H86: =ROUND(H81*0.1189,-3) -> 818000 | I86: =ROUND(I81*0.1189,-3) -> 930000 | J86: =ROUND(J81*0.1189,-3) -> 965000 | K86: =ROUND(K81*0.1189,-3) -> 983000 | ... AA86: =ROUND(AA81*0.1189,-3) -> 840000 | AB86: =ROUND(AB81*0.1129,-3) -> 119000 | AC86: =ROUND(AC81*0.1129,-3) -> 184000 | AD86: =ROUND(AD81*0.1129,-3) -> 244000 | AE86: =ROUND(AE81*0.1129,-3) -> 262000 | AF86: =ROUND(AF81*0.1129,-3) -> 298000 | AG86: =ROUND(AG81*0.1129,-3) -> 371000 | AH86: =ROUND(AH81*0.1129,-3) -> 393000 | AI86: =ROUND(AI81*0.1129,-3) -> 440000 | ... AM86: =ROUND(AM81*0.1129,-3) -> 695000 | AN86: =ROUND(AN81*0.1064,-3) -> 116000 | AO86: =ROUND(AO81*0.1064,-3) -> 180000 | AP86: =ROUND(AP81*0.1064,-3) -> 224000 | AQ86: =ROUND(AQ81*0.1064,-3) -> 276000 | AR86: =ROUND(AR81*0.1064,-3) -> 307000 | AS86: =ROUND(AS81*0.1064,-3) -> 349000 | AT86: =ROUND(AT81*0.1064,-3) -> 413000 | AU86: =ROUND(AU81*0.1064,-3) -> 449000

Sheet MM
A1: Maakond | B1: Kohalik omavalitsus | C1: 2023 | O1: 2024 | AA1: 2025 | AM1: 2026
C3: 1 | D3: 2 | E3: 3 | F3: 4 | G3: 5 | H3: 6 | I3: 7 | J3: 8 | K3: 9 | L3: 10 | M3: 11 | N3: 12 | O3: 1 | P3: 2 | Q3: 3 | R3: 4 | S3: 5 | T3: 6 | U3: 7 | V3: 8 | W3: 9 | X3: 10 | Y3: 11 | Z3: 12 | AA3: 1 | AB3: 2 | AC3: 3 | AD3: 4 | AE3: 5 | AF3: 6 | AG3: 7 | AH3: 8 | AI3: 9 | AJ3: 10 | AK3: 11 | AL3: 12 | AM3: 1 | AN3: 2 | AO3: 3 | AP3: 4 | AQ3: 5 | AR3: 6 | AS3: 7 | AT3: 8 | AU3: 9 | AV3: 10 | AW3: 11 | AX3: 12
A4: Harju | B4: Anija vald | C4: 3015 | D4: 3024 | E4: 3045 | F4: 3019 | G4: 3028 | H4: 3029 | I4: 3028 | J4: 3056 | K4: 3037 | L4: 3020 | M4: 2989 | N4: 3015 | O4: 3003 | P4: 3004 | Q4: 3014 | R4: 3023 | S4: 3018 | T4: 3032 | U4: 3041 | V4: 3069 | W4: 3050 | X4: 3021 | Y4: 3035 | Z4: 3030 | AA4: 2954 | AB4: 2984 | AC4: 3016 | AD4: 2999 | AE4: 2982 | AF4: 3015 | AG4: 3015 | AH4: 3024 | AI4: 3022 | AJ4: 3017 | AK4: 3026 | AL4: 3045 | AM4: 3003 | AN4: 3031 | AO4: 3048 | AP4: 3028 | AQ4: 3034 | AR4: 3068 | AS4: 3052 | AT4: 3080
A5: Harju | B5: Harku vald | C5: 8792 | D5: 8799 | E5: 8839 | F5: 8841 | G5: 8852 | H5: 8896 | I5: 8926 | J5: 8974 | K5: 8912 | L5: 8822 | M5: 8796 | N5: 8856 | O5: 9001 | P5: 9034 | Q5: 9002 | R5: 9054 | S5: 9065 | T5: 9128 | U5: 9180 | V5: 9197 | W5: 9238 | X5: 9134 | Y5: 9117 | Z5: 9123 | AA5: 9039 | AB5: 9250 | AC5: 9232 | AD5: 9266 | AE5: 9272 | AF5: 9325 | AG5: 9367 | AH5: 9379 | AI5: 9359 | AJ5: 9334 | AK5: 9316 | AL5: 9360 | AM5: 9440 | AN5: 9495 | AO5: 9537 | AP5: 9573 | AQ5: 9593 | AR5: 9701 | AS5: 9748 | AT5: 9779
A6: Harju | B6: Jõelähtme vald | C6: 3720 | D6: 3726 | E6: 3734 | F6: 3735 | G6: 3742 | H6: 3864 | I6: 3765 | J6: 3753 | K6: 3725 | L6: 3724 | M6: 3703 | N6: 3725 | O6: 3826 | P6: 3810 | Q6: 3801 | R6: 3824 | S6: 3828 | T6: 3921 | U6: 3873 | V6: 3836 | W6: 3848 | X6: 3824 | Y6: 3836 | Z6: 3841 | AA6: 3894 | AB6: 3946 | AC6: 3953 | AD6: 3951 | AE6: 3974 | AF6: 4069 | AG6: 4012 | AH6: 3975 | AI6: 3977 | AJ6: 3977 | AK6: 3964 | AL6: 4005 | AM6: 4120 | AN6: 4125 | AO6: 4154 | AP6: 4178 | AQ6: 4178 | AR6: 4291 | AS6: 4209 | AT6: 4163
A7: Harju | B7: Keila linn | C7: 5187 | D7: 5157 | E7: 5155 | F7: 5163 | G7: 5168 | H7: 5192 | I7: 5204 | J7: 5252 | K7: 5178 | L7: 5151 | M7: 5133 | N7: 5165 | O7: 5140 | P7: 5131 | Q7: 5136 | R7: 5153 | S7: 5155 | T7: 5195 | U7: 5200 | V7: 5260 | W7: 5190 | X7: 5212 | Y7: 5167 | Z7: 5193 | AA7: 5178 | AB7: 5214 | AC7: 5207 | AD7: 5223 | AE7: 5234 | AF7: 5342 | AG7: 5360 | AH7: 5281 | AI7: 5290 | AJ7: 5272 | AK7: 5263 | AL7: 5279 | AM7: 5221 | AN7: 5247 | AO7: 5292 | AP7: 5293 | AQ7: 5283 | AR7: 5328 | AS7: 5362 | AT7: 5345
A8: Harju | B8: Kiili vald | C8: 3265 | D8: 3266 | E8: 3264 | F8: 3261 | G8: 3266 | H8: 3309 | I8: 3280 | J8: 3310 | K8: 3293 | L8: 3282 | M8: 3293 | N8: 3301 | O8: 3500 | P8: 3527 | Q8: 3522 | R8: 3526 | S8: 3535 | T8: 3589 | U8: 3576 | V8: 3612 | W8: 3601 | X8: 3569 | Y8: 3558 | Z8: 3581 | AA8: 3669 | AB8: 3730 | AC8: 3718 | AD8: 3737 | AE8: 3743 | AF8: 3837 | AG8: 3827 | AH8: 3866 | AI8: 3813 | AJ8: 3742 | AK8: 3751 | AL8: 3774 | AM8: 3938 | AN8: 3970 | AO8: 3982 | AP8: 4015 | AQ8: 4025 | AR8: 4071 | AS8: 4088 | AT8: 4047
A9: Harju | B9: Kose vald | C9: 3690 | D9: 3734 | E9: 3709 | F9: 3727 | G9: 3742 | H9: 3767 | I9: 3747 | J9: 3752 | K9: 3791 | L9: 3774 | M9: 3752 | N9: 3812 | O9: 3775 | P9: 3797 | Q9: 3793 | R9: 3821 | S9: 3833 | T9: 3789 | U9: 3818 | V9: 3834 | W9: 3833 | X9: 3840 | Y9: 3833 | Z9: 3903 | AA9: 3724 | AB9: 3757 | AC9: 3764 | AD9: 3794 | AE9: 3791 | AF9: 3801 | AG9: 3818 | AH9: 3817 | AI9: 3801 | AJ9: 3799 | AK9: 3778 | AL9: 3842 | AM9: 3741 | AN9: 3776 | AO9: 3775 | AP9: 3806 | AQ9: 3830 | AR9: 3832 | AS9: 3880 | AT9: 3850
A10: Harju | B10: Kuusalu vald | C10: 3050 | D10: 3072 | E10: 3040 | F10: 3031 | G10: 3027 | H10: 3063 | I10: 3074 | J10: 3064 | K10: 3084 | L10: 3031 | M10: 3031 | N10: 3068 | O10: 3000 | P10: 3011 | Q10: 2993 | R10: 3017 | S10: 3042 | T10: 3035 | U10: 3095 | V10: 3025 | W10: 3061 | X10: 3045 | Y10: 3009 | Z10: 3070 | AA10: 2937 | AB10: 2965 | AC10: 2955 | AD10: 2964 | AE10: 2971 | AF10: 2994 | AG10: 3030 | AH10: 3010 | AI10: 3028 | AJ10: 2997 | AK10: 2979 | AL10: 3063 | AM10: 2954 | AN10: 2953 | AO10: 2957 | AP10: 2968 | AQ10: 2989 | AR10: 3020 | AS10: 3031 | AT10: 2986
A11: Harju | B11: Loksa linn | C11: 1007 | D11: 986 | E11: 1009 | F11: 980 | G11: 987 | H11: 1003 | I11: 1030 | J11: 1000 | K11: 1013 | L11: 1003 | M11: 1021 | N11: 1023 | O11: 993 | P11: 984 | Q11: 986 | R11: 993 | S11: 983 | T11: 985 | U11: 993 | V11: 957 | W11: 969 | X11: 985 | Y11: 970 | Z11: 976 | AA11: 966 | AB11: 953 | AC11: 952 | AD11: 969 | AE11: 972 | AF11: 978 | AG11: 991 | AH11: 981 | AI11: 978 | AJ11: 980 | AK11: 975 | AL11: 979 | AM11: 961 | AN11: 949 | AO11: 960 | AP11: 979 | AQ11: 965 | AR11: 963 | AS11: 980 | AT11: 985
A12: Harju | B12: Lääne-Harju vald | C12: 6515 | D12: 6492 | E12: 6501 | F12: 6499 | G12: 6528 | H12: 6573 | I12: 6591 | J12: 6474 | K12: 6487 | L12: 6441 | M12: 6419 | N12: 6418 | O12: 6507 | P12: 6469 | Q12: 6471 | R12: 6513 | S12: 6531 | T12: 6561 | U12: 6674 | V12: 6560 | W12: 6576 | X12: 6518 | Y12: 6496 | Z12: 6537 | AA12: 6405 | AB12: 6460 | AC12: 6438 | AD12: 6535 | AE12: 6538 | AF12: 6591 | AG12: 6672 | AH12: 6577 | AI12: 6609 | AJ12: 6613 | AK12: 6556 | AL12: 6616 | AM12: 6635 | AN12: 6659 | AO12: 6659 | AP12: 6656 | AQ12: 6692 | AR12: 6768 | AS12: 6886 | AT12: 6719
A13: Harju | B13: Maardu linn | C13: 7689 | D13: 7670 | E13: 7703 | F13: 7705 | G13: 7714 | H13: 7717 | I13: 7908 | J13: 7648 | K13: 7626 | L13: 7627 | M13: 7571 | N13: 7616 | O13: 7745 | P13: 7764 | Q13: 7734 | R13: 7747 | S13: 7745 | T13: 7913 | U13: 7791 | V13: 7698 | W13: 7708 | X13: 7731 | Y13: 7698 | Z13: 7714 | AA13: 7543 | AB13: 7570 | AC13: 7576 | AD13: 7636 | AE13: 7685 | AF13: 7780 | AG13: 7755 | AH13: 7630 | AI13: 7569 | AJ13: 7606 | AK13: 7623 | AL13: 7614 | AM13: 7607 | AN13: 7591 | AO13: 7614 | AP13: 7655 | AQ13: 7688 | AR13: 7834 | AS13: 7791 | AT13: 7683
A14: Harju | B14: Raasiku vald | C14: 2662 | D14: 2658 | E14: 2656 | F14: 2638 | G14: 2640 | H14: 2674 | I14: 2715 | J14: 2653 | K14: 2656 | L14: 2667 | M14: 2647 | N14: 2664 | O14: 2637 | P14: 2647 | Q14: 2652 | R14: 2669 | S14: 2681 | T14: 2687 | U14: 2704 | V14: 2714 | W14: 2679 | X14: 2678 | Y14: 2677 | Z14: 2691 | AA14: 2637 | AB14: 2659 | AC14: 2663 | AD14: 2672 | AE14: 2680 | AF14: 2720 | AG14: 2717 | AH14: 2701 | AI14: 2724 | AJ14: 2717 | AK14: 2711 | AL14: 2745 | AM14: 2710 | AN14: 2705 | AO14: 2719 | AP14: 2725 | AQ14: 2707 | AR14: 2781 | AS14: 2797 | AT14: 2741
A15: Harju | B15: Rae vald | C15: 11594 | D15: 11580 | E15: 11621 | F15: 11616 | G15: 11691 | H15: 11788 | I15: 11926 | J15: 11907 | K15: 11744 | L15: 11720 | M15: 11708 | N15: 11669 | O15: 11818 | P15: 11796 | Q15: 11796 | R15: 11835 | S15: 11877 | T15: 12000 | U15: 12174 | V15: 12121 | W15: 12007 | X15: 11960 | Y15: 11963 | Z15: 12000 | AA15: 11840 | AB15: 12044 | AC15: 12087 | AD15: 12103 | AE15: 12173 | AF15: 12335 | AG15: 12327 | AH15: 12458 | AI15: 12244 | AJ15: 12190 | AK15: 12177 | AL15: 12247 | AM15: 12308 | AN15: 12366 | AO15: 12386 | AP15: 12436 | AQ15: 12461 | AR15: 12735 | AS15: 12671 | AT15: 12764
... A81: Võru | B81: Võru vald | C81: 4555 | D81: 4594 | E81: 4558 | F81: 4591 | G81: 4626 | H81: 4645 | I81: 4586 | J81: 4718 | K81: 4664 | L81: 4674 | M81: 4581 | N81: 4764 | O81: 4537 | P81: 4525 | Q81: 4516 | R81: 4528 | S81: 4545 | T81: 4603 | U81: 4542 | V81: 4633 | W81: 4628 | X81: 4616 | Y81: 4590 | Z81: 4760 | AA81: 4483 | AB81: 4490 | AC81: 4541 | AD81: 4566 | AE81: 4611 | AF81: 4623 | AG81: 4614 | AH81: 4630 | AI81: 4636 | AJ81: 4597 | AK81: 4608 | AL81: 4763 | AM81: 4498 | AN81: 4533 | AO81: 4587 | AP81: 4586 | AQ81: 4617 | AR81: 4672 | AS81: 4659 | AT81: 4620
B82: Aadressita | C82: 3881 | D82: 3962 | E82: 4358 | F82: 4675 | G82: 5118 | H82: 5544 | I82: 5869 | J82: 5983 | K82: 6260 | L82: 6508 | M82: 6759 | N82: 6943 | O82: 2335 | P82: 2010 | Q82: 2114 | R82: 2258 | S82: 2498 | T82: 2689 | U82: 2981 | V82: 3138 | W82: 3345 | X82: 3605 | Y82: 3828 | Z82: 4160 | AA82: 2024 | AB82: 1610 | AC82: 1601 | AD82: 1735 | AE82: 1899 | AF82: 2107 | AG82: 2261 | AH82: 2444 | AI82: 2661 | AJ82: 2960 | AK82: 3218 | AL82: 3619 | AM82: 1929 | AN82: 1516 | AO82: 1608 | AP82: 1750 | AQ82: 1962 | AR82: 2181 | AS82: 2364 | AT82: 2533
B83: KOKKU | C83: =SUM(C4:C82) -> 637855 | D83: =SUM(D4:D82) -> 638830 | E83: =SUM(E4:E82) -> 641156 | F83: =SUM(F4:F82) -> 640755 | G83: =SUM(G4:G82) -> 643871 | H83: =SUM(H4:H82) -> 648060 | I83: =SUM(I4:I82) -> 647491 | J83: =SUM(J4:J82) -> 647397 | ... AX83: =SUM(AX4:AX82) -> 0
B85: 1 | C85: 2 | D85: 3 | E85: 4 | F85: 5 | G85: 6 | H85: 7 | I85: 8 | J85: 9 | K85: 10 | L85: 11 | M85: 12 | N85: 13 | O85: 14 | P85: 15 | Q85: 16 | R85: 17 | S85: 18 | T85: 19 | U85: 20 | V85: 21 | W85: 22 | X85: 23 | Y85: 24 | Z85: 25 | AA85: 26 | AB85: 27 | AC85: 28 | AD85: 29 | AE85: 30 | AF85: 31 | AG85: 32 | AH85: 33 | AI85: 34 | AJ85: 35 | AK85: 36 | AL85: 37 | AM85: 38 | AN85: 39 | AO85: 40 | AP85: 41 | AQ85: 42 | AR85: 43 | AS85: 44 | AT85: 45 | AU85: 46 | AV85: 47 | AW85: 48 | AX85: 49

Sheet Pension2023
A1: 1 | B1: 2 | C1: 3 | D1: 4 | E1: 5 | F1: 6 | G1: 7 | H1: 8 | I1: 9 | J1: 10 | K1: 11 | L1: 12 | M1: 13 | N1: 14 | O1: 15 | P1: 16 | Q1: 17 | R1: 18 | S1: 19 | T1: 20 | U1: 21 | V1: 22 | W1: 23 | X1: 24 | Y1: 25 | Z1: 26 | AA1: 27 | AB1: 28 | AC1: 29 | AD1: 30 | AE1: 31 | AF1: 32 | AG1: 33 | AH1: 34 | AI1: 35 | AJ1: 36 | AK1: 37
B4: Pensionitulu | N4: Pensionisaajate arv | Z4: Keskmine pension
A5: Omavalitsus | B5: 1 | C5: 2 | D5: 3 | E5: 4 | F5: 5 | G5: 6 | H5: 7 | I5: 8 | J5: 9 | K5: 10 | L5: 11 | M5: 12 | N5: 1 | O5: 2 | P5: 3 | Q5: 4 | R5: 5 | S5: 6 | T5: 7 | U5: 8 | V5: 9 | W5: 10 | X5: 11 | Y5: 12 | Z5: 1 | AA5: 2 | AB5: 3 | AC5: 4 | AD5: 5 | AE5: 6 | AF5: 7 | AG5: 8 | AH5: 9 | AI5: 10 | AJ5: 11 | AK5: 12
A6: Alutaguse vald | B6: 810415.66 | C6: 809777.39 | D6: 811327.57 | E6: 921002.22 | F6: 922492.49 | G6: 925908.16 | H6: 924878.4 | I6: 931187.26 | J6: 932285.54 | K6: 932331.6 | L6: 932379.14 | M6: 934444.66 | N6: 1320 | O6: 1318 | P6: 1322 | Q6: 1317 | R6: 1318 | S6: 1322 | T6: 1321 | U6: 1328 | V6: 1332 | W6: 1334 | X6: 1333 | Y6: 1334 | Z6: 613.95126 | AA6: 614.39863 | AB6: 613.71223 | AC6: 699.31831 | AD6: 699.91843 | AE6: 700.38439 | AF6: 700.13505 | AG6: 701.19523 | AH6: 699.91407 | AI6: 698.89925 | AJ6: 699.45922 | AK6: 700.48325
A7: Anija vald | B7: 970835.29 | C7: 972776.31 | D7: 980536.67 | E7: 1110800.7 | F7: 1107805 | G7: 1105663.5 | H7: 1102797.1 | I7: 1109443.1 | J7: 1106343.9 | K7: 1102495.9 | L7: 1104027.2 | M7: 1108427.9 | N7: 1554 | O7: 1559 | P7: 1569 | Q7: 1564 | R7: 1563 | S7: 1560 | T7: 1554 | U7: 1555 | V7: 1556 | W7: 1550 | X7: 1554 | Y7: 1556 | Z7: 624.73313 | AA7: 623.97454 | AB7: 624.9437 | AC7: 710.23065 | AD7: 708.76842 | AE7: 708.75865 | AF7: 709.65067 | AG7: 713.4682 | AH7: 711.0179 | AI7: 711.28768 | AJ7: 710.44222 | AK7: 712.35729
A8: Antsla vald | B8: 685938.29 | C8: 685958.59 | D8: 686327.74 | E8: 784703.5 | F8: 780302.77 | G8: 778664.08 | H8: 776433.27 | I8: 779052.33 | J8: 780099.4 | K8: 783515.04 | L8: 784877.92 | M8: 782872.48 | N8: 1135 | O8: 1135 | P8: 1137 | Q8: 1140 | R8: 1133 | S8: 1129 | T8: 1126 | U8: 1132 | V8: 1134 | W8: 1138 | X8: 1140 | Y8: 1137 | Z8: 604.35092 | AA8: 604.3688 | AB8: 603.63038 | AC8: 688.3364 | AD8: 688.705 | AE8: 689.6936 | AF8: 689.54997 | AG8: 688.20877 | AH8: 687.91834 | AI8: 688.50179 | AJ8: 688.4894 | AK8: 688.5422
A9: Elva vald | B9: 2187556.8 | C9: 2182043.1 | D9: 2193826.1 | E9: 2496156.6 | F9: 2487464.5 | G9: 2479021.5 | H9: 2473379.9 | I9: 2472278.3 | J9: 2486751.9 | K9: 2491160.3 | L9: 2490513.1 | M9: 2486336.3 | N9: 3555 | O9: 3554 | P9: 3568 | Q9: 3561 | R9: 3551 | S9: 3539 | T9: 3529 | U9: 3524 | V9: 3542 | W9: 3545 | X9: 3542 | Y9: 3537 | Z9: 615.3465 | AA9: 613.96824 | AB9: 614.86157 | AC9: 700.97068 | AD9: 700.49692 | AE9: 700.48643 | AF9: 700.87273 | AG9: 701.55458 | AH9: 702.07562 | AI9: 702.72504 | AJ9: 703.13753 | AK9: 702.9506
A10: Haapsalu linn | B10: 2342570.5 | C10: 2343020.8 | D10: 2343307 | E10: 2666146.8 | F10: 2668838.2 | G10: 2663000.1 | H10: 2658817.2 | I10: 2664367.1 | J10: 2666692.1 | K10: 2666078.9 | L10: 2652074.6 | M10: 2648577.5 | N10: 3701 | O10: 3702 | P10: 3699 | Q10: 3693 | R10: 3696 | S10: 3686 | T10: 3681 | U10: 3693 | V10: 3697 | W10: 3696 | X10: 3676 | Y10: 3667 | Z10: 632.9561 | AA10: 632.90676 | AB10: 633.49743 | AC10: 721.94606 | AD10: 722.08825 | AE10: 722.4634 | AF10: 722.3084 | AG10: 721.46414 | AH10: 721.31246 | AI10: 721.3417 | AJ10: 721.45665 | AK10: 722.27366
A11: Haljala vald | B11: 725154.77 | C11: 726142.86 | D11: 729852.28 | E11: 828724.87 | F11: 830938.49 | G11: 824314.7 | H11: 827849 | I11: 823770.13 | J11: 834563.72 | K11: 834548.99 | L11: 841853.87 | M11: 836344.57 | N11: 1160 | O11: 1155 | P11: 1161 | Q11: 1159 | R11: 1155 | S11: 1152 | T11: 1151 | U11: 1149 | V11: 1159 | W11: 1163 | X11: 1167 | Y11: 1165 | Z11: 625.13342 | AA11: 628.69512 | AB11: 628.64107 | AC11: 715.0344 | AD11: 719.42726 | AE11: 715.55095 | AF11: 719.24327 | AG11: 716.94528 | AH11: 720.07223 | AI11: 717.58297 | AJ11: 721.38292 | AK11: 717.89233
A12: Harku vald | B12: 1619611.4 | C12: 1619154.7 | D12: 1621623.6 | E12: 1851679.4 | F12: 1852212.5 | G12: 1859489.1 | H12: 1857479.4 | I12: 1866394.9 | J12: 1882421.1 | K12: 1881883.3 | L12: 1887777 | M12: 1889274.6 | N12: 2352 | O12: 2354 | P12: 2361 | Q12: 2363 | R12: 2363 | S12: 2363 | T12: 2357 | U12: 2370 | V12: 2379 | W12: 2384 | X12: 2389 | Y12: 2390 | Z12: 688.61027 | AA12: 687.83124 | AB12: 686.8376 | AC12: 783.61378 | AD12: 783.83939 | AE12: 786.91879 | AF12: 788.06932 | AG12: 787.50841 | AH12: 791.26568 | AI12: 789.38057 | AJ12: 790.19548 | AK12: 790.49146
A13: Hiiumaa vald | B13: 1681360.1 | C13: 1682413.3 | D13: 1691249.3 | E13: 1919826.2 | F13: 1921027.4 | G13: 1918540.3 | H13: 1912859.9 | I13: 1918556.1 | J13: 1922088.5 | K13: 1928226.9 | L13: 1935022.3 | M13: 1933050 | N13: 2605 | O13: 2610 | P13: 2614 | Q13: 2619 | R13: 2618 | S13: 2614 | T13: 2600 | U13: 2612 | V13: 2611 | W13: 2621 | X13: 2625 | Y13: 2620 | Z13: 645.43572 | AA13: 644.60279 | AB13: 646.99669 | AC13: 733.03787 | AD13: 733.77672 | AE13: 733.9481 | AF13: 735.71535 | AG13: 734.51611 | AH13: 736.15032 | AI13: 735.68368 | AJ13: 737.15136 | AK13: 737.80535
A14: Häädemeeste vald | B14: 707490.02 | C14: 709785.85 | D14: 710309.14 | E14: 808904.04 | F14: 810855.55 | G14: 807568.76 | H14: 809840.59 | I14: 809249.86 | J14: 813766.97 | K14: 818288.37 | L14: 819186.7 | M14: 817534.64 | N14: 1158 | O14: 1160 | P14: 1164 | Q14: 1164 | R14: 1158 | S14: 1157 | T14: 1161 | U14: 1163 | V14: 1167 | W14: 1172 | X14: 1175 | Y14: 1170 | Z14: 610.95857 | AA14: 611.88435 | AB14: 610.23122 | AC14: 694.93474 | AD14: 700.22068 | AE14: 697.9851 | AF14: 697.53711 | AG14: 695.82963 | AH14: 697.31531 | AI14: 698.19827 | AJ14: 697.18017 | AK14: 698.74756
A15: Jõelähtme vald | B15: 869821.57 | C15: 867550.04 | D15: 866215.62 | E15: 987240.43 | F15: 992999.78 | G15: 988754.74 | H15: 989592.59 | I15: 992714.46 | J15: 997682.07 | K15: 999265.72 | L15: 1001573.3 | M15: 1004405.2 | N15: 1306 | O15: 1298 | P15: 1303 | Q15: 1301 | R15: 1303 | S15: 1299 | T15: 1298 | U15: 1304 | V15: 1310 | W15: 1315 | X15: 1317 | Y15: 1319 | Z15: 666.01958 | AA15: 668.37445 | AB15: 664.78559 | AC15: 758.832 | AD15: 762.08732 | AE15: 761.16608 | AF15: 762.39799 | AG15: 761.2841 | AH15: 761.58937 | AI15: 759.89789 | AJ15: 760.49607 | AK15: 761.48995
A16: Jõgeva vald | B16: 2242903.1 | C16: 2235146.9 | D16: 2238224.1 | E16: 2547689.2 | F16: 2538987.8 | G16: 2537298 | H16: 2529652.5 | I16: 2536847 | J16: 2536521.1 | K16: 2536423.9 | L16: 2543182.5 | M16: 2535260.8 | N16: 3602 | O16: 3594 | P16: 3599 | Q16: 3594 | R16: 3583 | S16: 3581 | T16: 3571 | U16: 3572 | V16: 3575 | W16: 3580 | X16: 3593 | Y16: 3582 | Z16: 622.6827 | AA16: 621.91066 | AB16: 621.90166 | AC16: 708.8729 | AD16: 708.62066 | AE16: 708.54455 | AF16: 708.38772 | AG16: 710.20354 | AH16: 709.51639 | AI16: 708.49828 | AJ16: 707.8159 | AK16: 707.778
... A85: KOKKU | B85: 1.9396088e+08 | C85: 1.9374914e+08 | D85: 1.9405884e+08 | E85: 2.2088842e+08 | F85: 2.2037097e+08 | G85: 2.200582e+08 | H85: 2.1974402e+08 | I85: 2.2002353e+08 | J85: 2.2042999e+08 | K85: 2.2082992e+08 | L85: 2.2094221e+08 | M85: 2.2099467e+08 | N85: 309036 | O85: 308789 | P85: 309305 | Q85: 308868 | R85: 308279 | S85: 307800 | T85: 307111 | U85: 307502 | V85: 308073 | W85: 308712 | X85: 308949 | Y85: 308924 | Z85: 627.63199 | AA85: 627.44832 | AB85: 627.40284 | AC85: 715.15476 | AD85: 714.84264 | AE85: 714.93892 | AF85: 715.51985 | AG85: 715.51903 | AH85: 715.51221 | AI85: 715.32665 | AJ85: 715.14138 | AK85: 715.36906
A86: Aadressita pensionitulu lisa | B86: =B85/SUM(B6:B83) -> 1.0003545 | C86: =C85/SUM(C6:C83) -> 1.0002549 | D86: =D85/SUM(D6:D83) -> 1.0002841 | E86: =E85/SUM(E6:E83) -> 1.0002888 | F86: =F85/SUM(F6:F83) -> 1.0002984 | G86: =G85/SUM(G6:G83) -> 1.0004575 | H86: =H85/SUM(H6:H83) -> 1.0003673 | I86: =I85/SUM(I6:I83) -> 1.000383 | ... M86: =M85/SUM(M6:M83) -> 1.0007093

Sheet Pension2024
A1: 1 | B1: 2 | C1: 3 | D1: 4 | E1: 5 | F1: 6 | G1: 7 | H1: 8 | I1: 9 | J1: 10 | K1: 11 | L1: 12 | M1: 13 | N1: 14 | O1: 15 | P1: 16 | Q1: 17 | R1: 18 | S1: 19 | T1: 20 | U1: 21 | V1: 22 | W1: 23 | X1: 24 | Y1: 25 | Z1: 26 | AA1: 27 | AB1: 28 | AC1: 29 | AD1: 30 | AE1: 31 | AF1: 32 | AG1: 33 | AH1: 34 | AI1: 35 | AJ1: 36 | AK1: 37
B4: Pensionitulu | N4: Pensionisaajate arv | Z4: Keskmine pension
A5: Omavalitsus | B5: 1 | C5: 2 | D5: 3 | E5: 4 | F5: 5 | G5: 6 | H5: 7 | I5: 8 | J5: 9 | K5: 10 | L5: 11 | M5: 12 | N5: 1 | O5: 2 | P5: 3 | Q5: 4 | R5: 5 | S5: 6 | T5: 7 | U5: 8 | V5: 9 | W5: 10 | X5: 11 | Y5: 12 | Z5: 1 | AA5: 2 | AB5: 3 | AC5: 4 | AD5: 5 | AE5: 6 | AF5: 7 | AG5: 8 | AH5: 9 | AI5: 10 | AJ5: 11 | AK5: 12
A6: Alutaguse vald | B6: 941479.97 | C6: 943150.11 | D6: 946344.57 | E6: 1050108.8 | F6: 1051403.5 | G6: 1048389.1 | H6: 1050639.8 | I6: 1059530.5 | J6: 1053237.9 | K6: 1053962.5 | L6: 1055258.4 | M6: 1060247.4 | N6: 1346 | O6: 1353 | P6: 1357 | Q6: 1361 | R6: 1365 | S6: 1360 | T6: 1359 | U6: 1364 | V6: 1365 | W6: 1366 | X6: 1370 | Y6: 1374 | Z6: =ROUND(B6/N6,2) -> 699.47 | AA6: =ROUND(C6/O6,2) -> 697.08 | AB6: =ROUND(D6/P6,2) -> 697.38 | AC6: =ROUND(E6/Q6,2) -> 771.57 | AD6: =ROUND(F6/R6,2) -> 770.26 | AE6: =ROUND(G6/S6,2) -> 770.87 | AF6: =ROUND(H6/T6,2) -> 773.1 | AG6: =ROUND(I6/U6,2) -> 776.78 | ... AK6: =ROUND(M6/Y6,2) -> 771.65
A7: Anija vald | B7: 1113957.1 | C7: 1105590.5 | D7: 1112900.3 | E7: 1233299.9 | F7: 1236356.4 | G7: 1235594 | H7: 1235268.8 | I7: 1231707.8 | J7: 1229162.8 | K7: 1228107.5 | L7: 1228800.6 | M7: 1229063.8 | N7: 1563 | O7: 1555 | P7: 1564 | Q7: 1565 | R7: 1573 | S7: 1573 | T7: 1569 | U7: 1565 | V7: 1561 | W7: 1561 | X7: 1562 | Y7: 1560 | Z7: =ROUND(B7/N7,2) -> 712.7 | AA7: =ROUND(C7/O7,2) -> 710.99 | AB7: =ROUND(D7/P7,2) -> 711.57 | AC7: =ROUND(E7/Q7,2) -> 788.05 | AD7: =ROUND(F7/R7,2) -> 785.99 | AE7: =ROUND(G7/S7,2) -> 785.5 | AF7: =ROUND(H7/T7,2) -> 787.3 | AG7: =ROUND(I7/U7,2) -> 787.03 | ... AK7: =ROUND(M7/Y7,2) -> 787.86
A8: Antsla vald | B8: 794115.53 | C8: 792235.42 | D8: 792489.42 | E8: 882797.54 | F8: 882010.75 | G8: 888796 | H8: 889864.87 | I8: 886578.62 | J8: 885081.64 | K8: 896001.06 | L8: 882584.36 | M8: 887224.44 | N8: 1148 | O8: 1150 | P8: 1150 | Q8: 1158 | R8: 1157 | S8: 1169 | T8: 1166 | U8: 1161 | V8: 1160 | W8: 1164 | X8: 1159 | Y8: 1159 | Z8: =ROUND(B8/N8,2) -> 691.74 | AA8: =ROUND(C8/O8,2) -> 688.9 | AB8: =ROUND(D8/P8,2) -> 689.12 | AC8: =ROUND(E8/Q8,2) -> 762.35 | AD8: =ROUND(F8/R8,2) -> 762.33 | AE8: =ROUND(G8/S8,2) -> 760.3 | AF8: =ROUND(H8/T8,2) -> 763.18 | AG8: =ROUND(I8/U8,2) -> 763.63 | ... AK8: =ROUND(M8/Y8,2) -> 765.51
A9: Elva vald | B9: 2461866 | C9: 2462027.6 | D9: 2463405.8 | E9: 2721453.9 | F9: 2720077.5 | G9: 2717165.8 | H9: 2715775.1 | I9: 2710196.6 | J9: 2703945.3 | K9: 2693644.8 | L9: 2686637.1 | M9: 2683274.5 | N9: 3500 | O9: 3509 | P9: 3503 | Q9: 3498 | R9: 3497 | S9: 3494 | T9: 3483 | U9: 3477 | V9: 3470 | W9: 3461 | X9: 3452 | Y9: 3447 | Z9: =ROUND(B9/N9,2) -> 703.39 | AA9: =ROUND(C9/O9,2) -> 701.63 | AB9: =ROUND(D9/P9,2) -> 703.23 | AC9: =ROUND(E9/Q9,2) -> 778 | AD9: =ROUND(F9/R9,2) -> 777.83 | AE9: =ROUND(G9/S9,2) -> 777.67 | AF9: =ROUND(H9/T9,2) -> 779.72 | AG9: =ROUND(I9/U9,2) -> 779.46 | ... AK9: =ROUND(M9/Y9,2) -> 778.44
A10: Haapsalu linn | B10: 2655480.9 | C10: 2652803.7 | D10: 2651119.3 | E10: 2939713.4 | F10: 2939334.6 | G10: 2940022.4 | H10: 2938881.8 | I10: 2932122.5 | J10: 2923247.5 | K10: 2933351.9 | L10: 2937650 | M10: 2936026 | N10: 3683 | O10: 3683 | P10: 3684 | Q10: 3682 | R10: 3686 | S10: 3687 | T10: 3681 | U10: 3675 | V10: 3665 | W10: 3681 | X10: 3682 | Y10: 3683 | Z10: =ROUND(B10/N10,2) -> 721.01 | AA10: =ROUND(C10/O10,2) -> 720.28 | AB10: =ROUND(D10/P10,2) -> 719.63 | AC10: =ROUND(E10/Q10,2) -> 798.4 | AD10: =ROUND(F10/R10,2) -> 797.43 | AE10: =ROUND(G10/S10,2) -> 797.4 | AF10: =ROUND(H10/T10,2) -> 798.39 | AG10: =ROUND(I10/U10,2) -> 797.86 | ... AK10: =ROUND(M10/Y10,2) -> 797.18
A11: Haljala vald | B11: 850391.96 | C11: 846486.67 | D11: 841227.76 | E11: 930869.51 | F11: 934019.2 | G11: 935981.9 | H11: 933803.83 | I11: 929293.67 | J11: 930633.55 | K11: 939540.98 | L11: 930091.14 | M11: 931870.06 | N11: 1179 | O11: 1180 | P11: 1174 | Q11: 1175 | R11: 1182 | S11: 1182 | T11: 1174 | U11: 1168 | V11: 1170 | W11: 1171 | X11: 1168 | Y11: 1171 | Z11: =ROUND(B11/N11,2) -> 721.28 | AA11: =ROUND(C11/O11,2) -> 717.36 | AB11: =ROUND(D11/P11,2) -> 716.55 | AC11: =ROUND(E11/Q11,2) -> 792.23 | AD11: =ROUND(F11/R11,2) -> 790.2 | AE11: =ROUND(G11/S11,2) -> 791.86 | AF11: =ROUND(H11/T11,2) -> 795.4 | AG11: =ROUND(I11/U11,2) -> 795.63 | ... AK11: =ROUND(M11/Y11,2) -> 795.79
A12: Harku vald | B12: 1925633.9 | C12: 1934697.4 | D12: 1930159.8 | E12: 2140639.2 | F12: 2151446.5 | G12: 2155265.4 | H12: 2151384.7 | I12: 2152743.4 | J12: 2159311.3 | K12: 2175122.3 | L12: 2160869.7 | M12: 2165653.1 | N12: 2440 | O12: 2447 | P12: 2449 | Q12: 2458 | R12: 2465 | S12: 2471 | T12: 2459 | U12: 2461 | V12: 2466 | W12: 2477 | X12: 2482 | Y12: 2487 | Z12: =ROUND(B12/N12,2) -> 789.19 | AA12: =ROUND(C12/O12,2) -> 790.64 | AB12: =ROUND(D12/P12,2) -> 788.14 | AC12: =ROUND(E12/Q12,2) -> 870.89 | AD12: =ROUND(F12/R12,2) -> 872.8 | AE12: =ROUND(G12/S12,2) -> 872.22 | AF12: =ROUND(H12/T12,2) -> 874.9 | AG12: =ROUND(I12/U12,2) -> 874.74 | ... AK12: =ROUND(M12/Y12,2) -> 870.79
A13: Hiiumaa vald | B13: 1944042.5 | C13: 1945253.2 | D13: 1942323.4 | E13: 2152080.4 | F13: 2161513.2 | G13: 2169856.7 | H13: 2176390.9 | I13: 2166436.2 | J13: 2166980.3 | K13: 2167607.3 | L13: 2168493.9 | M13: 2165207 | N13: 2631 | O13: 2632 | P13: 2628 | Q13: 2634 | R13: 2647 | S13: 2651 | T13: 2647 | U13: 2648 | V13: 2653 | W13: 2656 | X13: 2653 | Y13: 2651 | Z13: =ROUND(B13/N13,2) -> 738.9 | AA13: =ROUND(C13/O13,2) -> 739.08 | AB13: =ROUND(D13/P13,2) -> 739.09 | AC13: =ROUND(E13/Q13,2) -> 817.04 | AD13: =ROUND(F13/R13,2) -> 816.59 | AE13: =ROUND(G13/S13,2) -> 818.5 | AF13: =ROUND(H13/T13,2) -> 822.21 | AG13: =ROUND(I13/U13,2) -> 818.14 | ... AK13: =ROUND(M13/Y13,2) -> 816.75
A14: Häädemeeste vald | B14: 827671.79 | C14: 832318.32 | D14: 830133.16 | E14: 916704.88 | F14: 918293.66 | G14: 912966.36 | H14: 919580.04 | I14: 920851.83 | J14: 917291.59 | K14: 915249.94 | L14: 912509.88 | M14: 913187.16 | N14: 1183 | O14: 1184 | P14: 1186 | Q14: 1185 | R14: 1186 | S14: 1180 | T14: 1183 | U14: 1186 | V14: 1183 | W14: 1184 | X14: 1182 | Y14: 1183 | Z14: =ROUND(B14/N14,2) -> 699.64 | AA14: =ROUND(C14/O14,2) -> 702.97 | AB14: =ROUND(D14/P14,2) -> 699.94 | AC14: =ROUND(E14/Q14,2) -> 773.59 | AD14: =ROUND(F14/R14,2) -> 774.28 | AE14: =ROUND(G14/S14,2) -> 773.7 | AF14: =ROUND(H14/T14,2) -> 777.33 | AG14: =ROUND(I14/U14,2) -> 776.43 | ... AK14: =ROUND(M14/Y14,2) -> 771.92
A15: Jõelähtme vald | B15: 1014177.3 | C15: 1026381 | D15: 1024430.8 | E15: 1134005.7 | F15: 1134500.5 | G15: 1136364.9 | H15: 1130087.6 | I15: 1128667.4 | J15: 1128476.2 | K15: 1139058.8 | L15: 1130186.7 | M15: 1130761.9 | N15: 1332 | O15: 1344 | P15: 1345 | Q15: 1346 | R15: 1350 | S15: 1346 | T15: 1339 | U15: 1339 | V15: 1340 | W15: 1345 | X15: 1344 | Y15: 1342 | Z15: =ROUND(B15/N15,2) -> 761.39 | AA15: =ROUND(C15/O15,2) -> 763.68 | AB15: =ROUND(D15/P15,2) -> 761.66 | AC15: =ROUND(E15/Q15,2) -> 842.5 | AD15: =ROUND(F15/R15,2) -> 840.37 | AE15: =ROUND(G15/S15,2) -> 844.25 | AF15: =ROUND(H15/T15,2) -> 843.98 | AG15: =ROUND(I15/U15,2) -> 842.92 | ... AK15: =ROUND(M15/Y15,2) -> 842.59
A16: Jõgeva vald | B16: 2534088.5 | C16: 2523365.4 | D16: 2519820.8 | E16: 2795858.1 | F16: 2790476.8 | G16: 2784406.9 | H16: 2787003.8 | I16: 2775349.6 | J16: 2774996 | K16: 2766548.1 | L16: 2764492.3 | M16: 2766321.2 | N16: 3567 | O16: 3561 | P16: 3557 | Q16: 3558 | R16: 3564 | S16: 3552 | T16: 3541 | U16: 3529 | V16: 3528 | W16: 3523 | X16: 3524 | Y16: 3523 | Z16: =ROUND(B16/N16,2) -> 710.43 | AA16: =ROUND(C16/O16,2) -> 708.61 | AB16: =ROUND(D16/P16,2) -> 708.41 | AC16: =ROUND(E16/Q16,2) -> 785.79 | AD16: =ROUND(F16/R16,2) -> 782.96 | AE16: =ROUND(G16/S16,2) -> 783.9 | AF16: =ROUND(H16/T16,2) -> 787.07 | AG16: =ROUND(I16/U16,2) -> 786.44 | ... AK16: =ROUND(M16/Y16,2) -> 785.22
A17: Jõhvi vald | B17: 3439922 | C17: 3442534.6 | D17: 3441329.8 | E17: 3826526.4 | F17: 3832291.2 | G17: 3838340.1 | H17: 3828362.1 | I17: 3821910.8 | J17: 3822112.4 | K17: 3833249.7 | L17: 3821424.9 | M17: 3816278.9 | N17: 4776 | O17: 4783 | P17: 4786 | Q17: 4805 | R17: 4814 | S17: 4823 | T17: 4805 | U17: 4798 | V17: 4795 | W17: 4797 | X17: 4808 | Y17: 4792 | Z17: =ROUND(B17/N17,2) -> 720.25 | AA17: =ROUND(C17/O17,2) -> 719.74 | AB17: =ROUND(D17/P17,2) -> 719.04 | AC17: =ROUND(E17/Q17,2) -> 796.36 | AD17: =ROUND(F17/R17,2) -> 796.07 | AE17: =ROUND(G17/S17,2) -> 795.84 | AF17: =ROUND(H17/T17,2) -> 796.75 | AG17: =ROUND(I17/U17,2) -> 796.56 | ... AK17: =ROUND(M17/Y17,2) -> 796.39
... A84: Aadressita | B84: 66830.75 | C84: 44982.62 | D84: 49891.99 | E84: 65799.59 | F84: 69646.51 | G84: 72701.21 | H84: 83311.39 | I84: 83546.17 | J84: 91266.09 | K84: 96974.75 | L84: 107632.25 | M84: 84612.03 | N84: 112 | O84: 83 | P84: 86 | Q84: 99 | R84: 108 | S84: 121 | T84: 130 | U84: 136 | V84: 147 | W84: 161 | X84: 167 | Y84: 200 | Z84: =ROUND(B84/N84,2) -> 596.7 | AA84: =ROUND(C84/O84,2) -> 541.96 | AB84: =ROUND(D84/P84,2) -> 580.14 | AC84: =ROUND(E84/Q84,2) -> 664.64 | AD84: =ROUND(F84/R84,2) -> 644.88 | AE84: =ROUND(G84/S84,2) -> 600.84 | AF84: =ROUND(H84/T84,2) -> 640.86 | AG84: =ROUND(I84/U84,2) -> 614.31 | ... AK84: =ROUND(M84/Y84,2) -> 423.06
A85: KOKKU | B85: =SUM(B6:B84) -> 2.2145318e+08 | C85: =SUM(C6:C84) -> 2.2144558e+08 | D85: =SUM(D6:D84) -> 2.2148038e+08 | E85: =SUM(E6:E84) -> 2.452131e+08 | F85: =SUM(F6:F84) -> 2.4558949e+08 | G85: =SUM(G6:G84) -> 2.4561259e+08 | H85: =SUM(H6:H84) -> 2.4542247e+08 | I85: =SUM(I6:I84) -> 2.4508403e+08 | ... Y85: =SUM(Y6:Y84) -> 309836 | Z85: =ROUND(B85/N85,2) -> 715.82 | AA85: =ROUND(C85/O85,2) -> 715.05 | AB85: =ROUND(D85/P85,2) -> 714.69 | AC85: =ROUND(E85/Q85,2) -> 791 | AD85: =ROUND(F85/R85,2) -> 790.89 | AE85: =ROUND(G85/S85,2) -> 790.64 | AF85: =ROUND(H85/T85,2) -> 792.33 | AG85: =ROUND(I85/U85,2) -> 792.16 | ... AK85: =ROUND(M85/Y85,2) -> 790.65
A86: Aadressita pensionitulu lisa | B86: =B85/SUM(B6:B83) -> 1.0003019 | C86: =C85/SUM(C6:C83) -> 1.0002032 | D86: =D85/SUM(D6:D83) -> 1.0002253 | E86: =E85/SUM(E6:E83) -> 1.0002684 | F86: =F85/SUM(F6:F83) -> 1.0002837 | G86: =G85/SUM(G6:G83) -> 1.0002961 | H86: =H85/SUM(H6:H83) -> 1.0003396 | I86: =I85/SUM(I6:I83) -> 1.000341 | ... M86: =M85/SUM(M6:M83) -> 1.0003455

Sheet FTM
A1: Maakond | B1: Kohalik omavalitsus | C1: 2023 (muutus) | O1: 2024 (muutus) | AA1: 2025 (muutus) | AM1: 2026 (muutus)
C3: 1 | D3: 2 | E3: 3 | F3: 4 | G3: 5 | H3: 6 | I3: 7 | J3: 8 | K3: 9 | L3: 10 | M3: 11 | N3: 12 | O3: 1 | P3: 2 | Q3: 3 | R3: 4 | S3: 5 | T3: 6 | U3: 7 | V3: 8 | W3: 9 | X3: 10 | Y3: 11 | Z3: 12 | AA3: 1 | AB3: 2 | AC3: 3 | AD3: 4 | AE3: 5 | AF3: 6 | AG3: 7 | AH3: 8 | AI3: 9 | AJ3: 10 | AK3: 11 | AL3: 12 | AM3: 1 | AN3: 2 | AO3: 3 | AP3: 4 | AQ3: 5 | AR3: 6 | AS3: 7 | AT3: 8 | AU3: 9 | AV3: 10 | AW3: 11 | AX3: 12
A4: Harju | B4: Anija vald | C4: 2530.1712 | D4: 1127.4232 | E4: 18594.681 | F4: 10077.859 | G4: 4117.4645 | H4: 1225.2441 | I4: 1818.0768 | J4: 1217.9972 | K4: 2744.6762 | L4: 23332.154 | M4: 20963.003 | N4: 2818.9811 | O4: 1416.3867 | P4: 2830.4001 | Q4: 4879.2846 | R4: 6093.3694 | S4: 4730.9678 | T4: 1399.0034 | U4: 1580.4589 | V4: 1654.4415 | W4: 11262.461 | X4: 55100.012 | Y4: 1373.2752 | Z4: 3546.3724 | AA4: 1450.698 | AB4: 1615.0183 | AC4: 4791.4918 | AD4: 5235.6645 | AE4: 6814.2962 | AF4: 1474.2788 | AG4: 2520.3027 | AH4: 1396.2152 | AI4: 4094.0288 | AJ4: 26439.828 | AK4: 3414.9019 | AL4: 5206.9913 | AM4: 1875.5603 | AN4: 1751.38 | AO4: 7694.96 | AP4: 3364.4494 | AQ4: 1648.9626 | AR4: 2052.948 | AS4: 2124.3201 | AT4: 1679.6509 | AU4: 3775.2956
A5: Harju | B5: Harku vald | C5: 3492.4772 | D5: 7565.4555 | E5: 58654.69 | F5: 62152.543 | G5: 51880.074 | H5: 8877.1919 | I5: 22770.963 | J5: 17405.372 | K5: 22644.164 | L5: 311757.75 | M5: 11073.923 | N5: 12430.979 | O5: 42002.577 | P5: 7292.7964 | Q5: 60536.333 | R5: 77193.065 | S5: 24818.538 | T5: 7244.796 | U5: 19966.981 | V5: 4491.7967 | W5: 26389.916 | X5: 520339.53 | Y5: 8827.1402 | Z5: 15525.992 | AA5: 11021.225 | AB5: 8203.9376 | AC5: 34744.121 | AD5: 65129.063 | AE5: 25668.845 | AF5: 6727.9656 | AG5: 10827.2 | AH5: 7316.1763 | AI5: 19318.717 | AJ5: 492722.3 | AK5: 10055.79 | AL5: 21379.063 | AM5: 14953.573 | AN5: 12229.84 | AO5: 73696.91 | AP5: 30393.562 | AQ5: 32308.658 | AR5: 16363.002 | AS5: 8043.8128 | AT5: 8172.1087 | AU5: 22204.074
A6: Harju | B6: Jõelähtme vald | C6: 2893.0912 | D6: 2161.488 | E6: 16540.215 | F6: 8422.7109 | G6: 7452.3664 | H6: 1451.0744 | I6: 1152.1445 | J6: 1048.7062 | K6: 130176.57 | L6: 79184.297 | M6: 2940.7039 | N6: 4636.6274 | O6: 8665.7727 | P6: 3955.3803 | Q6: 28749.689 | R6: 13273.669 | S6: 4421.2917 | T6: 2593.7689 | U6: 2411.7531 | V6: 2100.7172 | W6: 19634.175 | X6: 65688.491 | Y6: 5685.5074 | Z6: 4506.6442 | AA6: 9887.6453 | AB6: 2321.2622 | AC6: 10924.867 | AD6: 39210.763 | AE6: 19208.854 | AF6: 2284.9772 | AG6: 1710.2341 | AH6: 2362.1144 | AI6: 4069.6209 | AJ6: 88502.818 | AK6: 2380.0283 | AL6: 5378.2805 | AM6: 4788.0387 | AN6: 4000.72 | AO6: 17826.45 | AP6: 12078.692 | AQ6: 8130.3234 | AR6: 2106.3519 | AS6: 3380.2513 | AT6: 3930.8586 | AU6: 4156.7077
A7: Harju | B7: Keila linn | C7: 2005.7339 | D7: 8886.9755 | E7: 28991.942 | F7: 22692.155 | G7: 23058.475 | H7: 20059.275 | I7: 1099.2184 | J7: 2260.5082 | K7: 4797.0041 | L7: 52816.644 | M7: 4486.7742 | N7: 4436.1547 | O7: 3235.0469 | P7: 4102.0774 | Q7: 25272.369 | R7: 10281.804 | S7: 10575.672 | T7: 2083.4308 | U7: 3922.7806 | V7: 1823.1567 | W7: 3990.0851 | X7: 75021.444 | Y7: 2581.2001 | Z7: 4197.8075 | AA7: 4982.9509 | AB7: 3427.7797 | AC7: 6215.3709 | AD7: 36628.217 | AE7: 10335.417 | AF7: 1902.7002 | AG7: 2731.7604 | AH7: 3615.7649 | AI7: 12705.951 | AJ7: 54768.844 | AK7: 4018.2666 | AL7: 3543.545 | AM7: 14155.768 | AN7: 2781.47 | AO7: 31440.76 | AP7: 19855.21 | AQ7: 12538.723 | AR7: 2051.1893 | AS7: 1290.5473 | AT7: 4865.6058 | AU7: 17905.735
A8: Harju | B8: Kiili vald | C8: 2126.1568 | D8: 2788.2997 | E8: 20853.864 | F8: 9921.8504 | G8: 23628.641 | H8: 2643.7408 | I8: 2815.9481 | J8: 2515.0217 | K8: 3694.8928 | L8: 114257.12 | M8: 2957.5314 | N8: 3686.4419 | O8: 1560.286 | P8: 3196.2372 | Q8: 26337.07 | R8: 35677.534 | S8: 11836.989 | T8: 3660.8735 | U8: 1912.0901 | V8: 1555.6365 | W8: 3146.5898 | X8: 107809.62 | Y8: 3052.0406 | Z8: 3998.6369 | AA8: 2985.4408 | AB8: 3395.4124 | AC8: 14041.344 | AD8: 44138.216 | AE8: 30008.757 | AF8: 16346.468 | AG8: 1922.1633 | AH8: 8222.8655 | AI8: 14469.84 | AJ8: 106961.06 | AK8: 5874.2415 | AL8: 3917.5895 | AM8: 3803.9016 | AN8: 1858.88 | AO8: 25840.75 | AP8: 36772.54 | AQ8: 40396.287 | AR8: 1667.1274 | AS8: 1287.3123 | AT8: 1788.2082 | AU8: 7590.8316
A9: Harju | B9: Kose vald | C9: 1020.2355 | D9: 4783.1095 | E9: 31509.423 | F9: 8992.7126 | G9: 4306.9332 | H9: 1553.7773 | I9: 585.67269 | J9: 895.5097 | K9: 7439.194 | L9: 35022.369 | M9: 4553.8939 | N9: 3696.6084 | O9: 547.51369 | P9: 1497.6216 | Q9: 12839.218 | R9: 28349.548 | S9: 7671.2643 | T9: 2578.059 | U9: 1196.4582 | V9: 661.22707 | W9: 5364.3792 | X9: 32434.457 | Y9: 1042.3247 | Z9: 4718.7407 | AA9: 1868.4181 | AB9: 1107.1585 | AC9: 10078.18 | AD9: 21477.544 | AE9: 5769.9698 | AF9: 862.17813 | AG9: 2855.7371 | AH9: 1854.7215 | AI9: 21520.561 | AJ9: 33110.599 | AK9: 1921.0141 | AL9: 6169.1634 | AM9: 3660.7287 | AN9: 2904.62 | AO9: 16108 | AP9: 5753.9277 | AQ9: 13238.626 | AR9: 3217.8553 | AS9: 3386.6116 | AT9: 2633.6325 | AU9: 7317.4248
A10: Harju | B10: Kuusalu vald | C10: 919.51235 | D10: 1499.992 | E10: 7633.1017 | F10: 4322.9275 | G10: 5211.917 | H10: 708.63612 | I10: 4015.2691 | J10: 500.35004 | K10: 4364.2674 | L10: 59285.789 | M10: 2002.6079 | N10: 3343.0946 | O10: 1895.7541 | P10: 1367.1805 | Q10: 19310.039 | R10: 7332.2721 | S10: 3248.5783 | T10: 881.26653 | U10: 2433.4157 | V10: 997.59966 | W10: 8265.9753 | X10: 60673.482 | Y10: 2087.4355 | Z10: 7803.0565 | AA10: 2495.2011 | AB10: 1004.9405 | AC10: 6715.8981 | AD10: 23453.651 | AE10: 4186.9163 | AF10: 1178.8739 | AG10: 3421.6884 | AH10: 1322.3203 | AI10: 10023.742 | AJ10: 89508.395 | AK10: 1449.707 | AL10: 6989.1531 | AM10: 2424.9297 | AN10: 1604.98 | AO10: 17586.31 | AP10: 13085.483 | AQ10: 23298.567 | AR10: 2006.226 | AS10: 1868.2483 | AT10: 1338.6931 | AU10: 6742.9888
A11: Harju | B11: Loksa linn | C11: 213.07782 | D11: 1187.9244 | E11: 7485.6468 | F11: 732.69119 | G11: 5142.59 | H11: 619.35664 | I11: 1720.2449 | J11: 465.19921 | K11: 2018.0044 | L11: 6743.068 | M11: 592.03256 | N11: 992.50265 | O11: 707.93707 | P11: 739.00354 | Q11: 3708.1515 | R11: 3937.5777 | S11: 2717.9949 | T11: 4325.876 | U11: 1000.6883 | V11: 862.60695 | W11: 1561.6294 | X11: 7217.3687 | Y11: 1048.664 | Z11: 1565.9537 | AA11: 1913.4018 | AB11: 868.0161 | AC11: 2229.4561 | AD11: 9932.9046 | AE11: 1828.1632 | AF11: 2133.8368 | AG11: 920.75613 | AH11: 742.84418 | AI11: 1735.9105 | AJ11: 7903.8109 | AK11: 825.36519 | AL11: 1425.5879 | AM11: 1001.9017 | AN11: 1727.88 | AO11: 6531.69 | AP11: 4752.0934 | AQ11: 1453.1854 | AR11: 1128.731 | AS11: 1075.212 | AT11: 1035.9877 | AU11: 1360.4722
A12: Harju | B12: Lääne-Harju vald | C12: 1791.3467 | D12: 8184.8262 | E12: 40087.288 | F12: 7934.1703 | G12: 14981.3 | H12: 30756.77 | I12: 8461.4188 | J12: 2054.5091 | K12: 4280.7709 | L12: 114294.54 | M12: 6111.4067 | N12: 4583.5657 | O12: 2346.4618 | P12: 3154.7286 | Q12: 21735.304 | R12: 12863.858 | S12: 24768.763 | T12: 4646.4154 | U12: 10252.284 | V12: 5344.9854 | W12: 8831.3123 | X12: 150042.49 | Y12: 5878.6973 | Z12: 8810.2486 | AA12: 5392.7923 | AB12: 5511.6391 | AC12: 103295.8 | AD12: 20062.156 | AE12: 37712.223 | AF12: 11075.012 | AG12: 4147.9289 | AH12: 3508.9695 | AI12: 9660.3325 | AJ12: 115173.62 | AK12: 7146.6326 | AL12: 10957.656 | AM12: 5559.1267 | AN12: 5860.57 | AO12: 35633.78 | AP12: 16034.448 | AQ12: 10987.363 | AR12: 15154.384 | AS12: 6155.4802 | AT12: 4753.7139 | AU12: 14090.645
A13: Harju | B13: Maardu linn | C13: 5035.3981 | D13: 8126.7663 | E13: 39693.765 | F13: 1146.3667 | G13: 17422.449 | H13: 7255.3088 | I13: 5687.3367 | J13: 27163.553 | K13: 9857.4822 | L13: 61730.758 | M13: 13500.784 | N13: 13748.445 | O13: 10301.359 | P13: 11031.629 | Q13: 55564.45 | R13: 31520.348 | S13: 17109.404 | T13: 7960.0239 | U13: 8833.4902 | V13: 9733.027 | W13: 12235.768 | X13: 52599.743 | Y13: 7253.3725 | Z13: 12059.726 | AA13: 18491.252 | AB13: 11191.574 | AC13: 26148.97 | AD13: 47172.303 | AE13: 14390.691 | AF13: 8210.135 | AG13: 8022.4203 | AH13: 20504.197 | AI13: 12820.004 | AJ13: 90693.827 | AK13: 11614.999 | AL13: 15975.136 | AM13: 14376.519 | AN13: 14985.05 | AO13: 42014.53 | AP13: 23287.382 | AQ13: 17711.317 | AR13: 12005.135 | AS13: 10705.288 | AT13: 23830.704 | AU13: 15649.578
A14: Harju | B14: Raasiku vald | C14: 1071.9159 | D14: 1193.1087 | E14: 10432.417 | F14: 2017.6182 | G14: 6760.5966 | H14: 1248.0405 | I14: 629.18747 | J14: 1364.0085 | K14: 2418.8693 | L14: 24869.572 | M14: 3369.3215 | N14: 3098.4025 | O14: 1490.3241 | P14: 875.18825 | Q14: 11014.853 | R14: 7756.0515 | S14: 3610.2567 | T14: 6170.4536 | U14: 2152.217 | V14: 1297.9221 | W14: 7377.3163 | X14: 24382.085 | Y14: 1527.5775 | Z14: 2631.2463 | AA14: 2399.35 | AB14: 1774.9289 | AC14: 4698.5349 | AD14: 6949.8323 | AE14: 2696.256 | AF14: 972.18302 | AG14: 1452.3372 | AH14: 740.2927 | AI14: 2552.7166 | AJ14: 34283.727 | AK14: 1208.7212 | AL14: 1550.2138 | AM14: 1377.9936 | AN14: 1111.36 | AO14: 10934.23 | AP14: 4112.6655 | AQ14: 11886.131 | AR14: 1781.1661 | AS14: 1576.3503 | AT14: 1639.5366 | AU14: 3463.8354
A15: Harju | B15: Rae vald | C15: 4152.6801 | D15: 19538.685 | E15: 88263.04 | F15: 40439.918 | G15: 52155.445 | H15: 10446.931 | I15: 6769.4925 | J15: 6745.2948 | K15: 32759.679 | L15: 331083.4 | M15: 13924.572 | N15: 40702.147 | O15: 7048.4048 | P15: 14612.409 | Q15: 109896.15 | R15: 83083.82 | S15: 41758.903 | T15: 6310.3173 | U15: 6320.9279 | V15: 17292.417 | W15: 67118.601 | X15: 398994.18 | Y15: 10465.157 | Z15: 31524.298 | AA15: 10484.101 | AB15: 5146.6972 | AC15: 65276.372 | AD15: 116348.55 | AE15: 54619.49 | AF15: 6297.6415 | AG15: 4843.1305 | AH15: 52628.737 | AI15: 50165.812 | AJ15: 406119.36 | AK15: 18850.051 | AL15: 49322.22 | AM15: 10176.899 | AN15: 37008.68 | AO15: 87688.17 | AP15: 81501.039 | AQ15: 74046.342 | AR15: 35832.084 | AS15: 9414.3605 | AT15: 25679.738 | AU15: 52177.346
... A81: Võru | B81: Võru vald | C81: 645.6818 | D81: 7204.914 | E81: 17638.136 | F81: 9961.236 | G81: 16632.658 | H81: 1354.1733 | I81: 571.9176 | J81: 426.78588 | K81: 14763.88 | L81: 69080.438 | M81: 1852.6333 | N81: 14649.658 | O81: 3664.7755 | P81: 5723.1908 | Q81: 19798.669 | R81: 3026.4646 | S81: 22491.04 | T81: 1322.6809 | U81: 5558.2322 | V81: 1625.1361 | W81: 10595.342 | X81: 46175.839 | Y81: 1070.947 | Z81: 10404.194 | AA81: 2286.5937 | AB81: 4505.456 | AC81: 10332.217 | AD81: 9272.1997 | AE81: 12553.023 | AF81: 1088.1684 | AG81: 1662.9135 | AH81: 3809.0839 | AI81: 27527.574 | AJ81: 49046.961 | AK81: 6598.3483 | AL81: 15272.298 | AM81: 5293.5424 | AN81: 1961.91 | AO81: 15050.55 | AP81: 271.34219 | AQ81: 10734.505 | AR81: 1137.1178 | AS81: 877.22068 | AT81: 1726.9415 | AU81: 11192.171
B82: Aadressita
B83: KOKKU | C83: =SUM(C4:C82) -> 565957.15 | D83: =SUM(D4:D82) -> 768487.91 | E83: =SUM(E4:E82) -> 4457892.1 | F83: =SUM(F4:F82) -> 1993552.4 | G83: =SUM(G4:G82) -> 2616096.5 | H83: =SUM(H4:H82) -> 857359.65 | I83: =SUM(I4:I82) -> 534223.7 | J83: =SUM(J4:J82) -> 496614.07 | ... Y83: =SUM(Y4:Y82) -> 1003005.2 | Z83: 1984867.5 | AA83: 836394.91 | AB83: =SUM(AB4:AB81) -> 744325.3 | AC83: =SUM(AC4:AC81) -> 2840663.2 | AD83: =SUM(AD4:AD81) -> 4320490.5 | AE83: =SUM(AE4:AE81) -> 2442915.2 | AF83: =SUM(AF4:AF81) -> 762344.57 | AG83: =SUM(AG4:AG81) -> 704505.93 | AH83: =SUM(AH4:AH81) -> 637709.37 | AI83: =SUM(AI4:AI81) -> 2273111.6 | ... AX83: =SUM(AX4:AX81) -> 0
B85: 1 | C85: 2 | D85: 3 | E85: 4 | F85: 5 | G85: 6 | H85: 7 | I85: 8 | J85: 9 | K85: 10 | L85: 11 | M85: 12 | N85: 13 | O85: 14 | P85: 15 | Q85: 16 | R85: 17 | S85: 18 | T85: 19 | U85: 20 | V85: 21 | W85: 22 | X85: 23 | Y85: 24 | Z85: 25 | AA85: 26 | AB85: 27 | AC85: 28 | AD85: 29 | AE85: 30 | AF85: 31 | AG85: 32 | AH85: 33 | AI85: 34 | AJ85: 35 | AK85: 36 | AL85: 37 | AM85: 38 | AN85: 39 | AO85: 40 | AP85: 41 | AQ85: 42 | AR85: 43 | AS85: 44 | AT85: 45 | AU85: 46 | AV85: 47 | AW85: 48 | AX85: 49

Sheet Tulumaks
A1: Maakond | B1: Kohalik omavalitsus | C1: 2023 | O1: 2024 | AA1: 2025 | AM1: 2026
C3: 1 | D3: 2 | E3: 3 | F3: 4 | G3: 5 | H3: 6 | I3: 7 | J3: 8 | K3: 9 | L3: 10 | M3: 11 | N3: 12 | O3: 1 | P3: 2 | Q3: 3 | R3: 4 | S3: 5 | T3: 6 | U3: 7 | V3: 8 | W3: 9 | X3: 10 | Y3: 11 | Z3: 12 | AA3: 1 | AB3: 2 | AC3: 3 | AD3: 4 | AE3: 5 | AF3: 6 | AG3: 7 | AH3: 8 | AI3: 9 | AJ3: 10 | AK3: 11 | AL3: 12 | AM3: 1 | AN3: 2 | AO3: 3 | AP3: 4 | AQ3: 5 | AR3: 6 | AS3: 7 | AT3: 8 | AU3: 9 | AV3: 10 | AW3: 11 | AX3: 12
A4: Harju | B4: Anija vald | C4: 634700 | D4: 570764 | E4: 597279 | F4: 579798 | G4: 616855 | H4: 587393 | I4: 627963 | J4: 623673 | K4: 590999 | L4: 610390 | M4: 616313 | N4: 600679 | O4: 658825 | P4: 636949 | Q4: 631794 | R4: 657889 | S4: 668924 | T4: 660805 | U4: 699246 | V4: 704520 | W4: 671430 | X4: 714258 | Y4: 673961 | Z4: 679847 | AA4: 753017 | AB4: 669787 | AC4: 685472 | AD4: 701140 | AE4: 734385 | AF4: 701697 | AG4: 730001 | AH4: 769959 | AI4: 700145 | AJ4: 742879 | AK4: 725563 | AL4: 726820 | AM4: 773864 | AN4: 731456 | AO4: 739271 | AP4: 746086 | AQ4: 768299 | AR4: 757920 | AS4: 778788 | AT4: 810813 | AU4: 760021
A5: Harju | B5: Harku vald | C5: 2414936 | D5: 2366410 | E5: 2459815 | F5: 2511427 | G5: 2593226 | H5: 2455521 | I5: 2619685 | J5: 2520362 | K5: 2471564 | L5: 2723445 | M5: 2454393 | N5: 2542062 | O5: 2798225 | P5: 2654366 | Q5: 2752790 | R5: 2874467 | S5: 2881260 | T5: 2746001 | U5: 2843065 | V5: 2826671 | W5: 2740179 | X5: 3228801 | Y5: 2780776 | Z5: 2807828 | AA5: 3195405 | AB5: 2707443 | AC5: 2926712 | AD5: 2977465 | AE5: 3021819 | AF5: 2947368 | AG5: 2965414 | AH5: 2946373 | AI5: 2879653 | AJ5: 3360460 | AK5: 2893280 | AL5: 2933878 | AM5: 3205532 | AN5: 2933339 | AO5: 3023140 | AP5: 3127953 | AQ5: 3164419 | AR5: 3038831 | AS5: 3171318 | AT5: 3124107 | AU5: 3025845
A6: Harju | B6: Jõelähtme vald | C6: 880470 | D6: 831800 | E6: 851532 | F6: 873197 | G6: 939607 | H6: 894226 | I6: 922782 | J6: 919093 | K6: 1012426 | L6: 948331 | M6: 888280 | N6: 906264 | O6: 979048 | P6: 954221 | Q6: 983395 | R6: 978399 | S6: 996091 | T6: 991246 | U6: 1021489 | V6: 1035155 | W6: 1014684 | X6: 1034711 | Y6: 992192 | Z6: 1043204 | AA6: 1119393 | AB6: 1029814 | AC6: 1049140 | AD6: 1110690 | AE6: 1127381 | AF6: 1085033 | AG6: 1104402 | AH6: 1103846 | AI6: 1074038 | AJ6: 1148454 | AK6: 1090719 | AL6: 1094728 | AM6: 1173432 | AN6: 1147399 | AO6: 1136627 | AP6: 1165916 | AQ6: 1222723 | AR6: 1164451 | AS6: 1203549 | AT6: 1209616 | AU6: 1168728
A7: Harju | B7: Keila linn | C7: 1247571 | D7: 1152278 | E7: 1182211 | F7: 1192470 | G7: 1268733 | H7: 1209823 | I7: 1269239 | J7: 1223662 | K7: 1220203 | L7: 1226703 | M7: 1215446 | N7: 1217437 | O7: 1366566 | P7: 1243882 | Q7: 1272464 | R7: 1303573 | S7: 1358432 | T7: 1323355 | U7: 1399370 | V7: 1338304 | W7: 1362776 | X7: 1365040 | Y7: 1350663 | Z7: 1370157 | AA7: 1535156 | AB7: 1284336 | AC7: 1365501 | AD7: 1393648 | AE7: 1454794 | AF7: 1387154 | AG7: 1473273 | AH7: 1431022 | AI7: 1402005 | AJ7: 1466067 | AK7: 1434585 | AL7: 1472391 | AM7: 1558500 | AN7: 1400578 | AO7: 1464152 | AP7: 1455208 | AQ7: 1518135 | AR7: 1478585 | AS7: 1525234 | AT7: 1524658 | AU7: 1513208
A8: Harju | B8: Kiili vald | C8: 913077 | D8: 863227 | E8: 906526 | F8: 908301 | G8: 985288 | H8: 906796 | I8: 943408 | J8: 924227 | K8: 901198 | L8: 1016055 | M8: 909024 | N8: 912175 | O8: 1027375 | P8: 1048755 | Q8: 1046728 | R8: 1104004 | S8: 1126400 | T8: 1072431 | U8: 1111525 | V8: 1087500 | W8: 1090606 | X8: 1169878 | Y8: 1085546 | Z8: 1086361 | AA8: 1232106 | AB8: 1117709 | AC8: 1202962 | AD8: 1242887 | AE8: 1257363 | AF8: 1164761 | AG8: 1220160 | AH8: 1203788 | AI8: 1175180 | AJ8: 1282566 | AK8: 1179232 | AL8: 1178545 | AM8: 1254398 | AN8: 1244294 | AO8: 1302278 | AP8: 1332148 | AQ8: 1365911 | AR8: 1269389 | AS8: 1333017 | AT8: 1291608 | AU8: 1289821
A9: Harju | B9: Kose vald | C9: 823775 | D9: 772806 | E9: 814502 | F9: 785888 | G9: 838352 | H9: 814348 | I9: 856979 | J9: 818378 | K9: 809264 | L9: 843829 | M9: 821953 | N9: 830926 | O9: 906965 | P9: 871009 | Q9: 893240 | R9: 912141 | S9: 932573 | T9: 915897 | U9: 938205 | V9: 923120 | W9: 926956 | X9: 933606 | Y9: 916526 | Z9: 937275 | AA9: 1028030 | AB9: 899770 | AC9: 949155 | AD9: 942270 | AE9: 991292 | AF9: 948232 | AG9: 988544 | AH9: 963915 | AI9: 983829 | AJ9: 968452 | AK9: 964513 | AL9: 981958 | AM9: 1027825 | AN9: 964150 | AO9: 985093 | AP9: 969790 | AQ9: 1013892 | AR9: 1002412 | AS9: 1037261 | AT9: 1019546 | AU9: 1026458
A10: Harju | B10: Kuusalu vald | C10: 717808 | D10: 640454 | E10: 664405 | F10: 672113 | G10: 715946 | H10: 663237 | I10: 746898 | J10: 692020 | K10: 670154 | L10: 732324 | M10: 683123 | N10: 683656 | O10: 752878 | P10: 713983 | Q10: 724308 | R10: 739434 | S10: 785253 | T10: 736111 | U10: 783470 | V10: 775358 | W10: 761354 | X10: 790447 | Y10: 753679 | Z10: 757396 | AA10: 861532 | AB10: 726369 | AC10: 760334 | AD10: 799221 | AE10: 813928 | AF10: 789404 | AG10: 819745 | AH10: 781189 | AI10: 777916 | AJ10: 877369 | AK10: 785517 | AL10: 790681 | AM10: 863108 | AN10: 784518 | AO10: 803081 | AP10: 839581 | AQ10: 865013 | AR10: 837680 | AS10: 876648 | AT10: 846103 | AU10: 835635
A11: Harju | B11: Loksa linn | C11: 173896 | D11: 158322 | E11: 166896 | F11: 156974 | G11: 169788 | H11: 163549 | I11: 186981 | J11: 174871 | K11: 163773 | L11: 173508 | M11: 174019 | N11: 168719 | O11: 194706 | P11: 171768 | Q11: 178607 | R11: 182970 | S11: 184145 | T11: 191460 | U11: 205098 | V11: 192177 | W11: 182978 | X11: 186801 | Y11: 186327 | Z11: 196576 | AA11: 200774 | AB11: 194412 | AC11: 200410 | AD11: 201438 | AE11: 205548 | AF11: 211141 | AG11: 215646 | AH11: 214608 | AI11: 204839 | AJ11: 217735 | AK11: 209534 | AL11: 211246 | AM11: 219280 | AN11: 215064 | AO11: 221556 | AP11: 223365 | AQ11: 227236 | AR11: 225394 | AS11: 238723 | AT11: 232047 | AU11: 224189
A12: Harju | B12: Lääne-Harju vald | C12: 1329761 | D12: 1257745 | E12: 1314870 | F12: 1341002 | G12: 1423449 | H12: 1360467 | I12: 1398830 | J12: 1337887 | K12: 1313821 | L12: 1409241 | M12: 1317743 | N12: 1336193 | O12: 1464848 | P12: 1399720 | Q12: 1441266 | R12: 1439689 | S12: 1520529 | T12: 1496556 | U12: 1551521 | V12: 1527861 | W12: 1485102 | X12: 1587023 | Y12: 1489986 | Z12: 1504353 | AA12: 1658886 | AB12: 1482823 | AC12: 1623607 | AD12: 1551800 | AE12: 1653800 | AF12: 1608473 | AG12: 1660512 | AH12: 1607119 | AI12: 1591574 | AJ12: 1684602 | AK12: 1589311 | AL12: 1612420 | AM12: 1720920 | AN12: 1631706 | AO12: 1682909 | AP12: 1686617 | AQ12: 1748643 | AR12: 1727635 | AS12: 1797388 | AT12: 1736005 | AU12: 1730969
A13: Harju | B13: Maardu linn | C13: 1476996 | D13: 1347836 | E13: 1364520 | F13: 1309031 | G13: 1460448 | H13: 1392585 | I13: 1493052 | J13: 1475070 | K13: 1387715 | L13: 1446692 | M13: 1400459 | N13: 1409211 | O13: 1538576 | P13: 1471494 | Q13: 1533487 | R13: 1522278 | S13: 1573017 | T13: 1538799 | U13: 1669121 | V13: 1567799 | W13: 1547249 | X13: 1573589 | Y13: 1551671 | Z13: 1583645 | AA13: 1710989 | AB13: 1571118 | AC13: 1589186 | AD13: 1619565 | AE13: 1686063 | AF13: 1648483 | AG13: 1744922 | AH13: 1698912 | AI13: 1648008 | AJ13: 1709103 | AK13: 1660756 | AL13: 1675380 | AM13: 1767592 | AN13: 1684702 | AO13: 1703931 | AP13: 1700025 | AQ13: 1779858 | AR13: 1733974 | AS13: 1854080 | AT13: 1819657 | AU13: 1757238
A14: Harju | B14: Raasiku vald | C14: 648771 | D14: 600143 | E14: 605135 | F14: 607538 | G14: 646362 | H14: 607995 | I14: 658286 | J14: 652706 | K14: 632807 | L14: 639733 | M14: 632558 | N14: 641158 | O14: 703549 | P14: 652105 | Q14: 659465 | R14: 674278 | S14: 687218 | T14: 687336 | U14: 712182 | V14: 704112 | W14: 699263 | X14: 704754 | Y14: 683707 | Z14: 730964 | AA14: 778694 | AB14: 670300 | AC14: 707938 | AD14: 713582 | AE14: 749278 | AF14: 700430 | AG14: 740509 | AH14: 739852 | AI14: 718561 | AJ14: 739834 | AK14: 721678 | AL14: 727499 | AM14: 780575 | AN14: 731538 | AO14: 747032 | AP14: 743542 | AQ14: 785511 | AR14: 750506 | AS14: 789995 | AT14: 781548 | AU14: 760916
A15: Harju | B15: Rae vald | C15: 3465283 | D15: 3346039 | E15: 3456517 | F15: 3530147 | G15: 3747253 | H15: 3474049 | I15: 3565341 | J15: 3546117 | K15: 3473010 | L15: 3749731 | M15: 3475250 | N15: 3548093 | O15: 3827179 | P15: 3750916 | Q15: 3797669 | R15: 3920381 | S15: 4045564 | T15: 3763379 | U15: 3900444 | V15: 3863021 | W15: 3858646 | X15: 4139564 | Y15: 3842962 | Z15: 3884898 | AA15: 4365408 | AB15: 3718375 | AC15: 3981060 | AD15: 4067295 | AE15: 4229461 | AF15: 3922194 | AG15: 4034317 | AH15: 4052449 | AI15: 3986819 | AJ15: 4284892 | AK15: 3948675 | AL15: 4061218 | AM15: 4275475 | AN15: 4011720 | AO15: 4080779 | AP15: 4313821 | AQ15: 4368018 | AR15: 4080496 | AS15: 4222355 | AT15: 4181676 | AU15: 4121052
... A81: Võru | B81: Võru vald | C81: 908876 | D81: 785839 | E81: 790852 | F81: 774232 | G81: 836955 | H81: 806848 | I81: 885590 | J81: 811306 | K81: 819116 | L81: 893340 | M81: 858461 | N81: 850033 | O81: 945223 | P81: 902801 | Q81: 881336 | R81: 895888 | S81: 936219 | T81: 908527 | U81: 993399 | V81: 908735 | W81: 927320 | X81: 970104 | Y81: 954148 | Z81: 973568 | AA81: 1070512 | AB81: 957982 | AC81: 964596 | AD81: 943957 | AE81: 1008186 | AF81: 991065 | AG81: 1055808 | AH81: 1004102 | AI81: 1014696 | AJ81: 1045466 | AK81: 1012311 | AL81: 1040827 | AM81: 1091696 | AN81: 1008464 | AO81: 1033641 | AP81: 1014343 | AQ81: 1079258 | AR81: 1067897 | AS81: 1141819 | AT81: 1078565 | AU81: 1081769
B82: Aadressita
B83: KOKKU | C83: =SUM(C4:C82) -> 144687558 | D83: =SUM(D4:D82) -> 130013920 | E83: =SUM(E4:E82) -> 136304671 | F83: =SUM(F4:F82) -> 135414819 | G83: =SUM(G4:G82) -> 144670399 | H83: =SUM(H4:H82) -> 137646812 | I83: =SUM(I4:I82) -> 145844163 | J83: =SUM(J4:J82) -> 140672849 | ... AX83: =SUM(AX4:AX82) -> 0
B85: 1 | C85: 2 | D85: 3 | E85: 4 | F85: 5 | G85: 6 | H85: 7 | I85: 8 | J85: 9 | K85: 10 | L85: 11 | M85: 12 | N85: 13 | O85: 14 | P85: 15 | Q85: 16 | R85: 17 | S85: 18 | T85: 19 | U85: 20 | V85: 21 | W85: 22 | X85: 23 | Y85: 24 | Z85: 25 | AA85: 26 | AB85: 27 | AC85: 28 | AD85: 29 | AE85: 30 | AF85: 31 | AG85: 32 | AH85: 33 | AI85: 34 | AJ85: 35 | AK85: 36 | AL85: 37 | AM85: 38 | AN85: 39 | AO85: 40 | AP85: 41 | AQ85: 42 | AR85: 43 | AS85: 44 | AT85: 45 | AU85: 46 | AV85: 47 | AW85: 48 | AX85: 49

Sheet Pension2025
A1: 1 | B1: 2 | C1: 3 | D1: 4 | E1: 5 | F1: 6 | G1: 7 | H1: 8 | I1: 9 | J1: 10 | K1: 11 | L1: 12 | M1: 13 | N1: 14 | O1: 15 | P1: 16 | Q1: 17 | R1: 18 | S1: 19 | T1: 20 | U1: 21 | V1: 22 | W1: 23 | X1: 24 | Y1: 25 | Z1: 26 | AA1: 27 | AB1: 28 | AC1: 29 | AD1: 30 | AE1: 31 | AF1: 32 | AG1: 33 | AH1: 34 | AI1: 35 | AJ1: 36 | AK1: 37 | AL1: 38 | AM1: 39 | AN1: 40
B4: Pensionitulu 2025 | N4: Pensionisaajate arv 2025 | Z4: Keskmine pension 2025
A5: Omavalitsus | B5: 1 | C5: 2 | D5: 3 | E5: 4 | F5: 5 | G5: 6 | H5: 7 | I5: 8 | J5: 9 | K5: 10 | L5: 11 | M5: 12 | N5: 1 | O5: 2 | P5: 3 | Q5: 4 | R5: 5 | S5: 6 | T5: 7 | U5: 8 | V5: 9 | W5: 10 | X5: 11 | Y5: 12 | Z5: 1 | AA5: 2 | AB5: 3 | AC5: 4 | AD5: 5 | AE5: 6 | AF5: 7 | AG5: 8 | AH5: 9 | AI5: 10 | AJ5: 11 | AK5: 12 | AM5: Pensionitulu 1-12 | AN5: Pensionitulu 2024dets-2025nov
A6: Alutaguse vald | B6: 1072546 | C6: 1072753.6 | D6: 1078028 | E6: 1139886.8 | F6: 1142780.1 | G6: 1147981.3 | H6: 1146794.9 | I6: 1146620.3 | J6: 1150271.9 | K6: 1150204.9 | L6: 1150624.9 | M6: 1150211 | N6: 1389 | O6: 1392 | P6: 1395 | Q6: 1396 | R6: 1399 | S6: 1404 | T6: 1403 | U6: 1401 | V6: 1404 | W6: 1411 | X6: 1410 | Y6: 1409 | Z6: =ROUND(B6/N6,2) -> 772.17 | AA6: =ROUND(C6/O6,2) -> 770.66 | AB6: =ROUND(D6/P6,2) -> 772.78 | AC6: =ROUND(E6/Q6,2) -> 816.54 | AD6: =ROUND(F6/R6,2) -> 816.85 | AE6: =ROUND(G6/S6,2) -> 817.65 | AF6: =ROUND(H6/T6,2) -> 817.39 | AG6: =ROUND(I6/U6,2) -> 818.43 | ... AK6: =ROUND(M6/Y6,2) -> 816.33 | AM6: =SUM(B6:M6) -> 13548704 | AN6: =Pension2024!M6+SUM(B6:K6)+K6 -> 13458320
A7: Anija vald | B7: 1231878.8 | C7: 1230261.8 | D7: 1233218.7 | E7: 1311364.2 | F7: 1310202.1 | G7: 1314045.9 | H7: 1313061.6 | I7: 1317380.3 | J7: 1323737.6 | K7: 1319154.4 | L7: 1314331.9 | M7: 1319674.1 | N7: 1564 | O7: 1563 | P7: 1567 | Q7: 1577 | R7: 1573 | S7: 1578 | T7: 1576 | U7: 1575 | V7: 1583 | W7: 1581 | X7: 1576 | Y7: 1585 | Z7: =ROUND(B7/N7,2) -> 787.65 | AA7: =ROUND(C7/O7,2) -> 787.12 | AB7: =ROUND(D7/P7,2) -> 786.99 | AC7: =ROUND(E7/Q7,2) -> 831.56 | AD7: =ROUND(F7/R7,2) -> 832.93 | AE7: =ROUND(G7/S7,2) -> 832.73 | AF7: =ROUND(H7/T7,2) -> 833.16 | AG7: =ROUND(I7/U7,2) -> 836.43 | ... AK7: =ROUND(M7/Y7,2) -> 832.6 | AM7: =SUM(B7:M7) -> 15538311 | AN7: =Pension2024!M7+SUM(B7:K7)+K7 -> 15452523
A8: Antsla vald | B8: 880953.25 | C8: 876812.88 | D8: 879552.02 | E8: 927476.5 | F8: 925673.72 | G8: 925616.97 | H8: 924467.07 | I8: 921767.17 | J8: 923582.53 | K8: 922021.62 | L8: 913914.84 | M8: 915492.57 | N8: 1155 | O8: 1152 | P8: 1155 | Q8: 1153 | R8: 1150 | S8: 1150 | T8: 1148 | U8: 1144 | V8: 1147 | W8: 1147 | X8: 1136 | Y8: 1140 | Z8: =ROUND(B8/N8,2) -> 762.73 | AA8: =ROUND(C8/O8,2) -> 761.12 | AB8: =ROUND(D8/P8,2) -> 761.52 | AC8: =ROUND(E8/Q8,2) -> 804.4 | AD8: =ROUND(F8/R8,2) -> 804.93 | AE8: =ROUND(G8/S8,2) -> 804.88 | AF8: =ROUND(H8/T8,2) -> 805.28 | AG8: =ROUND(I8/U8,2) -> 805.74 | ... AK8: =ROUND(M8/Y8,2) -> 803.06 | AM8: =SUM(B8:M8) -> 10937331 | AN8: =Pension2024!M8+SUM(B8:K8)+K8 -> 10917170
A9: Elva vald | B9: 2675195.6 | C9: 2682353.9 | D9: 2681054.1 | E9: 2847660.4 | F9: 2852811.3 | G9: 2854276 | H9: 2851200.9 | I9: 2851402.2 | J9: 2857166.9 | K9: 2858069.4 | L9: 2852359.5 | M9: 2842846.5 | N9: 3439 | O9: 3445 | P9: 3446 | Q9: 3455 | R9: 3468 | S9: 3467 | T9: 3458 | U9: 3463 | V9: 3473 | W9: 3470 | X9: 3470 | Y9: 3463 | Z9: =ROUND(B9/N9,2) -> 777.9 | AA9: =ROUND(C9/O9,2) -> 778.62 | AB9: =ROUND(D9/P9,2) -> 778.02 | AC9: =ROUND(E9/Q9,2) -> 824.21 | AD9: =ROUND(F9/R9,2) -> 822.61 | AE9: =ROUND(G9/S9,2) -> 823.27 | AF9: =ROUND(H9/T9,2) -> 824.52 | AG9: =ROUND(I9/U9,2) -> 823.39 | ... AK9: =ROUND(M9/Y9,2) -> 820.92 | AM9: =SUM(B9:M9) -> 33706397 | AN9: =Pension2024!M9+SUM(B9:K9)+K9 -> 33552535
A10: Haapsalu linn | B10: 2949743.8 | C10: 2950651.2 | D10: 2956057.3 | E10: 3132617.8 | F10: 3134982.9 | G10: 3133256.7 | H10: 3140203 | I10: 3139711.9 | J10: 3141718.4 | K10: 3133036.2 | L10: 3127878.2 | M10: 3123118 | N10: 3701 | O10: 3704 | P10: 3702 | Q10: 3713 | R10: 3713 | S10: 3710 | T10: 3711 | U10: 3711 | V10: 3715 | W10: 3706 | X10: 3697 | Y10: 3696 | Z10: =ROUND(B10/N10,2) -> 797.01 | AA10: =ROUND(C10/O10,2) -> 796.61 | AB10: =ROUND(D10/P10,2) -> 798.5 | AC10: =ROUND(E10/Q10,2) -> 843.69 | AD10: =ROUND(F10/R10,2) -> 844.33 | AE10: =ROUND(G10/S10,2) -> 844.54 | AF10: =ROUND(H10/T10,2) -> 846.19 | AG10: =ROUND(I10/U10,2) -> 846.06 | ... AK10: =ROUND(M10/Y10,2) -> 845 | AM10: =SUM(B10:M10) -> 37062976 | AN10: =Pension2024!M10+SUM(B10:K10)+K10 -> 36881042
A11: Haljala vald | B11: 934030.56 | C11: 934141.12 | D11: 939452.91 | E11: 993646.43 | F11: 991765.92 | G11: 988950.86 | H11: 990124.84 | I11: 987322.23 | J11: 993858.14 | K11: 980751.71 | L11: 981981.56 | M11: 979191.62 | N11: 1168 | O11: 1169 | P11: 1173 | Q11: 1177 | R11: 1178 | S11: 1171 | T11: 1171 | U11: 1169 | V11: 1169 | W11: 1162 | X11: 1162 | Y11: 1162 | Z11: =ROUND(B11/N11,2) -> 799.68 | AA11: =ROUND(C11/O11,2) -> 799.09 | AB11: =ROUND(D11/P11,2) -> 800.9 | AC11: =ROUND(E11/Q11,2) -> 844.22 | AD11: =ROUND(F11/R11,2) -> 841.91 | AE11: =ROUND(G11/S11,2) -> 844.54 | AF11: =ROUND(H11/T11,2) -> 845.54 | AG11: =ROUND(I11/U11,2) -> 844.59 | ... AK11: =ROUND(M11/Y11,2) -> 842.68 | AM11: =SUM(B11:M11) -> 11695218 | AN11: =Pension2024!M11+SUM(B11:K11)+K11 -> 11646666
A12: Harku vald | B12: 2197404.1 | C12: 2203519 | D12: 2214025.6 | E12: 2349924.8 | F12: 2355801.2 | G12: 2356726 | H12: 2363252 | I12: 2365653.2 | J12: 2378000.6 | K12: 2384354.9 | L12: 2377153.2 | M12: 2379841.9 | N12: 2518 | O12: 2525 | P12: 2533 | Q12: 2541 | R12: 2551 | S12: 2553 | T12: 2550 | U12: 2554 | V12: 2564 | W12: 2574 | X12: 2569 | Y12: 2574 | Z12: =ROUND(B12/N12,2) -> 872.68 | AA12: =ROUND(C12/O12,2) -> 872.68 | AB12: =ROUND(D12/P12,2) -> 874.07 | AC12: =ROUND(E12/Q12,2) -> 924.8 | AD12: =ROUND(F12/R12,2) -> 923.48 | AE12: =ROUND(G12/S12,2) -> 923.12 | AF12: =ROUND(H12/T12,2) -> 926.77 | AG12: =ROUND(I12/U12,2) -> 926.25 | ... AK12: =ROUND(M12/Y12,2) -> 924.57 | AM12: =SUM(B12:M12) -> 27925656 | AN12: =Pension2024!M12+SUM(B12:K12)+K12 -> 27718669
A13: Hiiumaa vald | B13: 2180169.1 | C13: 2191304.6 | D13: 2191789.9 | E13: 2329565.1 | F13: 2330585.3 | G13: 2327361.7 | H13: 2341248.4 | I13: 2334355.5 | J13: 2339225.7 | K13: 2338977.4 | L13: 2333838.1 | M13: 2332802.5 | N13: 2671 | O13: 2679 | P13: 2682 | Q13: 2694 | R13: 2695 | S13: 2687 | T13: 2692 | U13: 2696 | V13: 2698 | W13: 2703 | X13: 2700 | Y13: 2697 | Z13: =ROUND(B13/N13,2) -> 816.24 | AA13: =ROUND(C13/O13,2) -> 817.96 | AB13: =ROUND(D13/P13,2) -> 817.22 | AC13: =ROUND(E13/Q13,2) -> 864.72 | AD13: =ROUND(F13/R13,2) -> 864.78 | AE13: =ROUND(G13/S13,2) -> 866.16 | AF13: =ROUND(H13/T13,2) -> 869.71 | AG13: =ROUND(I13/U13,2) -> 865.86 | ... AK13: =ROUND(M13/Y13,2) -> 864.96 | AM13: =SUM(B13:M13) -> 27571223 | AN13: =Pension2024!M13+SUM(B13:K13)+K13 -> 27408767
A14: Häädemeeste vald | B14: 918284.07 | C14: 918972.66 | D14: 918150.99 | E14: 972632 | F14: 979532.89 | G14: 979944.36 | H14: 982629.79 | I14: 982993.01 | J14: 985988.05 | K14: 985642.85 | L14: 983065.97 | M14: 982847 | N14: 1189 | O14: 1188 | P14: 1188 | Q14: 1189 | R14: 1195 | S14: 1197 | T14: 1199 | U14: 1202 | V14: 1204 | W14: 1205 | X14: 1201 | Y14: 1202 | Z14: =ROUND(B14/N14,2) -> 772.32 | AA14: =ROUND(C14/O14,2) -> 773.55 | AB14: =ROUND(D14/P14,2) -> 772.85 | AC14: =ROUND(E14/Q14,2) -> 818.03 | AD14: =ROUND(F14/R14,2) -> 819.69 | AE14: =ROUND(G14/S14,2) -> 818.67 | AF14: =ROUND(H14/T14,2) -> 819.54 | AG14: =ROUND(I14/U14,2) -> 817.8 | ... AK14: =ROUND(M14/Y14,2) -> 817.68 | AM14: =SUM(B14:M14) -> 11590684 | AN14: =Pension2024!M14+SUM(B14:K14)+K14 -> 11523601
A15: Jõelähtme vald | B15: 1131551.4 | C15: 1132795 | D15: 1140952.8 | E15: 1206759.4 | F15: 1210718.6 | G15: 1212633.6 | H15: 1219781.5 | I15: 1219007 | J15: 1222872 | K15: 1224428.2 | L15: 1216085.4 | M15: 1220767.9 | N15: 1350 | O15: 1353 | P15: 1362 | Q15: 1363 | R15: 1375 | S15: 1373 | T15: 1377 | U15: 1378 | V15: 1383 | W15: 1384 | X15: 1378 | Y15: 1384 | Z15: =ROUND(B15/N15,2) -> 838.19 | AA15: =ROUND(C15/O15,2) -> 837.25 | AB15: =ROUND(D15/P15,2) -> 837.7 | AC15: =ROUND(E15/Q15,2) -> 885.37 | AD15: =ROUND(F15/R15,2) -> 880.52 | AE15: =ROUND(G15/S15,2) -> 883.2 | AF15: =ROUND(H15/T15,2) -> 885.83 | AG15: =ROUND(I15/U15,2) -> 884.62 | ... AK15: =ROUND(M15/Y15,2) -> 882.06 | AM15: =SUM(B15:M15) -> 14358353 | AN15: =Pension2024!M15+SUM(B15:K15)+K15 -> 14276690
A16: Jõgeva vald | B16: 2770255.7 | C16: 2761056.1 | D16: 2760962 | E16: 2916254.8 | F16: 2918082.4 | G16: 2909361 | H16: 2921647.7 | I16: 2921711.2 | J16: 2926857.4 | K16: 2914409 | L16: 2906343.2 | M16: 2916811.4 | N16: 3532 | O16: 3522 | P16: 3530 | Q16: 3521 | R16: 3523 | S16: 3510 | T16: 3520 | U16: 3526 | V16: 3534 | W16: 3514 | X16: 3509 | Y16: 3509 | Z16: =ROUND(B16/N16,2) -> 784.33 | AA16: =ROUND(C16/O16,2) -> 783.95 | AB16: =ROUND(D16/P16,2) -> 782.14 | AC16: =ROUND(E16/Q16,2) -> 828.25 | AD16: =ROUND(F16/R16,2) -> 828.29 | AE16: =ROUND(G16/S16,2) -> 828.88 | AF16: =ROUND(H16/T16,2) -> 830.01 | AG16: =ROUND(I16/U16,2) -> 828.62 | ... AK16: =ROUND(M16/Y16,2) -> 831.24 | AM16: =SUM(B16:M16) -> 34543752 | AN16: =Pension2024!M16+SUM(B16:K16)+K16 -> 34401327
A17: Jõhvi vald | B17: 3833564.8 | C17: 3824624.7 | D17: 3828519 | E17: 4050214.3 | F17: 4058890.5 | G17: 4066418.5 | H17: 4072513.1 | I17: 4068254.3 | J17: 4075252.4 | K17: 4076350.9 | L17: 4066539.9 | M17: 4060168.2 | N17: 4816 | O17: 4803 | P17: 4813 | Q17: 4812 | R17: 4820 | S17: 4828 | T17: 4829 | U17: 4830 | V17: 4839 | W17: 4835 | X17: 4828 | Y17: 4827 | Z17: =ROUND(B17/N17,2) -> 796.01 | AA17: =ROUND(C17/O17,2) -> 796.3 | AB17: =ROUND(D17/P17,2) -> 795.45 | AC17: =ROUND(E17/Q17,2) -> 841.69 | AD17: =ROUND(F17/R17,2) -> 842.09 | AE17: =ROUND(G17/S17,2) -> 842.26 | AF17: =ROUND(H17/T17,2) -> 843.35 | AG17: =ROUND(I17/U17,2) -> 842.29 | ... AK17: =ROUND(M17/Y17,2) -> 841.14 | AM17: =SUM(B17:M17) -> 48081311 | AN17: =Pension2024!M17+SUM(B17:K17)+K17 -> 47847232
... A84: Aadressita | B84: 38084.75 | C84: 5764.36 | D84: 22629.5 | E84: 22629.12 | F84: 34855.73 | G84: 40714.97 | H84: -7334.6 | I84: 43947.05 | J84: 54176.88 | K84: 61430.33 | L84: 48596.06 | M84: 72051.78 | N84: 114 | O84: 72 | P84: 75 | Q84: 82 | R84: 92 | S84: 95 | T84: 110 | U84: 115 | V84: 120 | W84: 135 | X84: 158 | Y84: 158 | Z84: =ROUND(B84/N84,2) -> 334.08 | AA84: =ROUND(C84/O84,2) -> 80.06 | AB84: =ROUND(D84/P84,2) -> 301.73 | AC84: =ROUND(E84/Q84,2) -> 275.96 | AD84: =ROUND(F84/R84,2) -> 378.87 | AE84: =ROUND(G84/S84,2) -> 428.58 | AF84: =ROUND(H84/T84,2) -> -66.68 | AG84: =ROUND(I84/U84,2) -> 382.15 | ... AK84: =ROUND(M84/Y84,2) -> 456.02 | AM84: =SUM(B84:M84) -> 437545.93 | AN84: =Pension2024!M84+SUM(B84:K84)+K84 -> 462940.45
A85: KOKKU | B85: =SUM(B6:B84) -> 2.4535456e+08 | C85: =SUM(C6:C84) -> 2.4538812e+08 | D85: =SUM(D6:D84) -> 2.4580691e+08 | E85: =SUM(E6:E84) -> 2.6014192e+08 | F85: =SUM(F6:F84) -> 2.603552e+08 | G85: =SUM(G6:G84) -> 2.6053969e+08 | H85: =SUM(H6:H84) -> 2.6068918e+08 | I85: =SUM(I6:I84) -> 2.60739e+08 | ... Y85: =SUM(Y6:Y84) -> 311929 | Z85: =ROUND(B85/N85,2) -> 790.25 | AA85: =ROUND(C85/O85,2) -> 789.98 | AB85: =ROUND(D85/P85,2) -> 790.33 | AC85: =ROUND(E85/Q85,2) -> 835.87 | AD85: =ROUND(F85/R85,2) -> 835.82 | AE85: =ROUND(G85/S85,2) -> 836.24 | AF85: =ROUND(H85/T85,2) -> 837.05 | AG85: =ROUND(I85/U85,2) -> 836.76 | ... AK85: =ROUND(M85/Y85,2) -> 834.96 | AM85: =SUM(AM6:AM84) -> 3.0825015e+09 | AN85: =SUM(AN6:AN84) -> 3.0676531e+09
A86: Aadressita pensionitulu lisa | B86: =B85/SUM(B6:B83) -> 1.0001552 | C86: =C85/SUM(C6:C83) -> 1.0000235 | D86: =D85/SUM(D6:D83) -> 1.0000921 | E86: =E85/SUM(E6:E83) -> 1.000087 | F86: =F85/SUM(F6:F83) -> 1.0001339 | G86: =G85/SUM(G6:G83) -> 1.0001563 | H86: =H85/SUM(H6:H83) -> 0.99997187 | I86: =I85/SUM(I6:I83) -> 1.0001686 | ... M86: =M85/SUM(M6:M83) -> 1.0002767

Sheet Pension2026
A1: 1 | B1: 2 | C1: 3 | D1: 4 | E1: 5 | F1: 6 | G1: 7 | H1: 8 | I1: 9 | J1: 10 | K1: 11 | L1: 12 | M1: 13 | N1: 14 | O1: 15 | P1: 16 | Q1: 17 | R1: 18 | S1: 19 | T1: 20 | U1: 21 | V1: 22 | W1: 23 | X1: 24 | Y1: 25 | Z1: 26 | AA1: 27 | AB1: 28 | AC1: 29 | AD1: 30 | AE1: 31 | AF1: 32 | AG1: 33 | AH1: 34 | AI1: 35 | AJ1: 36 | AK1: 37 | AL1: 38 | AM1: 39
B4: Pensionitulu 2026 | N4: Pensionisaajate arv 2026 | Z4: Keskmine pension 2026
A5: Omavalitsus | B5: 1 | C5: 2 | D5: 3 | E5: 4 | F5: 5 | G5: 6 | H5: 7 | I5: 8 | J5: 9 | K5: 10 | L5: 11 | M5: 12 | N5: 1 | O5: 2 | P5: 3 | Q5: 4 | R5: 5 | S5: 6 | T5: 7 | U5: 8 | V5: 9 | W5: 10 | X5: 11 | Y5: 12 | Z5: 1 | AA5: 2 | AB5: 3 | AC5: 4 | AD5: 5 | AE5: 6 | AF5: 7 | AG5: 8 | AH5: 9 | AI5: 10 | AJ5: 11 | AK5: 12 | AM5: Pensionitulu 1-12
A6: Alutaguse vald | B6: 1170510.4 | C6: 1172111.4 | D6: 1165059.3 | E6: 1232544.5 | F6: 1231545.3 | G6: 1233931.3 | H6: 1232368.2 | I6: 1230411.5 | N6: 1428 | O6: 1427 | P6: 1425 | Q6: 1426 | R6: 1426 | S6: 1428 | T6: 1425 | U6: 1422 | Z6: =ROUND(B6/N6,2) -> 819.69 | AA6: =ROUND(C6/O6,2) -> 821.38 | AB6: =ROUND(D6/P6,2) -> 817.59 | AC6: =ROUND(E6/Q6,2) -> 864.34 | AD6: =ROUND(F6/R6,2) -> 863.64 | AE6: =ROUND(G6/S6,2) -> 864.1 | AF6: =ROUND(H6/T6,2) -> 864.82 | AG6: =ROUND(I6/U6,2) -> 865.27 | ... AK6: =ROUND(M6/Y6,2) -> #DIV/0! | AM6: =SUM(B6:M6) -> 9668481.8
A7: Anija vald | B7: 1318638.3 | C7: 1319911.3 | D7: 1322936 | E7: 1397543 | F7: 1399987.6 | G7: 1404367.4 | H7: 1413336.2 | I7: 1414401.4 | N7: 1588 | O7: 1590 | P7: 1593 | Q7: 1594 | R7: 1598 | S7: 1602 | T7: 1610 | U7: 1612 | Z7: =ROUND(B7/N7,2) -> 830.38 | AA7: =ROUND(C7/O7,2) -> 830.13 | AB7: =ROUND(D7/P7,2) -> 830.47 | AC7: =ROUND(E7/Q7,2) -> 876.75 | AD7: =ROUND(F7/R7,2) -> 876.09 | AE7: =ROUND(G7/S7,2) -> 876.63 | AF7: =ROUND(H7/T7,2) -> 877.85 | AG7: =ROUND(I7/U7,2) -> 877.42 | ... AK7: =ROUND(M7/Y7,2) -> #DIV/0! | AM7: =SUM(B7:M7) -> 10991121
A8: Antsla vald | B8: 924212.09 | C8: 919458.34 | D8: 919813.39 | E8: 972175.45 | F8: 972130.91 | G8: 972920.75 | H8: 972102.35 | I8: 973344.15 | N8: 1145 | O8: 1140 | P8: 1140 | Q8: 1143 | R8: 1148 | S8: 1147 | T8: 1144 | U8: 1145 | Z8: =ROUND(B8/N8,2) -> 807.17 | AA8: =ROUND(C8/O8,2) -> 806.54 | AB8: =ROUND(D8/P8,2) -> 806.85 | AC8: =ROUND(E8/Q8,2) -> 850.55 | AD8: =ROUND(F8/R8,2) -> 846.8 | AE8: =ROUND(G8/S8,2) -> 848.23 | AF8: =ROUND(H8/T8,2) -> 849.74 | AG8: =ROUND(I8/U8,2) -> 850.08 | ... AK8: =ROUND(M8/Y8,2) -> #DIV/0! | AM8: =SUM(B8:M8) -> 7626157.4
A9: Elva vald | B9: 2830840.1 | C9: 2831326.1 | D9: 2824304.9 | E9: 2984564.1 | F9: 2988641 | G9: 2995609.3 | H9: 3010723 | I9: 3007147.5 | N9: 3446 | O9: 3445 | P9: 3439 | Q9: 3445 | R9: 3453 | S9: 3460 | T9: 3460 | U9: 3466 | Z9: =ROUND(B9/N9,2) -> 821.49 | AA9: =ROUND(C9/O9,2) -> 821.87 | AB9: =ROUND(D9/P9,2) -> 821.26 | AC9: =ROUND(E9/Q9,2) -> 866.35 | AD9: =ROUND(F9/R9,2) -> 865.52 | AE9: =ROUND(G9/S9,2) -> 865.78 | AF9: =ROUND(H9/T9,2) -> 870.15 | AG9: =ROUND(I9/U9,2) -> 867.61 | ... AK9: =ROUND(M9/Y9,2) -> #DIV/0! | AM9: =SUM(B9:M9) -> 23473156
A10: Haapsalu linn | B10: 3155044.5 | C10: 3154000.6 | D10: 3161627.4 | E10: 3344914 | F10: 3339752.3 | G10: 3337369.6 | H10: 3330823 | I10: 3337749.3 | N10: 3726 | O10: 3720 | P10: 3722 | Q10: 3727 | R10: 3729 | S10: 3732 | T10: 3726 | U10: 3732 | Z10: =ROUND(B10/N10,2) -> 846.76 | AA10: =ROUND(C10/O10,2) -> 847.85 | AB10: =ROUND(D10/P10,2) -> 849.44 | AC10: =ROUND(E10/Q10,2) -> 897.48 | AD10: =ROUND(F10/R10,2) -> 895.62 | AE10: =ROUND(G10/S10,2) -> 894.26 | AF10: =ROUND(H10/T10,2) -> 893.94 | AG10: =ROUND(I10/U10,2) -> 894.36 | ... AK10: =ROUND(M10/Y10,2) -> #DIV/0! | AM10: =SUM(B10:M10) -> 26161281
A11: Haljala vald | B11: 976145.18 | C11: 973096.09 | D11: 970952.97 | E11: 1022652.1 | F11: 1028220.4 | G11: 1027336.6 | H11: 1040468.4 | I11: 1035709.5 | N11: 1163 | O11: 1159 | P11: 1159 | Q11: 1159 | R11: 1161 | S11: 1159 | T11: 1171 | U11: 1168 | Z11: =ROUND(B11/N11,2) -> 839.33 | AA11: =ROUND(C11/O11,2) -> 839.6 | AB11: =ROUND(D11/P11,2) -> 837.75 | AC11: =ROUND(E11/Q11,2) -> 882.36 | AD11: =ROUND(F11/R11,2) -> 885.63 | AE11: =ROUND(G11/S11,2) -> 886.4 | AF11: =ROUND(H11/T11,2) -> 888.53 | AG11: =ROUND(I11/U11,2) -> 886.74 | ... AK11: =ROUND(M11/Y11,2) -> #DIV/0! | AM11: =SUM(B11:M11) -> 8074581.2
A12: Harku vald | B12: 2395868.8 | C12: 2397774 | D12: 2399779.9 | E12: 2541214.9 | F12: 2544740.6 | G12: 2553804.3 | H12: 2565325.2 | I12: 2569198.8 | N12: 2591 | O12: 2592 | P12: 2596 | Q12: 2606 | R12: 2606 | S12: 2612 | T12: 2624 | U12: 2629 | Z12: =ROUND(B12/N12,2) -> 924.69 | AA12: =ROUND(C12/O12,2) -> 925.07 | AB12: =ROUND(D12/P12,2) -> 924.41 | AC12: =ROUND(E12/Q12,2) -> 975.14 | AD12: =ROUND(F12/R12,2) -> 976.49 | AE12: =ROUND(G12/S12,2) -> 977.72 | AF12: =ROUND(H12/T12,2) -> 977.64 | AG12: =ROUND(I12/U12,2) -> 977.25 | ... AK12: =ROUND(M12/Y12,2) -> #DIV/0! | AM12: =SUM(B12:M12) -> 19967706
A13: Hiiumaa vald | B13: 2347235.8 | C13: 2345822.9 | D13: 2352508.6 | E13: 2482970.4 | F13: 2486052.4 | G13: 2512451.7 | H13: 2497814.7 | I13: 2507697.6 | N13: 2711 | O13: 2708 | P13: 2715 | Q13: 2718 | R13: 2723 | S13: 2727 | T13: 2739 | U13: 2743 | Z13: =ROUND(B13/N13,2) -> 865.82 | AA13: =ROUND(C13/O13,2) -> 866.26 | AB13: =ROUND(D13/P13,2) -> 866.49 | AC13: =ROUND(E13/Q13,2) -> 913.53 | AD13: =ROUND(F13/R13,2) -> 912.98 | AE13: =ROUND(G13/S13,2) -> 921.32 | AF13: =ROUND(H13/T13,2) -> 911.94 | AG13: =ROUND(I13/U13,2) -> 914.22 | ... AK13: =ROUND(M13/Y13,2) -> #DIV/0! | AM13: =SUM(B13:M13) -> 19532554
A14: Häädemeeste vald | B14: 998531.03 | C14: 998172.89 | D14: 996427.96 | E14: 1055953.1 | F14: 1057541.2 | G14: 1056164.9 | H14: 1056800.8 | I14: 1058425.9 | N14: 1223 | O14: 1220 | P14: 1219 | Q14: 1226 | R14: 1226 | S14: 1226 | T14: 1226 | U14: 1227 | Z14: =ROUND(B14/N14,2) -> 816.46 | AA14: =ROUND(C14/O14,2) -> 818.17 | AB14: =ROUND(D14/P14,2) -> 817.41 | AC14: =ROUND(E14/Q14,2) -> 861.3 | AD14: =ROUND(F14/R14,2) -> 862.59 | AE14: =ROUND(G14/S14,2) -> 861.47 | AF14: =ROUND(H14/T14,2) -> 861.99 | AG14: =ROUND(I14/U14,2) -> 862.61 | ... AK14: =ROUND(M14/Y14,2) -> #DIV/0! | AM14: =SUM(B14:M14) -> 8278017.8
A15: Jõelähtme vald | B15: 1228436.1 | C15: 1225564.4 | D15: 1229226.1 | E15: 1295973.7 | F15: 1288708 | G15: 1289727.2 | H15: 1293881.3 | I15: 1298400.7 | N15: 1391 | O15: 1390 | P15: 1392 | Q15: 1393 | R15: 1392 | S15: 1394 | T15: 1391 | U15: 1393 | Z15: =ROUND(B15/N15,2) -> 883.13 | AA15: =ROUND(C15/O15,2) -> 881.7 | AB15: =ROUND(D15/P15,2) -> 883.06 | AC15: =ROUND(E15/Q15,2) -> 930.35 | AD15: =ROUND(F15/R15,2) -> 925.8 | AE15: =ROUND(G15/S15,2) -> 925.2 | AF15: =ROUND(H15/T15,2) -> 930.18 | AG15: =ROUND(I15/U15,2) -> 932.09 | ... AK15: =ROUND(M15/Y15,2) -> #DIV/0! | AM15: =SUM(B15:M15) -> 10149918
A16: Jõgeva vald | B16: 2913895.4 | C16: 2906366.3 | D16: 2914343.7 | E16: 3080731 | F16: 3079325.5 | G16: 3086031.1 | H16: 3088456.6 | I16: 3094313.2 | N16: 3519 | O16: 3507 | P16: 3514 | Q16: 3520 | R16: 3532 | S16: 3535 | T16: 3534 | U16: 3540 | Z16: =ROUND(B16/N16,2) -> 828.05 | AA16: =ROUND(C16/O16,2) -> 828.73 | AB16: =ROUND(D16/P16,2) -> 829.35 | AC16: =ROUND(E16/Q16,2) -> 875.21 | AD16: =ROUND(F16/R16,2) -> 871.84 | AE16: =ROUND(G16/S16,2) -> 872.99 | AF16: =ROUND(H16/T16,2) -> 873.93 | AG16: =ROUND(I16/U16,2) -> 874.1 | ... AK16: =ROUND(M16/Y16,2) -> #DIV/0! | AM16: =SUM(B16:M16) -> 24163463
A17: Jõhvi vald | B17: 4058349.9 | C17: 4058274.7 | D17: 4050761.6 | E17: 4277073 | F17: 4282460.6 | G17: 4283866.3 | H17: 4287093.7 | I17: 4283340.1 | N17: 4821 | O17: 4821 | P17: 4807 | Q17: 4819 | R17: 4832 | S17: 4837 | T17: 4831 | U17: 4827 | Z17: =ROUND(B17/N17,2) -> 841.81 | AA17: =ROUND(C17/O17,2) -> 841.79 | AB17: =ROUND(D17/P17,2) -> 842.68 | AC17: =ROUND(E17/Q17,2) -> 887.54 | AD17: =ROUND(F17/R17,2) -> 886.27 | AE17: =ROUND(G17/S17,2) -> 885.65 | AF17: =ROUND(H17/T17,2) -> 887.41 | AG17: =ROUND(I17/U17,2) -> 887.37 | ... AK17: =ROUND(M17/Y17,2) -> #DIV/0! | AM17: =SUM(B17:M17) -> 33581220
... A84: Aadressita | B84: 22587.74 | C84: 5183.11 | D84: 7806.32 | E84: 17946.14 | F84: 21381.74 | G84: 30584.58 | H84: 33714.98 | I84: 14246.35 | N84: 100 | O84: 77 | P84: 75 | Q84: 77 | R84: 86 | S84: 97 | T84: 119 | U84: 127 | Z84: =ROUND(B84/N84,2) -> 225.88 | AA84: =ROUND(C84/O84,2) -> 67.31 | AB84: =ROUND(D84/P84,2) -> 104.08 | AC84: =ROUND(E84/Q84,2) -> 233.07 | AD84: =ROUND(F84/R84,2) -> 248.62 | AE84: =ROUND(G84/S84,2) -> 315.3 | AF84: =ROUND(H84/T84,2) -> 283.32 | AG84: =ROUND(I84/U84,2) -> 112.18 | ... AK84: =ROUND(M84/Y84,2) -> #DIV/0! | AM84: =SUM(B84:M84) -> 153450.96
A85: KOKKU | B85: =SUM(B6:B84) -> 2.6049001e+08 | C85: =SUM(C6:C84) -> 2.6040891e+08 | D85: =SUM(D6:D84) -> 2.6033026e+08 | E85: =SUM(E6:E84) -> 2.7475119e+08 | F85: =SUM(F6:F84) -> 2.7482249e+08 | G85: =SUM(G6:G84) -> 2.7508596e+08 | H85: =SUM(H6:H84) -> 2.7524181e+08 | I85: =SUM(I6:I84) -> 2.7529768e+08 | ... Y85: =SUM(Y6:Y84) -> 0 | Z85: =ROUND(B85/N85,2) -> 835.08 | AA85: =ROUND(C85/O85,2) -> 835.37 | AB85: =ROUND(D85/P85,2) -> 835.41 | AC85: =ROUND(E85/Q85,2) -> 880.65 | AD85: =ROUND(F85/R85,2) -> 880.4 | AE85: =ROUND(G85/S85,2) -> 880.68 | AF85: =ROUND(H85/T85,2) -> 881.61 | AG85: =ROUND(I85/U85,2) -> 881.3 | ... AK85: =ROUND(M85/Y85,2) -> #DIV/0! | AM85: =SUM(AM6:AM84) -> 2.1564283e+09
A86: Aadressita pensionitulu lisa | B86: =B85/SUM(B6:B83) -> 1.0000867 | C86: =C85/SUM(C6:C83) -> 1.0000199 | D86: =D85/SUM(D6:D83) -> 1.00003 | E86: =E85/SUM(E6:E83) -> 1.0000653 | F86: =F85/SUM(F6:F83) -> 1.0000778 | G86: =G85/SUM(G6:G83) -> 1.0001112 | H86: =H85/SUM(H6:H83) -> 1.0001225 | I86: =I85/SUM(I6:I83) -> 1.0000518 | ... M86: =M85/SUM(M6:M83) -> #DIV/0!

Sheet INFOKS
A1: Faili kasutusotstarve
A3: Fail võimaldab saada ülevaadet peamistest teguritest, mis kohaliku omavalitsuse üksuse tulumaksu laekumise määrab, ning KOV-il koostada selle alusel kohaliku omavalitsuse 2026. aasta tulumaksu prognoosi.
A4: Kui omavalitsus rohelisi lahtreid kohapealsetele oludele vastavaks ei kohenda, siis tulemus saab olema selle võrra teistsugune.
A6: Kuidas kasutada
A8: Lehel "arvestus" tuleb lahtris B2 valida kohalik omavalitsus.
A27: Esialgse prognoosi saamiseks täida/muuda rohelised lahtrid (sisesta muutuse % võrreldes eelmise eelarveaastaga). Arvesta, et kõik tulumaks ei laeku, sest ettevõtetel tekib ka võlgnevusi. Rohelisi lahtreid üle vaatamata ei kohandu prognoos vastavaks kohapealsetele oludele.
A34: Täpsemate analüüside tegemiseks on võimalik kasvuprotsendi asemel sisestada ka maksumaksjate arvusid või muuta nende keskmist sissetulekut ka tabelites, mis algavad rida 41 ja 57. Muuda üksnes siniseid numbreid.
A48: Tabel ei elimineeri andmetest välja ühekordseid laekumisi. Seetõttu oleks väga soovitatav kohalikul omavalitsused jälgida ka VMS tabelitest makseliigiti laekumisi, et selliseid laekumisi tuvastada ning prognoosi vastavalt kohendada (st baasalust vähendada, kui ei saa eeldada, et see ühekordne laekumine ka järgnevatel aastatel tuleb).
A49: https://agri.ee/regionaalareng-planeeringud/kohalikud-omavalitsused/finantskorraldus#finantsulevaated
A50: Otsi lehelt välja fail: Väljamaksete andmete graafikud. Ühekordsetest erakorralistest laekumistest võib anda vihjed seal olevad graafikud või siis peidetud lehe"KOV" tululiigiti andmete uurimine.
A51: Näide tõenäolisest erakorralisest ühekordsest laekumisest:
A84: Arvestustabelis on näha, et algandmete pealt arvutatud tulumaks ja tegelik tulumaks ei lähe täpselt kokku. Keskmine aastane erinevus kõigi KOV-de peale kokku on ca 0,1%. Põhjus on selles, et tabeli arvestusi ei tehta reaalajas maksuandmete alusel. Excelis on mingi konkreetse hetke seisuga tehtud andmete väljavõte, mis ei muutu, aga maksuandmetes teevad ettevõtted edasi pidevaid muudatusi, mis mõjutavad maksulaekumisi. Eelmiste aastate andmeid VMS exceli tabelites ei uuendata. Jooksva aasta andmeid uuendatakse ka tagant järgi, üldjuhul suurenemise suunas. Arvutustes on jagatud VMS andmed kaheks olenevalt mis need olid esialgsena ja kuidas need on hilisematel kuudel muutunud.
... A86: Informatiivsena on esitatud ka, et milline on olnud täiendava KOV tulumaksu määrade muutmise (11,89%->11,29%; 2,5%->5,5%) mõju KOV tulumaksu laekumisele 2025. aastal.

Sheet Arvestus
A1: Alutaguse vald | B1: VALI OMAVALITSUS | D1: Maksumaksjate KUU KESKMISE TULU muutus (%) | K1: Tulu SAAJATE ARVU muutus (%) | R1: Võlamäär (jääb laekumata)
A2: Anija vald | B2: KOKKU | E2: 2024 | F2: 2025 | G2: 2026 veb-aug | H2: 2026 | I2: 2027 | L2: 2024 | M2: 2025 | N2: 2026 veb-aug | O2: 2026 | P2: 2027 | R2: 2026-2027
A3: Antsla vald | D3: Pensionitulu | E3: =M77 -> 0.11399962 | F3: =N77 -> 0.067919647 | G3: =SUM(F33:F40)/SUM(F49:F56)/(SUM(E33:E40)/SUM(E49:E56))-1 -> 0.054653602 | H3: =O70 -> 0.053140652 | I3: 0.051 | K3: Pensioni saajad | L3: =SUM(D49:D60)/SUM(C49:C60)-1 -> 0.0044878244 | M3: =SUM(E49:E60)/SUM(D49:D60)-1 -> 0.0052399717 | N3: =SUM(F49:F56)/SUM(E49:E56)-1 -> 0.0027781259 | O3: =N3 -> 0.0027781259 | P3: =O3-0.002 -> 0.00077812591 | R3: 0.002
A4: Elva vald | B4: Täida rohelisega ruudud: | D4: Palk ja muu tulu | E4: =Q77 -> 0.081011047 | F4: =R77 -> 0.055608001 | G4: =SUM(K34:K40)/SUM(K50:K56)/(SUM(J34:J40)/SUM(J50:J56))-1 -> 0.04805502 | H4: =G4 -> 0.04805502 | I4: 0.047 | K4: Palga ja muu tulu saajad | L4: =SUM(I49:I60)/SUM(H49:H60)-1 -> -0.0059281432 | M4: =SUM(J49:J60)/SUM(I49:I60)-1 -> -0.0052299758 | N4: =SUM(K50:K56)/SUM(J50:J56)-1 -> 0.006517163 | O4: =N4 -> 0.006517163 | P4: =O4 -> 0.006517163
A5: Haapsalu linn
A6: Haljala vald | C6: eurodes | H6: kasv %
A7: Harku vald | B7: Tulumaks aastati | C7: 2023 | D7: 2024 | E7: 2025 | F7: 2026 | G7: 2027 | H7: 2024 | I7: 2025 | J7: 2026 | K7: 2027
A8: Hiiumaa vald | B8: Pensionitulult | C8: =SUM(D114:D125) -> 0 | D8: =SUM(D127:D138) -> 65660899 | E8: =SUM(D140:D151) -> 1.613372e+08 | F8: =SUM(D153:D164) -> 2.6791101e+08 | G8: =SUM(D166:D177) -> 3.4456389e+08 | H8: - | I8: =E8/D8-1 -> 1.4571275 | J8: =F8/E8-1 -> 0.66056559 | K8: =G8/F8-1 -> 0.28611324
A9: Häädemeeste vald | B9: Palgalt ja muult tulult | C9: =SUM(E114:I125)+SUM(L114:L125) -> 1688520925 | D9: =SUM(E127:I138)+SUM(L127:L138) -> 1.802702e+09 | E9: =SUM(E140:I151)+SUM(L140:L151) -> 1.8205546e+09 | F9: =SUM(E153:I164)+SUM(L153:L164) -> 1.8063861e+09 | G9: =SUM(E166:I177)+SUM(L166:L177) -> 1.8258171e+09 | H9: =D9/C9-1 -> 0.067621978 | I9: =E9/D9-1 -> 0.0099031921 | J9: =F9/E9-1 -> -0.0077824839 | K9: =G9/F9-1 -> 0.010756809
A10: Jõelähtme vald | B10: KOKKU | C10: =SUM(C8:C9) -> 1688520925 | D10: =SUM(D8:D9) -> 1.8683629e+09 | E10: =SUM(E8:E9) -> 1.9818918e+09 | F10: =SUM(F8:F9) -> 2.0742971e+09 | G10: =SUM(G8:G9) -> 2.170381e+09 | H10: =D10/C10-1 -> 0.10650861 | I10: =E10/D10-1 -> 0.060763787 | J10: =F10/E10-1 -> 0.046624831 | K10: =G10/F10-1 -> 0.046321154
A11: Jõgeva vald | B11: muutus yoy, eurot | D11: =D10-C10 -> 1.7984202e+08 | E11: =E10-D10 -> 1.1352881e+08 | F11: =F10-E10 -> 92405368 | G11: =G10-F10 -> 96083836
A12: Jõhvi vald
A13: Järva vald
A14: Kadrina vald
A15: Kambja vald
A16: Kanepi vald
A17: Kastre vald
A18: Kehtna vald
A19: Keila linn
A20: Kihnu vald
A21: Kiili vald
A22: Kohila vald
A23: Kohtla-Järve linn
... A29: Lääne-Nigula vald
A30: Lääneranna vald | B30: ALGANDMED
A31: Lüganuse vald | B31: Isikute brutotulu (TSD esialgne) | C31: Pensionitulu (Eesti riiklik pension) | H31: Palk ja muu tulu | M31: Pensionitulu muutus | Q31: Palga ja muu tulu muutus
A32: Maardu linn | C32: 2023 | D32: 2024 | E32: 2025 | F32: 2026 | G32: 2027 | H32: 2023 | I32: 2024 | J32: 2025 | K32: 2026 | L32: 2027 | M32: 2024 | N32: 2025 | O32: 2026 | P32: 2027 | Q32: 2024 | R32: 2025 | S32: 2026 | T32: 2027
A33: Muhu vald | B33: 1 | C33: =VLOOKUP($B$2,Pension2023!$A$6:$AK$85,Pension2023!B$1,FALSE) -> 1.9396088e+08 | D33: =VLOOKUP($B$2,Pension2024!$A$6:$AK$85,Pension2024!B$1,FALSE) -> 2.2145318e+08 | E33: =VLOOKUP($B$2,Pension2025!$A$6:$AK$85,Pension2025!B$1,FALSE) -> 2.4535456e+08 | F33: =VLOOKUP($B$2,Pension2026!$A$6:$AK$85,Pension2026!B$1,FALSE) -> 2.6049001e+08 | G33: =G49*G65 -> 2.7454608e+08 | H33: =VLOOKUP($B$2,'VMS algne'!$C$3:$AA$82,'VMS algne'!D$84,FALSE) -> 1.0853865e+09 | I33: =VLOOKUP($B$2,'VMS algne'!$C$3:$AA$82,'VMS algne'!P$84,FALSE) -> 1.1728986e+09 | J33: =VLOOKUP($B$2,'VMS algne'!$C$3:$CA$82,'VMS algne'!AB$84,FALSE) -> 1.2265239e+09 | K33: =VLOOKUP($B$2,'VMS algne'!$C$3:$CA$82,'VMS algne'!AN$84,FALSE) -> 1.3212669e+09 | L33: =L49*L65 -> 1.3923821e+09 | M33: =D33/C33-1 -> 0.14174144 | N33: =E33/D33-1 -> 0.10792975 | O33: =F33/E33-1 -> 0.061688068 | P33: =G33/F33-1 -> 0.053960128 | Q33: =I33/H33-1 -> 0.08062756 | R33: =J33/I33-1 -> 0.045720329 | S33: =K33/J33-1 -> 0.077245156 | T33: =L33/K33-1 -> 0.05382347
A34: Mulgi vald | B34: 2 | C34: =VLOOKUP($B$2,Pension2023!$A$6:$AK$85,Pension2023!C$1,FALSE) -> 1.9374914e+08 | D34: =VLOOKUP($B$2,Pension2024!$A$6:$AK$85,Pension2024!C$1,FALSE) -> 2.2144558e+08 | E34: =VLOOKUP($B$2,Pension2025!$A$6:$AK$85,Pension2025!C$1,FALSE) -> 2.4538812e+08 | F34: =VLOOKUP($B$2,Pension2026!$A$6:$AK$85,Pension2026!C$1,FALSE) -> 2.6040891e+08 | G34: =G50*G66 -> 2.7446061e+08 | H34: =VLOOKUP($B$2,'VMS algne'!$C$3:$AA$82,'VMS algne'!E$84,FALSE) -> 1.0930748e+09 | I34: =VLOOKUP($B$2,'VMS algne'!$C$3:$AA$82,'VMS algne'!Q$84,FALSE) -> 1.1731414e+09 | J34: =VLOOKUP($B$2,'VMS algne'!$C$3:$CA$82,'VMS algne'!AC$84,FALSE) -> 1.246853e+09 | K34: =VLOOKUP($B$2,'VMS algne'!$C$3:$CA$82,'VMS algne'!AO$84,FALSE) -> 1.3076168e+09 | L34: =L50*L66 -> 1.3779973e+09 | M34: =D34/C34-1 -> 0.14295001 | N34: =E34/D34-1 -> 0.10811929 | O34: =F34/E34-1 -> 0.061212385 | P34: =G34/F34-1 -> 0.053960128 | Q34: =I34/H34-1 -> 0.073248979 | R34: =J34/I34-1 -> 0.062832716 | S34: =K34/J34-1 -> 0.048733733 | T34: =L34/K34-1 -> 0.05382347
A35: Mustvee vald | B35: 3 | C35: =VLOOKUP($B$2,Pension2023!$A$6:$AK$85,Pension2023!D$1,FALSE) -> 1.9405884e+08 | D35: =VLOOKUP($B$2,Pension2024!$A$6:$AK$85,Pension2024!D$1,FALSE) -> 2.2148038e+08 | E35: =VLOOKUP($B$2,Pension2025!$A$6:$AK$85,Pension2025!D$1,FALSE) -> 2.4580691e+08 | F35: =VLOOKUP($B$2,Pension2026!$A$6:$AK$85,Pension2026!D$1,FALSE) -> 2.6033026e+08 | G35: =G51*G67 -> 2.7437772e+08 | H35: =VLOOKUP($B$2,'VMS algne'!$C$3:$AA$82,'VMS algne'!F$84,FALSE) -> 1.1147673e+09 | I35: =VLOOKUP($B$2,'VMS algne'!$C$3:$AA$82,'VMS algne'!R$84,FALSE) -> 1.2077535e+09 | J35: =VLOOKUP($B$2,'VMS algne'!$C$3:$CA$82,'VMS algne'!AD$84,FALSE) -> 1.2752768e+09 | K35: =VLOOKUP($B$2,'VMS algne'!$C$3:$CA$82,'VMS algne'!AP$84,FALSE) -> 1.346862e+09 | L35: =L51*L67 -> 1.4193548e+09 | M35: =D35/C35-1 -> 0.14130529 | N35: =E35/D35-1 -> 0.10983609 | O35: =F35/E35-1 -> 0.059084378 | P35: =G35/F35-1 -> 0.053960128 | Q35: =I35/H35-1 -> 0.08341313 | R35: =J35/I35-1 -> 0.05590814 | S35: =K35/J35-1 -> 0.056133109 | T35: =L35/K35-1 -> 0.05382347
A36: Märjamaa vald | B36: 4 | C36: =VLOOKUP($B$2,Pension2023!$A$6:$AK$85,Pension2023!E$1,FALSE) -> 2.2088842e+08 | D36: =VLOOKUP($B$2,Pension2024!$A$6:$AK$85,Pension2024!E$1,FALSE) -> 2.452131e+08 | E36: =VLOOKUP($B$2,Pension2025!$A$6:$AK$85,Pension2025!E$1,FALSE) -> 2.6014192e+08 | F36: =VLOOKUP($B$2,Pension2026!$A$6:$AK$85,Pension2026!E$1,FALSE) -> 2.7475119e+08 | G36: =G52*G68 -> 2.8898819e+08 | H36: =VLOOKUP($B$2,'VMS algne'!$C$3:$AA$82,'VMS algne'!G$84,FALSE) -> 1.1831833e+09 | I36: =VLOOKUP($B$2,'VMS algne'!$C$3:$AA$82,'VMS algne'!S$84,FALSE) -> 1.2570204e+09 | J36: =VLOOKUP($B$2,'VMS algne'!$C$3:$CA$82,'VMS algne'!AE$84,FALSE) -> 1.3381746e+09 | K36: =VLOOKUP($B$2,'VMS algne'!$C$3:$CA$82,'VMS algne'!AQ$84,FALSE) -> 1.4082628e+09 | L36: =L52*L68 -> 1.4840604e+09 | M36: =D36/C36-1 -> 0.11012202 | N36: =E36/D36-1 -> 0.060880992 | O36: =F36/E36-1 -> 0.056158856 | P36: =G36/F36-1 -> 0.05181781 | Q36: =I36/H36-1 -> 0.062405506 | R36: =J36/I36-1 -> 0.064560742 | S36: =K36/J36-1 -> 0.052375971 | T36: =L36/K36-1 -> 0.05382347
A37: Narva linn | B37: 5 | C37: =VLOOKUP($B$2,Pension2023!$A$6:$AK$85,Pension2023!F$1,FALSE) -> 2.2037097e+08 | D37: =VLOOKUP($B$2,Pension2024!$A$6:$AK$85,Pension2024!F$1,FALSE) -> 2.4558949e+08 | E37: =VLOOKUP($B$2,Pension2025!$A$6:$AK$85,Pension2025!F$1,FALSE) -> 2.603552e+08 | F37: =VLOOKUP($B$2,Pension2026!$A$6:$AK$85,Pension2026!F$1,FALSE) -> 2.7482249e+08 | G37: =G53*G69 -> 2.8906319e+08 | H37: =VLOOKUP($B$2,'VMS algne'!$C$3:$AA$82,'VMS algne'!H$84,FALSE) -> 1.1392508e+09 | I37: =VLOOKUP($B$2,'VMS algne'!$C$3:$AA$82,'VMS algne'!T$84,FALSE) -> 1.2252111e+09 | J37: =VLOOKUP($B$2,'VMS algne'!$C$3:$CA$82,'VMS algne'!AF$84,FALSE) -> 1.3063433e+09 | K37: =VLOOKUP($B$2,'VMS algne'!$C$3:$CA$82,'VMS algne'!AR$84,FALSE) -> 1.364477e+09 | L37: =L53*L69 -> 1.4379179e+09 | M37: =D37/C37-1 -> 0.11443663 | N37: =E37/D37-1 -> 0.060123557 | O37: =F37/E37-1 -> 0.055567495 | P37: =G37/F37-1 -> 0.05181781 | Q37: =I37/H37-1 -> 0.075453389 | R37: =J37/I37-1 -> 0.066218912 | S37: =K37/J37-1 -> 0.04450111 | T37: =L37/K37-1 -> 0.05382347
A38: Narva-Jõesuu linn | B38: 6 | C38: =VLOOKUP($B$2,Pension2023!$A$6:$AK$85,Pension2023!G$1,FALSE) -> 2.200582e+08 | D38: =VLOOKUP($B$2,Pension2024!$A$6:$AK$85,Pension2024!G$1,FALSE) -> 2.4561259e+08 | E38: =VLOOKUP($B$2,Pension2025!$A$6:$AK$85,Pension2025!G$1,FALSE) -> 2.6053969e+08 | F38: =VLOOKUP($B$2,Pension2026!$A$6:$AK$85,Pension2026!G$1,FALSE) -> 2.7508596e+08 | G38: =G54*G70 -> 2.8934031e+08 | H38: =VLOOKUP($B$2,'VMS algne'!$C$3:$AA$82,'VMS algne'!I$84,FALSE) -> 1.2156728e+09 | I38: =VLOOKUP($B$2,'VMS algne'!$C$3:$AA$82,'VMS algne'!U$84,FALSE) -> 1.2932735e+09 | J38: =VLOOKUP($B$2,'VMS algne'!$C$3:$CA$82,'VMS algne'!AG$84,FALSE) -> 1.3491322e+09 | K38: =VLOOKUP($B$2,'VMS algne'!$C$3:$CA$82,'VMS algne'!AS$84,FALSE) -> 1.427284e+09 | L38: =L54*L70 -> 1.5041054e+09 | M38: =D38/C38-1 -> 0.11612559 | N38: =E38/D38-1 -> 0.06077498 | O38: =F38/E38-1 -> 0.055831296 | P38: =G38/F38-1 -> 0.05181781 | Q38: =I38/H38-1 -> 0.06383359 | R38: =J38/I38-1 -> 0.043191695 | S38: =K38/J38-1 -> 0.057927451 | T38: =L38/K38-1 -> 0.05382347
A39: Nõo vald | B39: 7 | C39: =VLOOKUP($B$2,Pension2023!$A$6:$AK$85,Pension2023!H$1,FALSE) -> 2.1974402e+08 | D39: =VLOOKUP($B$2,Pension2024!$A$6:$AK$85,Pension2024!H$1,FALSE) -> 2.4542247e+08 | E39: =VLOOKUP($B$2,Pension2025!$A$6:$AK$85,Pension2025!H$1,FALSE) -> 2.6068918e+08 | F39: =VLOOKUP($B$2,Pension2026!$A$6:$AK$85,Pension2026!H$1,FALSE) -> 2.7524181e+08 | G39: =G55*G71 -> 2.8950424e+08 | H39: =VLOOKUP($B$2,'VMS algne'!$C$3:$AA$82,'VMS algne'!J$84,FALSE) -> 1.1735123e+09 | I39: =VLOOKUP($B$2,'VMS algne'!$C$3:$AA$82,'VMS algne'!V$84,FALSE) -> 1.2537833e+09 | J39: =VLOOKUP($B$2,'VMS algne'!$C$3:$CA$82,'VMS algne'!AH$84,FALSE) -> 1.3227267e+09 | K39: =VLOOKUP($B$2,'VMS algne'!$C$3:$CA$82,'VMS algne'!AT$84,FALSE) -> 1.4029883e+09 | L39: =L55*L71 -> 1.478502e+09 | M39: =D39/C39-1 -> 0.1168562 | N39: =E39/D39-1 -> 0.062205856 | O39: =F39/E39-1 -> 0.055823673 | P39: =G39/F39-1 -> 0.05181781 | Q39: =I39/H39-1 -> 0.068402353 | R39: =J39/I39-1 -> 0.054988315 | S39: =K39/J39-1 -> 0.060678892 | T39: =L39/K39-1 -> 0.05382347
A40: Otepää vald | B40: 8 | C40: =VLOOKUP($B$2,Pension2023!$A$6:$AK$85,Pension2023!I$1,FALSE) -> 2.2002353e+08 | D40: =VLOOKUP($B$2,Pension2024!$A$6:$AK$85,Pension2024!I$1,FALSE) -> 2.4508403e+08 | E40: =VLOOKUP($B$2,Pension2025!$A$6:$AK$85,Pension2025!I$1,FALSE) -> 2.60739e+08 | F40: =VLOOKUP($B$2,Pension2026!$A$6:$AK$85,Pension2026!I$1,FALSE) -> 2.7529768e+08 | G40: =G56*G72 -> 2.8956301e+08 | H40: =VLOOKUP($B$2,'VMS algne'!$C$3:$AA$82,'VMS algne'!K$84,FALSE) -> 1.1352174e+09 | I40: =VLOOKUP($B$2,'VMS algne'!$C$3:$AA$82,'VMS algne'!W$84,FALSE) -> 1.2237115e+09 | J40: =VLOOKUP($B$2,'VMS algne'!$C$3:$CA$82,'VMS algne'!AI$84,FALSE) -> 1.282599e+09 | K40: =VLOOKUP($B$2,'VMS algne'!$C$3:$CA$82,'VMS algne'!AU$84,FALSE) -> 1.3642298e+09 | L40: =L56*L72 -> 1.4376574e+09 | M40: =D40/C40-1 -> 0.11389916 | N40: =E40/D40-1 -> 0.063875954 | O40: =F40/E40-1 -> 0.055836217 | P40: =G40/F40-1 -> 0.05181781 | Q40: =I40/H40-1 -> 0.077953435 | R40: =J40/I40-1 -> 0.048122028 | S40: =K40/J40-1 -> 0.063644882 | T40: =L40/K40-1 -> 0.05382347
A41: Paide linn | B41: 9 | C41: =VLOOKUP($B$2,Pension2023!$A$6:$AK$85,Pension2023!J$1,FALSE) -> 2.2042999e+08 | D41: =VLOOKUP($B$2,Pension2024!$A$6:$AK$85,Pension2024!J$1,FALSE) -> 2.4500929e+08 | E41: =VLOOKUP($B$2,Pension2025!$A$6:$AK$85,Pension2025!J$1,FALSE) -> 2.6132231e+08 | F41: =F57*F73 -> 2.7597371e+08 | G41: =G57*G73 -> 2.9027406e+08 | H41: =VLOOKUP($B$2,'VMS algne'!$C$3:$AA$82,'VMS algne'!L$84,FALSE) -> 1.1450088e+09 | I41: =VLOOKUP($B$2,'VMS algne'!$C$3:$AA$82,'VMS algne'!X$84,FALSE) -> 1.2171904e+09 | J41: =VLOOKUP($B$2,'VMS algne'!$C$3:$CA$82,'VMS algne'!AJ$84,FALSE) -> 1.2833178e+09 | K41: =K57*K73 -> 1.3537531e+09 | L41: =L57*L73 -> 1.4266168e+09 | M41: =D41/C41-1 -> 0.11150614 | N41: =E41/D41-1 -> 0.066581215 | O41: =F41/E41-1 -> 0.056066409 | P41: =G41/F41-1 -> 0.05181781 | Q41: =I41/H41-1 -> 0.06304016 | R41: =J41/I41-1 -> 0.054327899 | S41: =K41/J41-1 -> 0.054885366 | T41: =L41/K41-1 -> 0.05382347
A42: Peipsiääre vald | B42: 10 | C42: =VLOOKUP($B$2,Pension2023!$A$6:$AK$85,Pension2023!K$1,FALSE) -> 2.2082992e+08 | D42: =VLOOKUP($B$2,Pension2024!$A$6:$AK$85,Pension2024!K$1,FALSE) -> 2.4524377e+08 | E42: =VLOOKUP($B$2,Pension2025!$A$6:$AK$85,Pension2025!K$1,FALSE) -> 2.6117187e+08 | F42: =F58*F74 -> 2.7581484e+08 | G42: =G58*G74 -> 2.9010696e+08 | H42: =VLOOKUP($B$2,'VMS algne'!$C$3:$AA$82,'VMS algne'!M$84,FALSE) -> 1.1541684e+09 | I42: =VLOOKUP($B$2,'VMS algne'!$C$3:$AA$82,'VMS algne'!Y$84,FALSE) -> 1.2434448e+09 | J42: =VLOOKUP($B$2,'VMS algne'!$C$3:$CA$82,'VMS algne'!AK$84,FALSE) -> 1.3132684e+09 | K42: =K58*K74 -> 1.3853476e+09 | L42: =L58*L74 -> 1.4599118e+09 | M42: =D42/C42-1 -> 0.110555 | N42: =E42/D42-1 -> 0.064948015 | O42: =F42/E42-1 -> 0.056066409 | P42: =G42/F42-1 -> 0.05181781 | Q42: =I42/H42-1 -> 0.077351302 | R42: =J42/I42-1 -> 0.056153301 | S42: =K42/J42-1 -> 0.054885366 | T42: =L42/K42-1 -> 0.05382347
A43: Põhja-Pärnumaa vald | B43: 11 | C43: =VLOOKUP($B$2,Pension2023!$A$6:$AK$85,Pension2023!L$1,FALSE) -> 2.2094221e+08 | D43: =VLOOKUP($B$2,Pension2024!$A$6:$AK$85,Pension2024!L$1,FALSE) -> 2.4488208e+08 | E43: =VLOOKUP($B$2,Pension2025!$A$6:$AK$85,Pension2025!L$1,FALSE) -> 2.6054378e+08 | F43: =F59*F75 -> 2.7515153e+08 | G43: =G59*G75 -> 2.8940928e+08 | H43: =VLOOKUP($B$2,'VMS algne'!$C$3:$AA$82,'VMS algne'!N$84,FALSE) -> 1.176557e+09 | I43: =VLOOKUP($B$2,'VMS algne'!$C$3:$AA$82,'VMS algne'!Z$84,FALSE) -> 1.2623531e+09 | J43: =VLOOKUP($B$2,'VMS algne'!$C$3:$CA$82,'VMS algne'!AL$84,FALSE) -> 1.3183924e+09 | K43: =K59*K75 -> 1.3907529e+09 | L43: =L59*L75 -> 1.465608e+09 | M43: =D43/C43-1 -> 0.10835351 | N43: =E43/D43-1 -> 0.063956093 | O43: =F43/E43-1 -> 0.056066409 | P43: =G43/F43-1 -> 0.05181781 | Q43: =I43/H43-1 -> 0.072921348 | R43: =J43/I43-1 -> 0.04439274 | S43: =K43/J43-1 -> 0.054885366 | T43: =L43/K43-1 -> 0.05382347
A44: Põhja-Sakala vald | B44: 12 | C44: =VLOOKUP($B$2,Pension2023!$A$6:$AK$85,Pension2023!M$1,FALSE) -> 2.2099467e+08 | D44: =VLOOKUP($B$2,Pension2024!$A$6:$AK$85,Pension2024!M$1,FALSE) -> 2.4497248e+08 | E44: =VLOOKUP($B$2,Pension2025!$A$6:$AK$85,Pension2025!M$1,FALSE) -> 2.6044896e+08 | F44: =F60*F76 -> 2.750514e+08 | G44: =G60*G76 -> 2.8930396e+08 | H44: =VLOOKUP($B$2,'VMS algne'!$C$3:$AA$82,'VMS algne'!O$84,FALSE) -> 1.2858959e+09 | I44: =VLOOKUP($B$2,'VMS algne'!$C$3:$AA$82,'VMS algne'!AA$84,FALSE) -> 1.409017e+09 | J44: =VLOOKUP($B$2,'VMS algne'!$C$3:$CA$82,'VMS algne'!AM$84,FALSE) -> 1.4244332e+09 | K44: =K60*K76 -> 1.5026138e+09 | L44: =L60*L76 -> 1.5834896e+09 | M44: =D44/C44-1 -> 0.1084995 | N44: =E44/D44-1 -> 0.06317638 | O44: =F44/E44-1 -> 0.056066409 | P44: =G44/F44-1 -> 0.05181781 | Q44: =I44/H44-1 -> 0.095747327 | R44: =J44/I44-1 -> 0.010941087 | S44: =K44/J44-1 -> 0.054885366 | T44: =L44/K44-1 -> 0.05382347
A45: Põltsamaa vald | B45: KOKKU | C45: =SUM(C33:C44) -> 2.5660508e+09 | D45: =SUM(D33:D44) -> 2.8714084e+09 | E45: =SUM(E33:E44) -> 3.0825015e+09 | F45: =SUM(F33:F44) -> 3.2584198e+09 | G45: =SUM(G33:G44) -> 3.4289376e+09 | H45: =SUM(H33:H44) -> 1.3901695e+10 | I45: =SUM(I33:I44) -> 1.4938799e+10 | J45: =SUM(J33:J44) -> 1.5687041e+10 | ... L45: =SUM(L33:L44) -> 1.7467604e+10 | M45: =D45/C45-1 -> 0.11899906 | N45: =E45/D45-1 -> 0.073515516 | O45: =F45/E45-1 -> 0.057069976 | P45: =G45/F45-1 -> 0.052331446 | Q45: =I45/H45-1 -> 0.074602659 | R45: =J45/I45-1 -> 0.050087197 | S45: =K45/J45-1 -> 0.056633612 | T45: =L45/K45-1 -> 0.05382347
A46: Põlva vald
A47: Pärnu linn | B47: Tulusaajate arv | C47: Pensionitulu (Eesti riiklik pension) | H47: Palga ja muu tulu | M47: Pensionitulu saajate muutus | Q47: Palga ja muu tulu saajate muutus
A48: Raasiku vald | C48: 2023 | D48: 2024 | E48: 2025 | F48: 2026 | G48: 2027 | H48: 2023 | I48: 2024 | J48: 2025 | K48: 2026 | L48: 2027 | M48: 2024 | N48: 2025 | O48: 2026 | P48: 2027 | Q48: 2024 | R48: 2025 | S48: 2026 | T48: 2027
A49: Rae vald | B49: 1 | C49: =VLOOKUP($B$2,Pension2023!$A$6:$AK$85,Pension2023!N$1,FALSE) -> 309036 | D49: =VLOOKUP($B$2,Pension2024!$A$6:$AK$85,Pension2024!N$1,FALSE) -> 309372 | E49: =VLOOKUP($B$2,Pension2025!$A$6:$AK$85,Pension2025!N$1,FALSE) -> 310478 | F49: =VLOOKUP($B$2,Pension2026!$A$6:$AK$85,Pension2026!N$1,FALSE) -> 311936 | G49: =F49*(1+P$3) -> 312178.73 | H49: =VLOOKUP($B$2,MM!$B$4:$Z$83,MM!C$85,FALSE) -> 637855 | I49: =VLOOKUP($B$2,MM!$B$4:$Z$83,MM!O$85,FALSE) -> 636012 | J49: =VLOOKUP($B$2,MM!$B$4:$BZ$83,MM!AA$85,FALSE) -> 626179 | K49: =VLOOKUP($B$2,MM!$B$4:$BZ$83,MM!AM$85,FALSE) -> 631227 | L49: =K49*(1+P$4) -> 635340.81 | M49: =D49/C49-1 -> 0.001087252 | N49: =E49/D49-1 -> 0.0035749842 | O49: =F49/E49-1 -> 0.0046959849 | P49: =G49/F49-1 -> 0.00077812591 | Q49: =I49/H49-1 -> -0.0028893714 | R49: =J49/I49-1 -> -0.0154604 | S49: =K49/J49-1 -> 0.0080615926 | T49: =L49/K49-1 -> 0.006517163
A50: Rakvere linn | B50: 2 | C50: =VLOOKUP($B$2,Pension2023!$A$6:$AK$85,Pension2023!O$1,FALSE) -> 308789 | D50: =VLOOKUP($B$2,Pension2024!$A$6:$AK$85,Pension2024!O$1,FALSE) -> 309694 | E50: =VLOOKUP($B$2,Pension2025!$A$6:$AK$85,Pension2025!O$1,FALSE) -> 310627 | F50: =VLOOKUP($B$2,Pension2026!$A$6:$AK$85,Pension2026!O$1,FALSE) -> 311728 | G50: =F50*(1+P$3) -> 311970.56 | H50: =VLOOKUP($B$2,MM!$B$4:$Z$83,MM!D$85,FALSE) -> 638830 | I50: =VLOOKUP($B$2,MM!$B$4:$Z$83,MM!P$85,FALSE) -> 635158 | J50: =VLOOKUP($B$2,MM!$B$4:$BZ$83,MM!AB$85,FALSE) -> 630309 | K50: =VLOOKUP($B$2,MM!$B$4:$BZ$83,MM!AN$85,FALSE) -> 631913 | L50: =K50*(1+P$4) -> 636031.28 | M50: =D50/C50-1 -> 0.0029308039 | N50: =E50/D50-1 -> 0.0030126512 | O50: =F50/E50-1 -> 0.003544444 | P50: =G50/F50-1 -> 0.00077812591 | Q50: =I50/H50-1 -> -0.0057480081 | R50: =J50/I50-1 -> -0.0076343209 | S50: =K50/J50-1 -> 0.0025447836 | T50: =L50/K50-1 -> 0.006517163
A51: Rakvere vald | B51: 3 | C51: =VLOOKUP($B$2,Pension2023!$A$6:$AK$85,Pension2023!P$1,FALSE) -> 309305 | D51: =VLOOKUP($B$2,Pension2024!$A$6:$AK$85,Pension2024!P$1,FALSE) -> 309895 | E51: =VLOOKUP($B$2,Pension2025!$A$6:$AK$85,Pension2025!P$1,FALSE) -> 311019 | F51: =VLOOKUP($B$2,Pension2026!$A$6:$AK$85,Pension2026!P$1,FALSE) -> 311618 | G51: =F51*(1+P$3) -> 311860.48 | H51: =VLOOKUP($B$2,MM!$B$4:$Z$83,MM!E$85,FALSE) -> 641156 | I51: =VLOOKUP($B$2,MM!$B$4:$Z$83,MM!Q$85,FALSE) -> 635578 | J51: =VLOOKUP($B$2,MM!$B$4:$BZ$83,MM!AC$85,FALSE) -> 631955 | K51: =VLOOKUP($B$2,MM!$B$4:$BZ$83,MM!AO$85,FALSE) -> 635487 | L51: =K51*(1+P$4) -> 639628.57 | M51: =D51/C51-1 -> 0.0019075023 | N51: =E51/D51-1 -> 0.003627035 | O51: =F51/E51-1 -> 0.0019259274 | P51: =G51/F51-1 -> 0.00077812591 | Q51: =I51/H51-1 -> -0.0086999108 | R51: =J51/I51-1 -> -0.0057003232 | S51: =K51/J51-1 -> 0.0055890055 | T51: =L51/K51-1 -> 0.006517163
A52: Rapla vald | B52: 4 | C52: =VLOOKUP($B$2,Pension2023!$A$6:$AK$85,Pension2023!Q$1,FALSE) -> 308868 | D52: =VLOOKUP($B$2,Pension2024!$A$6:$AK$85,Pension2024!Q$1,FALSE) -> 310005 | E52: =VLOOKUP($B$2,Pension2025!$A$6:$AK$85,Pension2025!Q$1,FALSE) -> 311224 | F52: =VLOOKUP($B$2,Pension2026!$A$6:$AK$85,Pension2026!Q$1,FALSE) -> 311988 | G52: =F52*(1+P$3) -> 312230.77 | H52: =VLOOKUP($B$2,MM!$B$4:$Z$83,MM!F$85,FALSE) -> 640755 | I52: =VLOOKUP($B$2,MM!$B$4:$Z$83,MM!R$85,FALSE) -> 637253 | J52: =VLOOKUP($B$2,MM!$B$4:$BZ$83,MM!AD$85,FALSE) -> 633802 | K52: =VLOOKUP($B$2,MM!$B$4:$BZ$83,MM!AP$85,FALSE) -> 637737 | L52: =K52*(1+P$4) -> 641893.24 | M52: =D52/C52-1 -> 0.0036811842 | N52: =E52/D52-1 -> 0.0039321946 | O52: =F52/E52-1 -> 0.0024548235 | P52: =G52/F52-1 -> 0.00077812591 | Q52: =I52/H52-1 -> -0.0054654275 | R52: =J52/I52-1 -> -0.0054154315 | S52: =K52/J52-1 -> 0.0062085636 | T52: =L52/K52-1 -> 0.006517163
A53: Ruhnu vald | B53: 5 | C53: =VLOOKUP($B$2,Pension2023!$A$6:$AK$85,Pension2023!R$1,FALSE) -> 308279 | D53: =VLOOKUP($B$2,Pension2024!$A$6:$AK$85,Pension2024!R$1,FALSE) -> 310523 | E53: =VLOOKUP($B$2,Pension2025!$A$6:$AK$85,Pension2025!R$1,FALSE) -> 311496 | F53: =VLOOKUP($B$2,Pension2026!$A$6:$AK$85,Pension2026!R$1,FALSE) -> 312156 | G53: =F53*(1+P$3) -> 312398.9 | H53: =VLOOKUP($B$2,MM!$B$4:$Z$83,MM!G$85,FALSE) -> 643871 | I53: =VLOOKUP($B$2,MM!$B$4:$Z$83,MM!S$85,FALSE) -> 638962 | J53: =VLOOKUP($B$2,MM!$B$4:$BZ$83,MM!AE$85,FALSE) -> 636055 | K53: =VLOOKUP($B$2,MM!$B$4:$BZ$83,MM!AQ$85,FALSE) -> 639562 | L53: =K53*(1+P$4) -> 643730.13 | M53: =D53/C53-1 -> 0.0072791205 | N53: =E53/D53-1 -> 0.0031334233 | O53: =F53/E53-1 -> 0.0021188073 | P53: =G53/F53-1 -> 0.00077812591 | Q53: =I53/H53-1 -> -0.007624198 | R53: =J53/I53-1 -> -0.0045495663 | S53: =K53/J53-1 -> 0.0055136741 | T53: =L53/K53-1 -> 0.006517163
A54: Rõuge vald | B54: 6 | C54: =VLOOKUP($B$2,Pension2023!$A$6:$AK$85,Pension2023!S$1,FALSE) -> 307800 | D54: =VLOOKUP($B$2,Pension2024!$A$6:$AK$85,Pension2024!S$1,FALSE) -> 310649 | E54: =VLOOKUP($B$2,Pension2025!$A$6:$AK$85,Pension2025!S$1,FALSE) -> 311561 | F54: =VLOOKUP($B$2,Pension2026!$A$6:$AK$85,Pension2026!S$1,FALSE) -> 312357 | G54: =F54*(1+P$3) -> 312600.05 | H54: =VLOOKUP($B$2,MM!$B$4:$Z$83,MM!H$85,FALSE) -> 648060 | I54: =VLOOKUP($B$2,MM!$B$4:$Z$83,MM!T$85,FALSE) -> 642732 | J54: =VLOOKUP($B$2,MM!$B$4:$BZ$83,MM!AF$85,FALSE) -> 640595 | K54: =VLOOKUP($B$2,MM!$B$4:$BZ$83,MM!AR$85,FALSE) -> 646772 | L54: =K54*(1+P$4) -> 650987.12 | M54: =D54/C54-1 -> 0.0092560104 | N54: =E54/D54-1 -> 0.0029357893 | O54: =F54/E54-1 -> 0.0025548769 | P54: =G54/F54-1 -> 0.00077812591 | Q54: =I54/H54-1 -> -0.008221461 | R54: =J54/I54-1 -> -0.0033248695 | S54: =K54/J54-1 -> 0.0096425979 | T54: =L54/K54-1 -> 0.006517163
A55: Räpina vald | B55: 7 | C55: =VLOOKUP($B$2,Pension2023!$A$6:$AK$85,Pension2023!T$1,FALSE) -> 307111 | D55: =VLOOKUP($B$2,Pension2024!$A$6:$AK$85,Pension2024!T$1,FALSE) -> 309747 | E55: =VLOOKUP($B$2,Pension2025!$A$6:$AK$85,Pension2025!T$1,FALSE) -> 311437 | F55: =VLOOKUP($B$2,Pension2026!$A$6:$AK$85,Pension2026!T$1,FALSE) -> 312203 | G55: =F55*(1+P$3) -> 312445.93 | H55: =VLOOKUP($B$2,MM!$B$4:$Z$83,MM!I$85,FALSE) -> 647491 | I55: =VLOOKUP($B$2,MM!$B$4:$Z$83,MM!U$85,FALSE) -> 644422 | J55: =VLOOKUP($B$2,MM!$B$4:$BZ$83,MM!AG$85,FALSE) -> 641113 | K55: =VLOOKUP($B$2,MM!$B$4:$BZ$83,MM!AS$85,FALSE) -> 647175 | L55: =K55*(1+P$4) -> 651392.74 | M55: =D55/C55-1 -> 0.0085832158 | N55: =E55/D55-1 -> 0.0054560658 | O55: =F55/E55-1 -> 0.0024595665 | P55: =G55/F55-1 -> 0.00077812591 | Q55: =I55/H55-1 -> -0.0047398342 | R55: =J55/I55-1 -> -0.005134834 | S55: =K55/J55-1 -> 0.0094554314 | T55: =L55/K55-1 -> 0.006517163
A56: Saarde vald | B56: 8 | C56: =VLOOKUP($B$2,Pension2023!$A$6:$AK$85,Pension2023!U$1,FALSE) -> 307502 | D56: =VLOOKUP($B$2,Pension2024!$A$6:$AK$85,Pension2024!U$1,FALSE) -> 309387 | E56: =VLOOKUP($B$2,Pension2025!$A$6:$AK$85,Pension2025!U$1,FALSE) -> 311606 | F56: =VLOOKUP($B$2,Pension2026!$A$6:$AK$85,Pension2026!U$1,FALSE) -> 312378 | G56: =F56*(1+P$3) -> 312621.07 | H56: =VLOOKUP($B$2,MM!$B$4:$Z$83,MM!J$85,FALSE) -> 647397 | I56: =VLOOKUP($B$2,MM!$B$4:$Z$83,MM!V$85,FALSE) -> 641891 | J56: =VLOOKUP($B$2,MM!$B$4:$BZ$83,MM!AH$85,FALSE) -> 639796 | K56: =VLOOKUP($B$2,MM!$B$4:$BZ$83,MM!AT$85,FALSE) -> 644004 | L56: =K56*(1+P$4) -> 648201.08 | M56: =D56/C56-1 -> 0.0061300414 | N56: =E56/D56-1 -> 0.0071722471 | O56: =F56/E56-1 -> 0.0024774876 | P56: =G56/F56-1 -> 0.00077812591 | Q56: =I56/H56-1 -> -0.0085048278 | R56: =J56/I56-1 -> -0.003263794 | S56: =K56/J56-1 -> 0.0065770964 | T56: =L56/K56-1 -> 0.006517163
A57: Saaremaa vald | B57: 9 | C57: =VLOOKUP($B$2,Pension2023!$A$6:$AK$85,Pension2023!V$1,FALSE) -> 308073 | D57: =VLOOKUP($B$2,Pension2024!$A$6:$AK$85,Pension2024!V$1,FALSE) -> 309417 | E57: =VLOOKUP($B$2,Pension2025!$A$6:$AK$85,Pension2025!V$1,FALSE) -> 312244 | F57: =E57*(1+O$3) -> 313111.45 | G57: =F57*(1+P$3) -> 313355.09 | H57: =VLOOKUP($B$2,MM!$B$4:$Z$83,MM!K$85,FALSE) -> 645548 | I57: =VLOOKUP($B$2,MM!$B$4:$Z$83,MM!W$85,FALSE) -> 641733 | J57: =VLOOKUP($B$2,MM!$B$4:$BZ$83,MM!AI$85,FALSE) -> 639853 | K57: =J57*(1+O$4) -> 644023.03 | L57: =K57*(1+P$4) -> 648220.23 | M57: =D57/C57-1 -> 0.0043626024 | N57: =E57/D57-1 -> 0.0091365374 | O57: =F57/E57-1 -> 0.0027781259 | P57: =G57/F57-1 -> 0.00077812591 | Q57: =I57/H57-1 -> -0.0059097077 | R57: =J57/I57-1 -> -0.0029295673 | S57: =K57/J57-1 -> 0.006517163 | T57: =L57/K57-1 -> 0.006517163
A58: Saku vald | B58: 10 | C58: =VLOOKUP($B$2,Pension2023!$A$6:$AK$85,Pension2023!W$1,FALSE) -> 308712 | D58: =VLOOKUP($B$2,Pension2024!$A$6:$AK$85,Pension2024!W$1,FALSE) -> 309684 | E58: =VLOOKUP($B$2,Pension2025!$A$6:$AK$85,Pension2025!W$1,FALSE) -> 312172 | F58: =E58*(1+O$3) -> 313039.25 | G58: =F58*(1+P$3) -> 313282.84 | H58: =VLOOKUP($B$2,MM!$B$4:$Z$83,MM!L$85,FALSE) -> 643683 | I58: =VLOOKUP($B$2,MM!$B$4:$Z$83,MM!X$85,FALSE) -> 640065 | J58: =VLOOKUP($B$2,MM!$B$4:$BZ$83,MM!AJ$85,FALSE) -> 638162 | K58: =J58*(1+O$4) -> 642321.01 | L58: =K58*(1+P$4) -> 646507.12 | M58: =D58/C58-1 -> 0.0031485657 | N58: =E58/D58-1 -> 0.0080339959 | O58: =F58/E58-1 -> 0.0027781259 | P58: =G58/F58-1 -> 0.00077812591 | Q58: =I58/H58-1 -> -0.0056207792 | R58: =J58/I58-1 -> -0.0029731355 | S58: =K58/J58-1 -> 0.006517163 | T58: =L58/K58-1 -> 0.006517163
A59: Saue vald | B59: 11 | C59: =VLOOKUP($B$2,Pension2023!$A$6:$AK$85,Pension2023!X$1,FALSE) -> 308949 | D59: =VLOOKUP($B$2,Pension2024!$A$6:$AK$85,Pension2024!X$1,FALSE) -> 309750 | E59: =VLOOKUP($B$2,Pension2025!$A$6:$AK$85,Pension2025!X$1,FALSE) -> 311648 | F59: =E59*(1+O$3) -> 312513.8 | G59: =F59*(1+P$3) -> 312756.97 | H59: =VLOOKUP($B$2,MM!$B$4:$Z$83,MM!M$85,FALSE) -> 641369 | I59: =VLOOKUP($B$2,MM!$B$4:$Z$83,MM!Y$85,FALSE) -> 638352 | J59: =VLOOKUP($B$2,MM!$B$4:$BZ$83,MM!AK$85,FALSE) -> 635704 | K59: =J59*(1+O$4) -> 639846.99 | L59: =K59*(1+P$4) -> 644016.97 | M59: =D59/C59-1 -> 0.0025926609 | N59: =E59/D59-1 -> 0.0061275222 | O59: =F59/E59-1 -> 0.0027781259 | P59: =G59/F59-1 -> 0.00077812591 | Q59: =I59/H59-1 -> -0.0047040003 | R59: =J59/I59-1 -> -0.0041481816 | S59: =K59/J59-1 -> 0.006517163 | T59: =L59/K59-1 -> 0.006517163
A60: Setomaa vald | B60: 12 | C60: =VLOOKUP($B$2,Pension2023!$A$6:$AK$85,Pension2023!Y$1,FALSE) -> 308924 | D60: =VLOOKUP($B$2,Pension2024!$A$6:$AK$85,Pension2024!Y$1,FALSE) -> 309836 | E60: =VLOOKUP($B$2,Pension2025!$A$6:$AK$85,Pension2025!Y$1,FALSE) -> 311929 | F60: =E60*(1+O$3) -> 312795.58 | G60: =F60*(1+P$3) -> 313038.97 | H60: =VLOOKUP($B$2,MM!$B$4:$Z$83,MM!N$85,FALSE) -> 647820 | I60: =VLOOKUP($B$2,MM!$B$4:$Z$83,MM!Z$85,FALSE) -> 645889 | J60: =VLOOKUP($B$2,MM!$B$4:$BZ$83,MM!AL$85,FALSE) -> 644368 | K60: =J60*(1+O$4) -> 648567.45 | L60: =K60*(1+P$4) -> 652794.27 | M60: =D60/C60-1 -> 0.0029521824 | N60: =E60/D60-1 -> 0.0067551866 | O60: =F60/E60-1 -> 0.0027781259 | P60: =G60/F60-1 -> 0.00077812591 | Q60: =I60/H60-1 -> -0.0029807663 | R60: =J60/I60-1 -> -0.0023548938 | S60: =K60/J60-1 -> 0.006517163 | T60: =L60/K60-1 -> 0.006517163
A61: Sillamäe linn | B61: keskmine | C61: =AVERAGE(C49:C60) -> 308445.67 | D61: =AVERAGE(D49:D60) -> 309829.92 | E61: =AVERAGE(E49:E60) -> 311453.42 | F61: =AVERAGE(F49:F60) -> 312318.67 | G61: =AVERAGE(G49:G60) -> 312561.7 | H61: =AVERAGE(H49:H60) -> 643652.92 | I61: =AVERAGE(I49:I60) -> 639837.25 | J61: =AVERAGE(J49:J60) -> 636490.92 | ... L61: =AVERAGE(L49:L60) -> 644895.3 | M61: =D61/C61-1 -> 0.0044878244 | N61: =E61/D61-1 -> 0.0052399717 | O61: =F61/E61-1 -> 0.0027781259 | P61: =G61/F61-1 -> 0.00077812591 | Q61: =I61/H61-1 -> -0.0059281432 | R61: =J61/I61-1 -> -0.0052299758 | S61: =K61/J61-1 -> 0.0066437803 | T61: =L61/K61-1 -> 0.006517163
A62: Tallinna linn
A63: Tapa vald | B63: Keskmine sissetulek | C63: Pensionitulu (Eesti riiklik pension) | H63: Palk ja muu tulu | M63: Keskmise pensioni muutus | Q63: Keskmise muu tulu muutus
A64: Tartu linn | C64: 2023 | D64: 2024 | E64: 2025 | F64: 2026 | G64: 2027 | H64: 2023 | I64: 2024 | J64: 2025 | K64: 2026 | L64: 2027 | M64: 2024 | N64: 2025 | O64: 2026 | P64: 2027 | Q64: 2024 | R64: 2025 | S64: 2026 | T64: 2027
A65: Tartu vald | B65: 1 | C65: =C33/C49 -> 627.63199 | D65: =D33/D49 -> 715.81519 | E65: =E33/E49 -> 790.24781 | F65: =F33/F49 -> 835.07518 | G65: =F65*(1+H$3) -> 879.45161 | H65: =H33/H49 -> 1701.6195 | I65: =I33/I49 -> 1844.1453 | J65: =J33/J49 -> 1958.7432 | K65: =K33/K49 -> 2093.1723 | L65: =K65*(1+I$4) -> 2191.5514 | M65: =D65/C65-1 -> 0.14050143 | N65: =E65/D65-1 -> 0.10398303 | O65: =F65/E65-1 -> 0.0567257 | P65: =G65/F65-1 -> 0.053140652 | Q65: =I65/H65-1 -> 0.083758942 | R65: =J65/I65-1 -> 0.062141461 | S65: =K65/J65-1 -> 0.068630294 | T65: =L65/K65-1 -> 0.047
A66: Tori vald | B66: 2 | C66: =C34/C50 -> 627.44832 | D66: =D34/D50 -> 715.04641 | E66: =E34/E50 -> 789.97679 | F66: =F34/F50 -> 835.37222 | G66: =F66*(1+H$3) -> 879.76445 | H66: =H34/H50 -> 1711.0574 | I66: =I34/I50 -> 1847.0072 | J66: =J34/J50 -> 1978.1616 | K66: =K34/K50 -> 2069.2989 | L66: =K66*(1+I$4) -> 2166.5559 | M66: =D66/C66-1 -> 0.13961004 | N66: =E66/D66-1 -> 0.10479094 | O66: =F66/E66-1 -> 0.057464262 | P66: =G66/F66-1 -> 0.053140652 | Q66: =I66/H66-1 -> 0.079453688 | R66: =J66/I66-1 -> 0.071009144 | S66: =K66/J66-1 -> 0.046071707 | T66: =L66/K66-1 -> 0.047
A67: Tõrva vald | B67: 3 | C67: =C35/C51 -> 627.40284 | D67: =D35/D51 -> 714.6949 | E67: =E35/E51 -> 790.32765 | F67: =F35/F51 -> 835.41471 | G67: =F67*(1+H$3) -> 879.8092 | H67: =H35/H51 -> 1738.6834 | I67: =I35/I51 -> 1900.2444 | J67: =J35/J51 -> 2017.9867 | K67: =K35/K51 -> 2119.4171 | L67: =K67*(1+I$4) -> 2219.0297 | M67: =D67/C67-1 -> 0.1391324 | N67: =E67/D67-1 -> 0.10582522 | O67: =F67/E67-1 -> 0.057048579 | P67: =G67/F67-1 -> 0.053140652 | Q67: =I67/H67-1 -> 0.092921449 | R67: =J67/I67-1 -> 0.061961665 | S67: =K67/J67-1 -> 0.050263183 | T67: =L67/K67-1 -> 0.047
A68: Türi vald | B68: 4 | C68: =C36/C52 -> 715.15476 | D68: =D36/D52 -> 790.99724 | E68: =E36/E52 -> 835.86714 | F68: =F36/F52 -> 880.64666 | G68: =F68*(1+I$3) -> 925.55963 | H68: =H36/H52 -> 1846.5455 | I68: =I36/I52 -> 1972.561 | J68: =J36/J52 -> 2111.3449 | K68: =K36/K52 -> 2208.2187 | L68: =K68*(1+I$4) -> 2312.005 | M68: =D68/C68-1 -> 0.10605044 | N68: =E68/D68-1 -> 0.056725741 | O68: =F68/E68-1 -> 0.053572521 | P68: =G68/F68-1 -> 0.051 | Q68: =I68/H68-1 -> 0.068243915 | R68: =J68/I68-1 -> 0.070357188 | S68: =K68/J68-1 -> 0.045882543 | T68: =L68/K68-1 -> 0.047
A69: Valga vald | B69: 5 | C69: =C37/C53 -> 714.84264 | D69: =D37/D53 -> 790.88984 | E69: =E37/E53 -> 835.82197 | F69: =F37/F53 -> 880.4011 | G69: =F69*(1+I$3) -> 925.30156 | H69: =H37/H53 -> 1769.3774 | I69: =I37/I53 -> 1917.5023 | J69: =J37/J53 -> 2053.8212 | K69: =K37/K53 -> 2133.4554 | L69: =K69*(1+I$4) -> 2233.7278 | M69: =D69/C69-1 -> 0.10638313 | N69: =E69/D69-1 -> 0.056812117 | O69: =F69/E69-1 -> 0.053335679 | P69: =G69/F69-1 -> 0.051 | Q69: =I69/H69-1 -> 0.083715854 | R69: =J69/I69-1 -> 0.071091915 | S69: =K69/J69-1 -> 0.03877365 | T69: =L69/K69-1 -> 0.047
A70: Viimsi vald | B70: 6 | C70: =C38/C54 -> 714.93892 | D70: =D38/D54 -> 790.64342 | E70: =E38/E54 -> 836.23974 | F70: =F38/F54 -> 880.67806 | G70: =F70*(1+I$3) -> 925.59264 | H70: =H38/H54 -> 1875.8645 | I70: =I38/I54 -> 2012.1505 | J70: =J38/J54 -> 2106.0611 | K70: =K38/K54 -> 2206.7807 | L70: =K70*(1+I$4) -> 2310.4994 | M70: =D70/C70-1 -> 0.10588947 | N70: =E70/D70-1 -> 0.057669884 | O70: =F70/E70-1 -> 0.053140652 | P70: =G70/F70-1 -> 0.051 | Q70: =I70/H70-1 -> 0.07265236 | R70: =J70/I70-1 -> 0.046671742 | S70: =K70/J70-1 -> 0.047823709 | T70: =L70/K70-1 -> 0.047
A71: Viljandi linn | B71: 7 | C71: =C39/C55 -> 715.51985 | D71: =D39/D55 -> 792.33202 | E71: =E39/E55 -> 837.0527 | F71: =F39/F55 -> 881.61167 | G71: =F71*(1+I$3) -> 926.57387 | H71: =H39/H55 -> 1812.3994 | I71: =I39/I55 -> 1945.5936 | J71: =J39/J55 -> 2063.1726 | K71: =K39/K55 -> 2167.8655 | L71: =K71*(1+I$4) -> 2269.7552 | M71: =D71/C71-1 -> 0.10735156 | N71: =E71/D71-1 -> 0.05644184 | O71: =F71/E71-1 -> 0.053233176 | P71: =G71/F71-1 -> 0.051 | Q71: =I71/H71-1 -> 0.07349052 | R71: =J71/I71-1 -> 0.060433465 | S71: =K71/J71-1 -> 0.050743658 | T71: =L71/K71-1 -> 0.047
A72: Viljandi vald | B72: 8 | C72: =C40/C56 -> 715.51903 | D72: =D40/D56 -> 792.16007 | E72: =E40/E56 -> 836.75861 | F72: =F40/F56 -> 881.29665 | G72: =F72*(1+I$3) -> 926.24278 | H72: =H40/H56 -> 1753.5105 | I72: =I40/I56 -> 1906.4164 | J72: =J40/J56 -> 2004.6999 | K72: =K40/K56 -> 2118.3562 | L72: =K72*(1+I$4) -> 2217.9189 | M72: =D72/C72-1 -> 0.10711252 | N72: =E72/D72-1 -> 0.05629991 | O72: =F72/E72-1 -> 0.05322686 | P72: =G72/F72-1 -> 0.051 | Q72: =I72/H72-1 -> 0.087199883 | R72: =J72/I72-1 -> 0.051554084 | S72: =K72/J72-1 -> 0.056694898 | T72: =L72/K72-1 -> 0.047
A73: Vinni vald | B73: 9 | C73: =C41/C57 -> 715.51221 | D73: =D41/D57 -> 791.84172 | E73: =E41/E57 -> 836.91698 | F73: =E73*(1+H$3) -> 881.3913 | G73: =F73*(1+I$3) -> 926.34225 | H73: =H41/H57 -> 1773.7005 | I73: =I41/I57 -> 1896.724 | J73: =J41/J57 -> 2005.6447 | K73: =J73*(1+H$4) -> 2102.026 | L73: =K73*(1+I$4) -> 2200.8212 | M73: =D73/C73-1 -> 0.10667814 | N73: =E73/D73-1 -> 0.056924584 | O73: =F73/E73-1 -> 0.053140652 | P73: =G73/F73-1 -> 0.051 | Q73: =I73/H73-1 -> 0.069359763 | R73: =J73/I73-1 -> 0.057425699 | S73: =K73/J73-1 -> 0.04805502 | T73: =L73/K73-1 -> 0.047
A74: Viru-Nigula vald | B74: 10 | C74: =C42/C58 -> 715.32665 | D74: =D42/D58 -> 791.91619 | E74: =E42/E58 -> 836.62811 | F74: =E74*(1+H$3) -> 881.08707 | G74: =F74*(1+I$3) -> 926.02251 | H74: =H42/H58 -> 1793.0696 | I74: =I42/I58 -> 1942.6852 | J74: =J42/J58 -> 2057.8918 | K74: =J74*(1+H$4) -> 2156.7838 | L74: =K74*(1+I$4) -> 2258.1527 | M74: =D74/C74-1 -> 0.10706932 | N74: =E74/D74-1 -> 0.056460416 | O74: =F74/E74-1 -> 0.053140652 | P74: =G74/F74-1 -> 0.051 | Q74: =I74/H74-1 -> 0.083441085 | R74: =J74/I74-1 -> 0.059302752 | S74: =K74/J74-1 -> 0.04805502 | T74: =L74/K74-1 -> 0.047
A75: Vormsi vald | B75: 11 | C75: =C43/C59 -> 715.14138 | D75: =D43/D59 -> 790.57975 | E75: =E43/E59 -> 836.01942 | F75: =E75*(1+H$3) -> 880.44604 | G75: =F75*(1+I$3) -> 925.34878 | H75: =H43/H59 -> 1834.4463 | I75: =I43/I59 -> 1977.5189 | J75: =J43/J59 -> 2073.9093 | K75: =J75*(1+H$4) -> 2173.5711 | L75: =K75*(1+I$4) -> 2275.7289 | M75: =D75/C75-1 -> 0.10548735 | N75: =E75/D75-1 -> 0.057476383 | O75: =F75/E75-1 -> 0.053140652 | P75: =G75/F75-1 -> 0.051 | Q75: =I75/H75-1 -> 0.077992224 | R75: =J75/I75-1 -> 0.048743117 | S75: =K75/J75-1 -> 0.04805502 | T75: =L75/K75-1 -> 0.047
A76: Võru linn | B76: 12 | C76: =C44/C60 -> 715.36906 | D76: =D44/D60 -> 790.6521 | E76: =E44/E60 -> 834.96231 | F76: =E76*(1+H$3) -> 879.33275 | G76: =F76*(1+I$3) -> 924.17872 | H76: =H44/H60 -> 1984.9587 | I76: =I44/I60 -> 2181.5158 | J76: =J44/J60 -> 2210.5896 | K76: =J76*(1+H$4) -> 2316.8196 | L76: =K76*(1+I$4) -> 2425.7101 | M76: =D76/C76-1 -> 0.10523664 | N76: =E76/D76-1 -> 0.056042615 | O76: =F76/E76-1 -> 0.053140652 | P76: =G76/F76-1 -> 0.051 | Q76: =I76/H76-1 -> 0.099023259 | R76: =J76/I76-1 -> 0.013327365 | S76: =K76/J76-1 -> 0.04805502 | T76: =L76/K76-1 -> 0.047
A77: Võru vald | B77: keskmine | C77: =C45/C61/12 -> 693.27467 | D77: =D45/D61/12 -> 772.30772 | E77: =E45/E61/12 -> 824.76259 | F77: =F45/F61/12 -> 869.41642 | G77: =G45/G61/12 -> 914.20287 | H77: =H45/H61/12 -> 1799.8436 | I77: =I45/I61/12 -> 1945.6509 | J77: =J45/J61/12 -> 2053.8446 | ... L77: =L45/L61/12 -> 2257.1627 | M77: =D77/C77-1 -> 0.11399962 | N77: =E77/D77-1 -> 0.067919647 | O77: =F77/E77-1 -> 0.054141439 | P77: =G77/F77-1 -> 0.051513236 | Q77: =I77/H77-1 -> 0.081011047 | R77: =J77/I77-1 -> 0.055608001 | S77: =K77/J77-1 -> 0.049659903 | T77: =L77/K77-1 -> 0.047
A78: Väike-Maarja vald
A79: KOKKU | B79: Võlasaldo muutus | C79: 2023 | D79: 2024 | E79: 2025 | F79: 2026 | G79: 2027 | I79: VMS parandus | J79: 2023 | K79: 2024 | L79: 2025 | M79: 2026 | N79: 2027
B80: 1 | C80: =VLOOKUP($B$2,Võlasaldo!$C$5:$AA$84,Võlasaldo!E$1,FALSE)-VLOOKUP($B$2,Võlasaldo!$C$5:$AA$84,Võlasaldo!D$1,FALSE) -> 345191.53 | D80: =VLOOKUP($B$2,Võlasaldo!$C$5:$AA$84,Võlasaldo!R$1,FALSE)-VLOOKUP($B$2,Võlasaldo!$C$5:$AA$84,Võlasaldo!Q$1,FALSE) -> 1491152 | E80: =VLOOKUP($B$2,Võlasaldo!$C$5:$BC$84,Võlasaldo!AE$1,FALSE)-VLOOKUP($B$2,Võlasaldo!$C$5:$BC$84,Võlasaldo!AD$1,FALSE) -> 536258.27 | F80: =VLOOKUP($B$2,Võlasaldo!$C$5:$BC$84,Võlasaldo!AR$1,FALSE)-VLOOKUP($B$2,Võlasaldo!$C$5:$BC$84,Võlasaldo!AQ$1,FALSE) -> 606524.05 | G80: =L$111*K44*R$3 -> 319756.21 | I80: 1 | K80: =VLOOKUP($B$2,'VMS muut'!$C$4:$W$84,'VMS muut'!O$1,FALSE) -> 7918686.9 | L80: =VLOOKUP($B$2,'VMS muut'!$C$4:$BC$84,'VMS muut'!AA$1,FALSE) -> 4202460.4 | M80: =VLOOKUP($B$2,'VMS muut'!$C$4:$BC$84,'VMS muut'!AM$1,FALSE) -> 3488464.2
B81: 2 | C81: =VLOOKUP($B$2,Võlasaldo!$C$5:$AA$84,Võlasaldo!G$1,FALSE)-VLOOKUP($B$2,Võlasaldo!$C$5:$AA$84,Võlasaldo!F$1,FALSE) -> 193826.39 | D81: =VLOOKUP($B$2,Võlasaldo!$C$5:$AA$84,Võlasaldo!T$1,FALSE)-VLOOKUP($B$2,Võlasaldo!$C$5:$AA$84,Võlasaldo!S$1,FALSE) -> -527617.25 | E81: =VLOOKUP($B$2,Võlasaldo!$C$5:$BC$84,Võlasaldo!AG$1,FALSE)-VLOOKUP($B$2,Võlasaldo!$C$5:$BC$84,Võlasaldo!AF$1,FALSE) -> 315982.13 | F81: =VLOOKUP($B$2,Võlasaldo!$C$5:$BC$84,Võlasaldo!AT$1,FALSE)-VLOOKUP($B$2,Võlasaldo!$C$5:$BC$84,Võlasaldo!AS$1,FALSE) -> 266192.11 | G81: =M$111*L33*R$3 -> 284881.37 | I81: 2 | J81: =VLOOKUP($B$2,'VMS muut'!$C$4:$W$84,'VMS muut'!D$1,FALSE) -> 9882229.1 | K81: =VLOOKUP($B$2,'VMS muut'!$C$4:$W$84,'VMS muut'!P$1,FALSE) -> 11942107 | L81: =VLOOKUP($B$2,'VMS muut'!$C$4:$BC$84,'VMS muut'!AB$1,FALSE) -> 7070848.5 | M81: =VLOOKUP($B$2,'VMS muut'!$C$4:$BC$84,'VMS muut'!AN$1,FALSE) -> 5376459.1
B82: 3 | C82: =VLOOKUP($B$2,Võlasaldo!$C$5:$AA$84,Võlasaldo!H$1,FALSE)-VLOOKUP($B$2,Võlasaldo!$C$5:$AA$84,Võlasaldo!G$1,FALSE) -> 320582.78 | D82: =VLOOKUP($B$2,Võlasaldo!$C$5:$AA$84,Võlasaldo!U$1,FALSE)-VLOOKUP($B$2,Võlasaldo!$C$5:$AA$84,Võlasaldo!T$1,FALSE) -> 833663.24 | E82: =VLOOKUP($B$2,Võlasaldo!$C$5:$BC$84,Võlasaldo!AH$1,FALSE)-VLOOKUP($B$2,Võlasaldo!$C$5:$BC$84,Võlasaldo!AG$1,FALSE) -> 61318.571 | F82: =VLOOKUP($B$2,Võlasaldo!$C$5:$BC$84,Võlasaldo!AU$1,FALSE)-VLOOKUP($B$2,Võlasaldo!$C$5:$BC$84,Võlasaldo!AT$1,FALSE) -> 152403.15 | G82: =M$111*L34*R$3 -> 281938.25 | I82: 3 | J82: =VLOOKUP($B$2,'VMS muut'!$C$4:$W$84,'VMS muut'!E$1,FALSE) -> 1687828 | K82: =VLOOKUP($B$2,'VMS muut'!$C$4:$W$84,'VMS muut'!Q$1,FALSE) -> 3495192 | L82: =VLOOKUP($B$2,'VMS muut'!$C$4:$BC$84,'VMS muut'!AC$1,FALSE) -> 5374812.7 | M82: =VLOOKUP($B$2,'VMS muut'!$C$4:$BC$84,'VMS muut'!AO$1,FALSE) -> 1686844
B83: 4 | C83: =VLOOKUP($B$2,Võlasaldo!$C$5:$AA$84,Võlasaldo!I$1,FALSE)-VLOOKUP($B$2,Võlasaldo!$C$5:$AA$84,Võlasaldo!H$1,FALSE) -> -157428.76 | D83: =VLOOKUP($B$2,Võlasaldo!$C$5:$AA$84,Võlasaldo!V$1,FALSE)-VLOOKUP($B$2,Võlasaldo!$C$5:$AA$84,Võlasaldo!U$1,FALSE) -> 329735.78 | E83: =VLOOKUP($B$2,Võlasaldo!$C$5:$BC$84,Võlasaldo!AI$1,FALSE)-VLOOKUP($B$2,Võlasaldo!$C$5:$BC$84,Võlasaldo!AH$1,FALSE) -> -351220.49 | F83: =VLOOKUP($B$2,Võlasaldo!$C$5:$BC$84,Võlasaldo!AV$1,FALSE)-VLOOKUP($B$2,Võlasaldo!$C$5:$BC$84,Võlasaldo!AU$1,FALSE) -> -264856.28 | G83: =M$111*L35*R$3 -> 290399.99 | I83: 4 | J83: =VLOOKUP($B$2,'VMS muut'!$C$4:$W$84,'VMS muut'!F$1,FALSE) -> 2483876 | K83: =VLOOKUP($B$2,'VMS muut'!$C$4:$W$84,'VMS muut'!R$1,FALSE) -> 3636081.9 | L83: =VLOOKUP($B$2,'VMS muut'!$C$4:$BC$84,'VMS muut'!AD$1,FALSE) -> 3599333.5 | M83: =VLOOKUP($B$2,'VMS muut'!$C$4:$BC$84,'VMS muut'!AP$1,FALSE) -> 5586061
B84: 5 | C84: =VLOOKUP($B$2,Võlasaldo!$C$5:$AA$84,Võlasaldo!J$1,FALSE)-VLOOKUP($B$2,Võlasaldo!$C$5:$AA$84,Võlasaldo!I$1,FALSE) -> 39238.009 | D84: =VLOOKUP($B$2,Võlasaldo!$C$5:$AA$84,Võlasaldo!W$1,FALSE)-VLOOKUP($B$2,Võlasaldo!$C$5:$AA$84,Võlasaldo!V$1,FALSE) -> -77894.988 | E84: =VLOOKUP($B$2,Võlasaldo!$C$5:$BC$84,Võlasaldo!AJ$1,FALSE)-VLOOKUP($B$2,Võlasaldo!$C$5:$BC$84,Võlasaldo!AI$1,FALSE) -> 438235.81 | F84: =VLOOKUP($B$2,Võlasaldo!$C$5:$BC$84,Võlasaldo!AW$1,FALSE)-VLOOKUP($B$2,Võlasaldo!$C$5:$BC$84,Võlasaldo!AV$1,FALSE) -> 302685.2 | G84: =M$111*L36*R$3 -> 303638.75 | I84: 5 | J84: =VLOOKUP($B$2,'VMS muut'!$C$4:$W$84,'VMS muut'!G$1,FALSE) -> 2871862.1 | K84: =VLOOKUP($B$2,'VMS muut'!$C$4:$W$84,'VMS muut'!S$1,FALSE) -> 2962262.4 | L84: =VLOOKUP($B$2,'VMS muut'!$C$4:$BC$84,'VMS muut'!AE$1,FALSE) -> 1339840.4 | M84: =VLOOKUP($B$2,'VMS muut'!$C$4:$BC$84,'VMS muut'!AQ$1,FALSE) -> 2618888.2
B85: 6 | C85: =VLOOKUP($B$2,Võlasaldo!$C$5:$AA$84,Võlasaldo!K$1,FALSE)-VLOOKUP($B$2,Võlasaldo!$C$5:$AA$84,Võlasaldo!J$1,FALSE) -> 8924.1932 | D85: =VLOOKUP($B$2,Võlasaldo!$C$5:$AA$84,Võlasaldo!X$1,FALSE)-VLOOKUP($B$2,Võlasaldo!$C$5:$AA$84,Võlasaldo!W$1,FALSE) -> -219966.7 | E85: =VLOOKUP($B$2,Võlasaldo!$C$5:$BC$84,Võlasaldo!AK$1,FALSE)-VLOOKUP($B$2,Võlasaldo!$C$5:$BC$84,Võlasaldo!AJ$1,FALSE) -> 36777.807 | F85: =VLOOKUP($B$2,Võlasaldo!$C$5:$BC$84,Võlasaldo!AX$1,FALSE)-VLOOKUP($B$2,Võlasaldo!$C$5:$BC$84,Võlasaldo!AW$1,FALSE) -> 193589.84 | G85: =M$111*L37*R$3 -> 294197.99 | I85: 6 | J85: =VLOOKUP($B$2,'VMS muut'!$C$4:$W$84,'VMS muut'!H$1,FALSE) -> 3547058.4 | K85: =VLOOKUP($B$2,'VMS muut'!$C$4:$W$84,'VMS muut'!T$1,FALSE) -> 2663751.7 | L85: =VLOOKUP($B$2,'VMS muut'!$C$4:$BC$84,'VMS muut'!AF$1,FALSE) -> 2532202.8 | M85: =VLOOKUP($B$2,'VMS muut'!$C$4:$BC$84,'VMS muut'!AR$1,FALSE) -> 2924113.8
B86: 7 | C86: =VLOOKUP($B$2,Võlasaldo!$C$5:$AA$84,Võlasaldo!L$1,FALSE)-VLOOKUP($B$2,Võlasaldo!$C$5:$AA$84,Võlasaldo!K$1,FALSE) -> 364342.74 | D86: =VLOOKUP($B$2,Võlasaldo!$C$5:$AA$84,Võlasaldo!Y$1,FALSE)-VLOOKUP($B$2,Võlasaldo!$C$5:$AA$84,Võlasaldo!X$1,FALSE) -> 238968.34 | E86: =VLOOKUP($B$2,Võlasaldo!$C$5:$BC$84,Võlasaldo!AL$1,FALSE)-VLOOKUP($B$2,Võlasaldo!$C$5:$BC$84,Võlasaldo!AK$1,FALSE) -> 194007.4 | F86: =VLOOKUP($B$2,Võlasaldo!$C$5:$BC$84,Võlasaldo!AY$1,FALSE)-VLOOKUP($B$2,Võlasaldo!$C$5:$BC$84,Võlasaldo!AX$1,FALSE) -> -15435.596 | G86: =M$111*L38*R$3 -> 307739.96 | I86: 7 | J86: =VLOOKUP($B$2,'VMS muut'!$C$4:$W$84,'VMS muut'!I$1,FALSE) -> 2989813.2 | K86: =VLOOKUP($B$2,'VMS muut'!$C$4:$W$84,'VMS muut'!U$1,FALSE) -> 2852835.7 | L86: =VLOOKUP($B$2,'VMS muut'!$C$4:$BC$84,'VMS muut'!AG$1,FALSE) -> 2633864.9 | M86: =VLOOKUP($B$2,'VMS muut'!$C$4:$BC$84,'VMS muut'!AS$1,FALSE) -> 3274785.8
B87: 8 | C87: =VLOOKUP($B$2,Võlasaldo!$C$5:$AA$84,Võlasaldo!M$1,FALSE)-VLOOKUP($B$2,Võlasaldo!$C$5:$AA$84,Võlasaldo!L$1,FALSE) -> 615121.82 | D87: =VLOOKUP($B$2,Võlasaldo!$C$5:$AA$84,Võlasaldo!Z$1,FALSE)-VLOOKUP($B$2,Võlasaldo!$C$5:$AA$84,Võlasaldo!Y$1,FALSE) -> 651744.31 | E87: =VLOOKUP($B$2,Võlasaldo!$C$5:$BC$84,Võlasaldo!AM$1,FALSE)-VLOOKUP($B$2,Võlasaldo!$C$5:$BC$84,Võlasaldo!AL$1,FALSE) -> 242480 | F87: =VLOOKUP($B$2,Võlasaldo!$C$5:$BC$84,Võlasaldo!AZ$1,FALSE)-VLOOKUP($B$2,Võlasaldo!$C$5:$BC$84,Võlasaldo!AY$1,FALSE) -> -48446.509 | G87: =M$111*L39*R$3 -> 302501.52 | I87: 8 | J87: =VLOOKUP($B$2,'VMS muut'!$C$4:$W$84,'VMS muut'!J$1,FALSE) -> 3090598.1 | K87: =VLOOKUP($B$2,'VMS muut'!$C$4:$W$84,'VMS muut'!V$1,FALSE) -> 2192028.8 | L87: =VLOOKUP($B$2,'VMS muut'!$C$4:$BC$84,'VMS muut'!AH$1,FALSE) -> 3131489.6 | M87: =VLOOKUP($B$2,'VMS muut'!$C$4:$BC$84,'VMS muut'!AT$1,FALSE) -> 2612278.6
B88: 9 | C88: =VLOOKUP($B$2,Võlasaldo!$C$5:$AA$84,Võlasaldo!N$1,FALSE)-VLOOKUP($B$2,Võlasaldo!$C$5:$AA$84,Võlasaldo!M$1,FALSE) -> 69240.626 | D88: =VLOOKUP($B$2,Võlasaldo!$C$5:$AA$84,Võlasaldo!AA$1,FALSE)-VLOOKUP($B$2,Võlasaldo!$C$5:$AA$84,Võlasaldo!Z$1,FALSE) -> 325713.41 | E88: =VLOOKUP($B$2,Võlasaldo!$C$5:$BC$84,Võlasaldo!AN$1,FALSE)-VLOOKUP($B$2,Võlasaldo!$C$5:$BC$84,Võlasaldo!AM$1,FALSE) -> 138059.08 | F88: =VLOOKUP($B$2,Võlasaldo!$C$5:$BC$84,Võlasaldo!BA$1,FALSE)-VLOOKUP($B$2,Võlasaldo!$C$5:$BC$84,Võlasaldo!AZ$1,FALSE) -> 467995.42 | G88: =M$111*L40*R$3 -> 294144.71 | I88: 9 | J88: =VLOOKUP($B$2,'VMS muut'!$C$4:$W$84,'VMS muut'!K$1,FALSE) -> 2363293.5 | K88: =VLOOKUP($B$2,'VMS muut'!$C$4:$W$84,'VMS muut'!W$1,FALSE) -> 5068115.2 | L88: =VLOOKUP($B$2,'VMS muut'!$C$4:$BC$84,'VMS muut'!AI$1,FALSE) -> 4211396 | M88: =VLOOKUP($B$2,'VMS muut'!$C$4:$BC$84,'VMS muut'!AU$1,FALSE) -> 2727062.8
B89: 10 | C89: =VLOOKUP($B$2,Võlasaldo!$C$5:$AA$84,Võlasaldo!O$1,FALSE)-VLOOKUP($B$2,Võlasaldo!$C$5:$AA$84,Võlasaldo!N$1,FALSE) -> 417163.48 | D89: =VLOOKUP($B$2,Võlasaldo!$C$5:$BC$84,Võlasaldo!AB$1,FALSE)-VLOOKUP($B$2,Võlasaldo!$C$5:$BC$84,Võlasaldo!AA$1,FALSE) -> 212541.48 | E89: =VLOOKUP($B$2,Võlasaldo!$C$5:$BC$84,Võlasaldo!AO$1,FALSE)-VLOOKUP($B$2,Võlasaldo!$C$5:$BC$84,Võlasaldo!AN$1,FALSE) -> 302906.07 | F89: =L$111*K41*R$3 -> 288078.67 | G89: =M$111*L41*R$3 -> 291885.8 | I89: 10 | J89: =VLOOKUP($B$2,'VMS muut'!$C$4:$W$84,'VMS muut'!L$1,FALSE) -> 3070297.5 | K89: =VLOOKUP($B$2,'VMS muut'!$C$4:$BC$84,'VMS muut'!X$1,FALSE) -> 3058381.1 | L89: =VLOOKUP($B$2,'VMS muut'!$C$4:$BC$84,'VMS muut'!AJ$1,FALSE) -> 2312889.7
B90: 11 | C90: =VLOOKUP($B$2,Võlasaldo!$C$5:$AA$84,Võlasaldo!P$1,FALSE)-VLOOKUP($B$2,Võlasaldo!$C$5:$AA$84,Võlasaldo!O$1,FALSE) -> -112385.01 | D90: =VLOOKUP($B$2,Võlasaldo!$C$5:$BC$84,Võlasaldo!AC$1,FALSE)-VLOOKUP($B$2,Võlasaldo!$C$5:$BC$84,Võlasaldo!AB$1,FALSE) -> 280441.21 | E90: =VLOOKUP($B$2,Võlasaldo!$C$5:$BC$84,Võlasaldo!AP$1,FALSE)-VLOOKUP($B$2,Võlasaldo!$C$5:$BC$84,Võlasaldo!AO$1,FALSE) -> 167667.51 | F90: =L$111*K42*R$3 -> 294801.96 | G90: =M$111*L42*R$3 -> 298697.95 | I90: 11 | J90: =VLOOKUP($B$2,'VMS muut'!$C$4:$W$84,'VMS muut'!M$1,FALSE) -> 2940654.9 | K90: =VLOOKUP($B$2,'VMS muut'!$C$4:$BC$84,'VMS muut'!Y$1,FALSE) -> 2451361.2 | L90: =VLOOKUP($B$2,'VMS muut'!$C$4:$BC$84,'VMS muut'!AK$1,FALSE) -> 2521731
B91: 12 | C91: =VLOOKUP($B$2,Võlasaldo!$C$5:$AA$84,Võlasaldo!Q$1,FALSE)-VLOOKUP($B$2,Võlasaldo!$C$5:$AA$84,Võlasaldo!P$1,FALSE) -> -718150.04 | D91: =VLOOKUP($B$2,Võlasaldo!$C$5:$BC$84,Võlasaldo!AD$1,FALSE)-VLOOKUP($B$2,Võlasaldo!$C$5:$BC$84,Võlasaldo!AC$1,FALSE) -> 339944.72 | E91: =VLOOKUP($B$2,Võlasaldo!$C$5:$BC$84,Võlasaldo!AQ$1,FALSE)-VLOOKUP($B$2,Võlasaldo!$C$5:$BC$84,Võlasaldo!AP$1,FALSE) -> 384792.88 | F91: =L$111*K43*R$3 -> 295952.22 | G91: =M$111*L43*R$3 -> 299863.41 | I91: 12 | J91: =VLOOKUP($B$2,'VMS muut'!$C$4:$W$84,'VMS muut'!N$1,FALSE) -> 2237168.6 | K91: =VLOOKUP($B$2,'VMS muut'!$C$4:$BC$84,'VMS muut'!Z$1,FALSE) -> 2406657.1 | L91: =VLOOKUP($B$2,'VMS muut'!$C$4:$BC$84,'VMS muut'!AL$1,FALSE) -> 4062072.1
B92: KOKKU | C92: =SUM(C80:C91) -> 1385667.8 | D92: =SUM(D80:D91) -> 3878425.5 | E92: =SUM(E80:E91) -> 2467265 | F92: =SUM(F80:F91) -> 2539484.2 | G92: =SUM(G80:G91) -> 3569645.9 | I92: KOKKU | J92: =SUM(J80:J91) -> 37164680 | K92: =SUM(K80:K91) -> 50647461 | L92: =SUM(L80:L91) -> 42992942 | M92: =SUM(M80:M91) -> 30294958
B94: FTM | C94: 2023 | D94: 2024 | E94: 2025 | F94: 2026 | G94: 2027 | I94: Aadressita isikute muu tulu lisa | J94: 2023 | K94: 2024 | L94: 2025 | M94: 2026 | N94: 2027 | P94: Aadressita isikute pensionitulu lisa | Q94: 2023 | R94: 2024 | S94: 2025 | T94: 2026 | U94: 2027
B95: 1 | C95: =VLOOKUP($B$2,FTM!$B$4:$Z$83,FTM!C$85,FALSE) -> 565957.15 | D95: =VLOOKUP($B$2,FTM!$B$4:$Z$83,FTM!O$85,FALSE) -> 862629.17 | E95: =VLOOKUP($B$2,FTM!$B$4:$CC$83,FTM!AA$85,FALSE) -> 836394.91 | F95: =VLOOKUP($B$2,FTM!$B$4:$CC$83,FTM!AM$85,FALSE) -> 1002710.3 | G95: =AVERAGE(E95,F95) -> 919552.62 | I95: 1 | K95: ='VMS algne'!O86 -> 1268000 | L95: ='VMS algne'!AA86 -> 840000 | M95: ='VMS algne'!AM$86 -> 695000 | N95: =AVERAGE(M$95:M$106) -> 368791.67 | P95: 1 | R95: =Pension2024!B86 -> 1.0003019 | S95: =Pension2025!B86 -> 1.0001552 | T95: =Pension2026!B$86 -> 1.0000867 | U95: =AVERAGE(T$95:T$106) -> 1.0000708
B96: 2 | C96: =VLOOKUP($B$2,FTM!$B$4:$Z$83,FTM!D$85,FALSE) -> 768487.91 | D96: =VLOOKUP($B$2,FTM!$B$4:$Z$83,FTM!P$85,FALSE) -> 1018040 | E96: =VLOOKUP($B$2,FTM!$B$4:$CC$83,FTM!AB$85,FALSE) -> 744325.3 | F96: =VLOOKUP($B$2,FTM!$B$4:$CC$83,FTM!AN$85,FALSE) -> 1003496.9 | G96: =AVERAGE(E96,F96) -> 873911.11 | I96: 2 | J96: ='VMS algne'!D86 -> 403000 | K96: ='VMS algne'!P86 -> 194000 | L96: ='VMS algne'!AB86 -> 119000 | M96: ='VMS algne'!AN$86 -> 116000 | N96: =AVERAGE(M$95:M$106) -> 368791.67 | P96: 2 | R96: =Pension2024!C86 -> 1.0002032 | S96: =Pension2025!C86 -> 1.0000235 | T96: =Pension2026!C$86 -> 1.0000199 | U96: =AVERAGE(T$95:T$106) -> 1.0000708
B97: 3 | C97: =VLOOKUP($B$2,FTM!$B$4:$Z$83,FTM!E$85,FALSE) -> 4457892.1 | D97: =VLOOKUP($B$2,FTM!$B$4:$Z$83,FTM!Q$85,FALSE) -> 4366318.6 | E97: =VLOOKUP($B$2,FTM!$B$4:$CC$83,FTM!AC$85,FALSE) -> 2840663.2 | F97: =VLOOKUP($B$2,FTM!$B$4:$CC$83,FTM!AO$85,FALSE) -> 3812041.1 | G97: =AVERAGE(E97,F97) -> 3326352.2 | I97: 3 | J97: ='VMS algne'!E86 -> 541000 | K97: ='VMS algne'!Q86 -> 248000 | L97: ='VMS algne'!AC86 -> 184000 | M97: ='VMS algne'!AO$86 -> 180000 | N97: =AVERAGE(M$95:M$106) -> 368791.67 | P97: 3 | R97: =Pension2024!D86 -> 1.0002253 | S97: =Pension2025!D86 -> 1.0000921 | T97: =Pension2026!D$86 -> 1.00003 | U97: =AVERAGE(T$95:T$106) -> 1.0000708
B98: 4 | C98: =VLOOKUP($B$2,FTM!$B$4:$Z$83,FTM!F$85,FALSE) -> 1993552.4 | D98: =VLOOKUP($B$2,FTM!$B$4:$Z$83,FTM!R$85,FALSE) -> 3419269.4 | E98: =VLOOKUP($B$2,FTM!$B$4:$CC$83,FTM!AD$85,FALSE) -> 4320490.5 | F98: =VLOOKUP($B$2,FTM!$B$4:$CC$83,FTM!AP$85,FALSE) -> 2932088.4 | G98: =AVERAGE(E98,F98) -> 3626289.5 | I98: 4 | J98: ='VMS algne'!F86 -> 640000 | K98: ='VMS algne'!R86 -> 336000 | L98: ='VMS algne'!AD86 -> 244000 | M98: ='VMS algne'!AP$86 -> 224000 | N98: =AVERAGE(M$95:M$106) -> 368791.67 | P98: 4 | R98: =Pension2024!E86 -> 1.0002684 | S98: =Pension2025!E86 -> 1.000087 | T98: =Pension2026!E$86 -> 1.0000653 | U98: =AVERAGE(T$95:T$106) -> 1.0000708
B99: 5 | C99: =VLOOKUP($B$2,FTM!$B$4:$Z$83,FTM!G$85,FALSE) -> 2616096.5 | D99: =VLOOKUP($B$2,FTM!$B$4:$Z$83,FTM!S$85,FALSE) -> 2469580.2 | E99: =VLOOKUP($B$2,FTM!$B$4:$CC$83,FTM!AE$85,FALSE) -> 2442915.2 | F99: =VLOOKUP($B$2,FTM!$B$4:$CC$83,FTM!AQ$85,FALSE) -> 2949955.7 | G99: =AVERAGE(E99,F99) -> 2696435.5 | I99: 5 | J99: ='VMS algne'!G86 -> 738000 | K99: ='VMS algne'!S86 -> 377000 | L99: ='VMS algne'!AE86 -> 262000 | M99: ='VMS algne'!AQ$86 -> 276000 | N99: =AVERAGE(M$95:M$106) -> 368791.67 | P99: 5 | R99: =Pension2024!F86 -> 1.0002837 | S99: =Pension2025!F86 -> 1.0001339 | T99: =Pension2026!F$86 -> 1.0000778 | U99: =AVERAGE(T$95:T$106) -> 1.0000708
B100: 6 | C100: =VLOOKUP($B$2,FTM!$B$4:$Z$83,FTM!H$85,FALSE) -> 857359.65 | D100: =VLOOKUP($B$2,FTM!$B$4:$Z$83,FTM!T$85,FALSE) -> 799981.63 | E100: =VLOOKUP($B$2,FTM!$B$4:$CC$83,FTM!AF$85,FALSE) -> 762344.57 | F100: =VLOOKUP($B$2,FTM!$B$4:$CC$83,FTM!AR$85,FALSE) -> 954878.8 | G100: =AVERAGE(E100,F100) -> 858611.68 | I100: 6 | J100: ='VMS algne'!H86 -> 818000 | K100: ='VMS algne'!T86 -> 414000 | L100: ='VMS algne'!AF86 -> 298000 | M100: ='VMS algne'!AR$86 -> 307000 | N100: =AVERAGE(M$95:M$106) -> 368791.67 | P100: 6 | R100: =Pension2024!G86 -> 1.0002961 | S100: =Pension2025!G86 -> 1.0001563 | T100: =Pension2026!G$86 -> 1.0001112 | U100: =AVERAGE(T$95:T$106) -> 1.0000708
B101: 7 | C101: =VLOOKUP($B$2,FTM!$B$4:$Z$83,FTM!I$85,FALSE) -> 534223.7 | D101: =VLOOKUP($B$2,FTM!$B$4:$Z$83,FTM!U$85,FALSE) -> 823906.57 | E101: =VLOOKUP($B$2,FTM!$B$4:$CC$83,FTM!AG$85,FALSE) -> 704505.93 | F101: =VLOOKUP($B$2,FTM!$B$4:$CC$83,FTM!AS$85,FALSE) -> 755334.77 | G101: =AVERAGE(E101,F101) -> 729920.35 | I101: 7 | J101: ='VMS algne'!I86 -> 930000 | K101: ='VMS algne'!U86 -> 482000 | L101: ='VMS algne'!AG$86 -> 371000 | M101: ='VMS algne'!AS$86 -> 349000 | N101: =AVERAGE(M$95:M$106) -> 368791.67 | P101: 7 | R101: =Pension2024!H86 -> 1.0003396 | S101: =Pension2025!H86 -> 0.99997187 | T101: =Pension2026!H$86 -> 1.0001225 | U101: =AVERAGE(T$95:T$106) -> 1.0000708
B102: 8 | C102: =VLOOKUP($B$2,FTM!$B$4:$Z$83,FTM!J$85,FALSE) -> 496614.07 | D102: =VLOOKUP($B$2,FTM!$B$4:$Z$83,FTM!V$85,FALSE) -> 683430.49 | E102: =VLOOKUP($B$2,FTM!$B$4:$CC$83,FTM!AH$85,FALSE) -> 637709.37 | F102: =VLOOKUP($B$2,FTM!$B$4:$CC$83,FTM!AT$85,FALSE) -> 771385.96 | G102: =AVERAGE(E102,F102) -> 704547.67 | I102: 8 | J102: ='VMS algne'!J86 -> 965000 | K102: ='VMS algne'!V86 -> 527000 | L102: ='VMS algne'!AH$86 -> 393000 | M102: ='VMS algne'!AT$86 -> 413000 | N102: =AVERAGE(M$95:M$106) -> 368791.67 | P102: 8 | R102: =Pension2024!I86 -> 1.000341 | S102: =Pension2025!I86 -> 1.0001686 | T102: =Pension2026!I$86 -> 1.0000518 | U102: =AVERAGE(T$95:T$106) -> 1.0000708
B103: 9 | C103: =VLOOKUP($B$2,FTM!$B$4:$Z$83,FTM!K$85,FALSE) -> 2475385.7 | D103: =VLOOKUP($B$2,FTM!$B$4:$Z$83,FTM!W$85,FALSE) -> 1982384.4 | E103: =VLOOKUP($B$2,FTM!$B$4:$CC$83,FTM!AI$85,FALSE) -> 2273111.6 | F103: =VLOOKUP($B$2,FTM!$B$4:$CC$83,FTM!AU$85,FALSE) -> 2414971.4 | G103: =AVERAGE(E103,F103) -> 2344041.5 | I103: 9 | J103: ='VMS algne'!K86 -> 983000 | K103: ='VMS algne'!W86 -> 565000 | L103: ='VMS algne'!AI$86 -> 440000 | M103: ='VMS algne'!AU$86 -> 449000 | N103: =AVERAGE(M$95:M$106) -> 368791.67 | P103: 9 | R103: =Pension2024!J86 -> 1.0003726 | S103: =Pension2025!J86 -> 1.0002074 | T103: =AVERAGE(T$96:T$101) -> 1.0000711 | U103: =AVERAGE(T$95:T$106) -> 1.0000708
B104: 10 | C104: =VLOOKUP($B$2,FTM!$B$4:$Z$83,FTM!L$85,FALSE) -> 16404902 | D104: =VLOOKUP($B$2,FTM!$B$4:$Z$83,FTM!X$85,FALSE) -> 18457589 | E104: =VLOOKUP($B$2,FTM!$B$4:$CC$83,FTM!AJ$85,FALSE) -> 21386328 | F104: =AVERAGE(D104,E104) -> 19921958 | G104: =AVERAGE(E104,F104) -> 20654143 | I104: 10 | J104: ='VMS algne'!L86 -> 1083000 | K104: ='VMS algne'!X86 -> 609000 | L104: ='VMS algne'!AJ$86 -> 486000 | M104: =AVERAGE(L$101:L$106) -> 472166.67 | N104: =AVERAGE(M$95:M$106) -> 368791.67 | P104: 10 | R104: =Pension2024!K86 -> 1.0003956 | S104: =Pension2025!K86 -> 1.0002353 | T104: =AVERAGE(T$96:T$101) -> 1.0000711 | U104: =AVERAGE(T$95:T$106) -> 1.0000708
B105: 11 | C105: =VLOOKUP($B$2,FTM!$B$4:$Z$83,FTM!M$85,FALSE) -> 1160429 | D105: =VLOOKUP($B$2,FTM!$B$4:$Z$83,FTM!Y$85,FALSE) -> 1003005.2 | E105: =VLOOKUP($B$2,FTM!$B$4:$CC$83,FTM!AK$85,FALSE) -> 1127801.6 | F105: =AVERAGE(D105,E105) -> 1065403.4 | G105: =AVERAGE(E105,F105) -> 1096602.5 | I105: 11 | J105: ='VMS algne'!M86 -> 1097000 | K105: ='VMS algne'!Y86 -> 676000 | L105: ='VMS algne'!AK$86 -> 539000 | M105: =AVERAGE(L$101:L$106) -> 472166.67 | N105: =AVERAGE(M$95:M$106) -> 368791.67 | P105: 11 | R105: =Pension2024!L86 -> 1.0004397 | S105: =Pension2025!L86 -> 1.0001866 | T105: =AVERAGE(T$96:T$101) -> 1.0000711 | U105: =AVERAGE(T$95:T$106) -> 1.0000708
B106: 12 | C106: =VLOOKUP($B$2,FTM!$B$4:$Z$83,FTM!N$85,FALSE) -> 1919986.8 | D106: =VLOOKUP($B$2,FTM!$B$4:$Z$83,FTM!Z$85,FALSE) -> 1984867.5 | E106: =VLOOKUP($B$2,FTM!$B$4:$CC$83,FTM!AL$85,FALSE) -> 2129405.1 | F106: =AVERAGE(D106,E106) -> 2057136.3 | G106: =AVERAGE(E106,F106) -> 2093270.7 | I106: 12 | J106: ='VMS algne'!N86 -> 1152000 | K106: ='VMS algne'!Z86 -> 748000 | L106: ='VMS algne'!AL$86 -> 604000 | M106: =AVERAGE(L$101:L$106) -> 472166.67 | N106: =AVERAGE(M$95:M$106) -> 368791.67 | P106: 12 | R106: =Pension2024!M86 -> 1.0003455 | S106: =Pension2025!M86 -> 1.0002767 | T106: =AVERAGE(T$96:T$101) -> 1.0000711 | U106: =AVERAGE(T$95:T$106) -> 1.0000708
...

Sheet jooniseandmed
A1: Tulumaksu laekumise arvestus | B1: Kuu | C1: Pensionitulult | D1: Palgalt ja muult tulult (algne VMS) | E1: Võlad | F1: Vana perioodi VMS muutus | G1: FTM | H1: Aadressita isikutelt
A2: 2023 | B2: 1 | C2: =Arvestus!D114 -> 0 | D2: =Arvestus!E114 -> 144687558 | E2: =Arvestus!F114 -> -345191.53 | F2: =Arvestus!G114 -> 0 | G2: =Arvestus!H114 -> 565957.15 | H2: =Arvestus!I114 -> 0
B3: 2 | C3: =Arvestus!D115 -> 0 | D3: =Arvestus!E115 -> 1.2981222e+08 | E3: =Arvestus!F115 -> -193826.39 | F3: =Arvestus!G115 -> 1181914.6 | G3: =Arvestus!H115 -> 768487.91 | H3: =Arvestus!I115 -> 0
B4: 3 | C4: =Arvestus!D116 -> 0 | D4: =Arvestus!E116 -> 1.3073174e+08 | E4: =Arvestus!F116 -> -320582.78 | F4: =Arvestus!G116 -> 201864.23 | G4: =Arvestus!H116 -> 4457892.1 | H4: =Arvestus!I116 -> 0
B5: 4 | C5: =Arvestus!D117 -> 0 | D5: =Arvestus!E117 -> 1.3332617e+08 | E5: =Arvestus!F117 -> 157428.76 | F5: =Arvestus!G117 -> 297071.57 | G5: =Arvestus!H117 -> 1993552.4 | H5: =Arvestus!I117 -> 0
B6: 5 | C6: =Arvestus!D118 -> 0 | D6: =Arvestus!E118 -> 1.4150872e+08 | E6: =Arvestus!F118 -> -39238.009 | F6: =Arvestus!G118 -> 343474.71 | G6: =Arvestus!H118 -> 2616096.5 | H6: =Arvestus!I118 -> 0
B7: 6 | C7: =Arvestus!D119 -> 0 | D7: =Arvestus!E119 -> 1.3625439e+08 | E7: =Arvestus!F119 -> -8924.1932 | F7: =Arvestus!G119 -> 424228.18 | G7: =Arvestus!H119 -> 857359.65 | H7: =Arvestus!I119 -> 0
B8: 7 | C8: =Arvestus!D120 -> 0 | D8: =Arvestus!E120 -> 1.4539446e+08 | E8: =Arvestus!F120 -> -364342.74 | F8: =Arvestus!G120 -> 357581.66 | G8: =Arvestus!H120 -> 534223.7 | H8: =Arvestus!I120 -> 0
B9: 8 | C9: =Arvestus!D121 -> 0 | D9: =Arvestus!E121 -> 1.4035207e+08 | E9: =Arvestus!F121 -> -615121.82 | F9: =Arvestus!G121 -> 369635.53 | G9: =Arvestus!H121 -> 496614.07 | H9: =Arvestus!I121 -> 0
B10: 9 | C10: =Arvestus!D122 -> 0 | D10: =Arvestus!E122 -> 1.35772e+08 | E10: =Arvestus!F122 -> -69240.626 | F10: =Arvestus!G122 -> 282649.91 | G10: =Arvestus!H122 -> 2475385.7 | H10: =Arvestus!I122 -> 0
B11: 10 | C11: =Arvestus!D123 -> 0 | D11: =Arvestus!E123 -> 1.3694306e+08 | E11: =Arvestus!F123 -> -417163.48 | F11: =Arvestus!G123 -> 367207.59 | G11: =Arvestus!H123 -> 16404902 | H11: =Arvestus!I123 -> 0
B12: 11 | C12: =Arvestus!D124 -> 0 | D12: =Arvestus!E124 -> 1.3803854e+08 | E12: =Arvestus!F124 -> 112385.01 | F12: =Arvestus!G124 -> 351702.32 | G12: =Arvestus!H124 -> 1160429 | H12: =Arvestus!I124 -> 0
B13: 12 | C13: =Arvestus!D125 -> 0 | D13: =Arvestus!E125 -> 1.4071622e+08 | E13: =Arvestus!F125 -> 718150.04 | F13: =Arvestus!G125 -> 267565.36 | G13: =Arvestus!H125 -> 1919986.8 | H13: =Arvestus!I125 -> 0
A14: 2024 | B14: 1 | C14: =Arvestus!D127 -> 0 | D14: =Arvestus!E127 -> 1.5379315e+08 | E14: =Arvestus!F127 -> -1491152 | F14: =Arvestus!G127 -> 947074.95 | G14: =Arvestus!H127 -> 862629.17 | H14: =Arvestus!I127 -> 0
B15: 2 | C15: =Arvestus!D128 -> 5536329.4 | D15: =Arvestus!E128 -> 1.3945764e+08 | E15: =Arvestus!F128 -> 527617.25 | F15: =Arvestus!G128 -> 1419916.6 | G15: =Arvestus!H128 -> 1018040 | H15: =Arvestus!I128 -> 0
B16: 3 | C16: =Arvestus!D129 -> 5536139.5 | D16: =Arvestus!E129 -> 1.3948651e+08 | E16: =Arvestus!F129 -> -833663.24 | F16: =Arvestus!G129 -> 415578.32 | G16: =Arvestus!H129 -> 4366318.6 | H16: =Arvestus!I129 -> 0
B17: 4 | C17: =Arvestus!D130 -> 5537009.4 | D17: =Arvestus!E130 -> 1.4360189e+08 | E17: =Arvestus!F130 -> -329735.78 | F17: =Arvestus!G130 -> 432330.14 | G17: =Arvestus!H130 -> 3419269.4 | H17: =Arvestus!I130 -> 0
B18: 5 | C18: =Arvestus!D131 -> 6130327.5 | D18: =Arvestus!E131 -> 1.4945973e+08 | E18: =Arvestus!F131 -> 77894.988 | F18: =Arvestus!G131 -> 352212.99 | G18: =Arvestus!H131 -> 2469580.2 | H18: =Arvestus!I131 -> 0
B19: 6 | C19: =Arvestus!D132 -> 6139737.2 | D19: =Arvestus!E132 -> 1.456776e+08 | E19: =Arvestus!F132 -> 219966.7 | F19: =Arvestus!G132 -> 316720.08 | G19: =Arvestus!H132 -> 799981.63 | H19: =Arvestus!I132 -> 0
B20: 7 | C20: =Arvestus!D133 -> 6140314.7 | D20: =Arvestus!E133 -> 1.5377022e+08 | E20: =Arvestus!F133 -> -238968.34 | F20: =Arvestus!G133 -> 339202.16 | G20: =Arvestus!H133 -> 823906.57 | H20: =Arvestus!I133 -> 0
B21: 8 | C21: =Arvestus!D134 -> 6135561.7 | D21: =Arvestus!E134 -> 1.4907484e+08 | E21: =Arvestus!F134 -> -651744.31 | F21: =Arvestus!G134 -> 260632.22 | G21: =Arvestus!H134 -> 683430.49 | H21: =Arvestus!I134 -> 0
B22: 9 | C22: =Arvestus!D135 -> 6127100.7 | D22: =Arvestus!E135 -> 1.454993e+08 | E22: =Arvestus!F135 -> -325713.41 | F22: =Arvestus!G135 -> 602598.9 | G22: =Arvestus!H135 -> 1982384.4 | H22: =Arvestus!I135 -> 0
B23: 10 | C23: =Arvestus!D136 -> 6125232.3 | D23: =Arvestus!E136 -> 1.4472394e+08 | E23: =Arvestus!F136 -> -212541.48 | F23: =Arvestus!G136 -> 363641.52 | G23: =Arvestus!H136 -> 18457589 | H23: =Arvestus!I136 -> 0
B24: 11 | C24: =Arvestus!D137 -> 6131094.3 | D24: =Arvestus!E137 -> 1.4784559e+08 | E24: =Arvestus!F137 -> -280441.21 | F24: =Arvestus!G137 -> 291466.85 | G24: =Arvestus!H137 -> 1003005.2 | H24: =Arvestus!I137 -> 0
B25: 12 | C25: =Arvestus!D138 -> 6122052 | D25: =Arvestus!E138 -> 1.5009379e+08 | E25: =Arvestus!F138 -> -339944.72 | F25: =Arvestus!G138 -> 286151.53 | G25: =Arvestus!H138 -> 1984867.5 | H25: =Arvestus!I138 -> 0
A26: 2025 | B26: 1 | C26: =Arvestus!D140 -> 6124312.1 | D26: =Arvestus!E140 -> 1.6753213e+08 | E26: =Arvestus!F140 -> -536258.27 | F26: =Arvestus!G140 -> 499672.55 | G26: =Arvestus!H140 -> 836394.91 | H26: =Arvestus!I140 -> 0
B27: 2 | C27: =Arvestus!D141 -> 13494501 | D27: =Arvestus!E141 -> 1.3847454e+08 | E27: =Arvestus!F141 -> -315982.13 | F27: =Arvestus!G141 -> 798298.8 | G27: =Arvestus!H141 -> 744325.3 | H27: =Arvestus!I141 -> 0
B28: 3 | C28: =Arvestus!D142 -> 13496347 | D28: =Arvestus!E142 -> 1.4076971e+08 | E28: =Arvestus!F142 -> -61318.571 | F28: =Arvestus!G142 -> 606816.36 | G28: =Arvestus!H142 -> 2840663.2 | H28: =Arvestus!I142 -> 0
B29: 4 | C29: =Arvestus!D143 -> 13519380 | D29: =Arvestus!E143 -> 1.4397875e+08 | E29: =Arvestus!F143 -> 351220.49 | F29: =Arvestus!G143 -> 406364.75 | G29: =Arvestus!H143 -> 4320490.5 | H29: =Arvestus!I143 -> 0
B30: 5 | C30: =Arvestus!D144 -> 14307805 | D30: =Arvestus!E144 -> 1.5107991e+08 | E30: =Arvestus!F144 -> -438235.81 | F30: =Arvestus!G144 -> 151267.98 | G30: =Arvestus!H144 -> 2442915.2 | H30: =Arvestus!I144 -> 0
B31: 6 | C31: =Arvestus!D145 -> 14319536 | D31: =Arvestus!E145 -> 1.4748615e+08 | E31: =Arvestus!F145 -> -36777.807 | F31: =Arvestus!G145 -> 285885.7 | G31: =Arvestus!H145 -> 762344.57 | H31: =Arvestus!I145 -> 0
B32: 7 | C32: =Arvestus!D146 -> 14329683 | D32: =Arvestus!E146 -> 1.5231703e+08 | E32: =Arvestus!F146 -> -194007.4 | F32: =Arvestus!G146 -> 297363.35 | G32: =Arvestus!H146 -> 704505.93 | H32: =Arvestus!I146 -> 0
B33: 8 | C33: =Arvestus!D147 -> 14337905 | D33: =Arvestus!E147 -> 1.4933585e+08 | E33: =Arvestus!F147 -> -242480 | F33: =Arvestus!G147 -> 353545.17 | G33: =Arvestus!H147 -> 637709.37 | H33: =Arvestus!I147 -> 0
B34: 9 | C34: =Arvestus!D148 -> 14340645 | D34: =Arvestus!E148 -> 1.4480543e+08 | E34: =Arvestus!F148 -> -138059.08 | F34: =Arvestus!G148 -> 475466.61 | G34: =Arvestus!H148 -> 2273111.6 | H34: =Arvestus!I148 -> 0
B35: 10 | C35: =Arvestus!D149 -> 14372727 | D35: =Arvestus!E149 -> 1.4488658e+08 | E35: =Arvestus!F149 -> -302906.07 | F35: =Arvestus!G149 -> 261125.24 | G35: =Arvestus!H149 -> 21386328 | H35: =Arvestus!I149 -> 0
B36: 11 | C36: =Arvestus!D150 -> 14364453 | D36: =Arvestus!E150 -> 1.48268e+08 | E36: =Arvestus!F150 -> -167667.51 | F36: =Arvestus!G150 -> 284703.43 | G36: =Arvestus!H150 -> 1127801.6 | H36: =Arvestus!I150 -> 0
B37: 12 | C37: =Arvestus!D151 -> 14329908 | D37: =Arvestus!E151 -> 1.4884651e+08 | E37: =Arvestus!F151 -> -384792.88 | F37: =Arvestus!G151 -> 458607.94 | G37: =Arvestus!H151 -> 2129405.1 | H37: =Arvestus!I151 -> 0
A38: 2026 | B38: 1 | C38: =Arvestus!D153 -> 14324693 | D38: =Arvestus!E153 -> 1.6081851e+08 | E38: =Arvestus!F153 -> -606524.05 | F38: =Arvestus!G153 -> 393847.61 | G38: =Arvestus!H153 -> 1002710.3 | H38: =Arvestus!I153 -> 0
B39: 2 | C39: =Arvestus!D154 -> 22141651 | D39: =Arvestus!E154 -> 1.405828e+08 | E39: =Arvestus!F154 -> -266192.11 | F39: =Arvestus!G154 -> 607002.23 | G39: =Arvestus!H154 -> 1003496.9 | H39: =Arvestus!I154 -> 0
B40: 3 | C40: =Arvestus!D155 -> 22134758 | D40: =Arvestus!E155 -> 1.3913043e+08 | E40: =Arvestus!F155 -> -152403.15 | F40: =Arvestus!G155 -> 190444.69 | G40: =Arvestus!H155 -> 3812041.1 | H40: =Arvestus!I155 -> 0
B41: 4 | C41: =Arvestus!D156 -> 22128072 | D41: =Arvestus!E156 -> 1.4330612e+08 | E41: =Arvestus!F156 -> 264856.28 | F41: =Arvestus!G156 -> 630666.29 | G41: =Arvestus!H156 -> 2932088.4 | H41: =Arvestus!I156 -> 0
B42: 5 | C42: =Arvestus!D157 -> 23353851 | D42: =Arvestus!E157 -> 1.4983916e+08 | E42: =Arvestus!F157 -> -302685.2 | F42: =Arvestus!G157 -> 295672.48 | G42: =Arvestus!H157 -> 2949955.7 | H42: =Arvestus!I157 -> 0
B43: 6 | C43: =Arvestus!D158 -> 23359911 | D43: =Arvestus!E158 -> 1.4518035e+08 | E43: =Arvestus!F158 -> -193589.84 | F43: =Arvestus!G158 -> 330132.45 | G43: =Arvestus!H158 -> 954878.8 | H43: =Arvestus!I158 -> 0
B44: 7 | C44: =Arvestus!D159 -> 23382306 | D44: =Arvestus!E159 -> 1.5186302e+08 | E44: =Arvestus!F159 -> 15435.596 | F44: =Arvestus!G159 -> 369723.32 | G44: =Arvestus!H159 -> 755334.77 | H44: =Arvestus!I159 -> 0
B45: 8 | C45: =Arvestus!D160 -> 23395554 | D45: =Arvestus!E160 -> 1.4927796e+08 | E45: =Arvestus!F160 -> 48446.509 | F45: =Arvestus!G160 -> 294926.26 | G45: =Arvestus!H160 -> 771385.96 | H45: =Arvestus!I160 -> 0
B46: 9 | C46: =Arvestus!D161 -> 23400303 | D46: =Arvestus!E161 -> 1.4515406e+08 | E46: =Arvestus!F161 -> -467995.42 | F46: =Arvestus!G161 -> 307885.39 | G46: =Arvestus!H161 -> 2414971.4 | H46: =Arvestus!I161 -> 0
B47: 10 | C47: =Arvestus!D162 -> 23457765 | D47: =Arvestus!E162 -> 1.4403933e+08 | E47: =Arvestus!F162 -> -288078.67 | F47: =Arvestus!G162 -> 406593.16 | G47: =Arvestus!H162 -> 19921958 | H47: =Arvestus!I162 -> 0
B48: 11 | C48: =Arvestus!D163 -> 23444261 | D48: =Arvestus!E163 -> 1.4740098e+08 | E48: =Arvestus!F163 -> -294801.96 | F48: =Arvestus!G163 -> 406593.16 | G48: =Arvestus!H163 -> 1065403.4 | H48: =Arvestus!I163 -> 0
B49: 12 | C49: =Arvestus!D164 -> 23387880 | D49: =Arvestus!E164 -> 1.4797611e+08 | E49: =Arvestus!F164 -> -295952.22 | F49: =Arvestus!G164 -> 406593.16 | G49: =Arvestus!H164 -> 2057136.3 | H49: =Arvestus!I164 -> 0
A50: 2027 | B50: 1 | C50: =Arvestus!D166 -> 23379369 | D50: =Arvestus!E166 -> 1.598781e+08 | E50: =Arvestus!F166 -> -319756.21 | F50: =Arvestus!G166 -> 386673.35 | G50: =Arvestus!H166 -> 919552.62 | H50: =Arvestus!I166 -> 0
B51: 2 | C51: =Arvestus!D167 -> 28086064 | D51: =Arvestus!E167 -> 1.4244068e+08 | E51: =Arvestus!F167 -> -284881.37 | F51: =Arvestus!G167 -> 386673.35 | G51: =Arvestus!H167 -> 873911.11 | H51: =Arvestus!I167 -> 0
B52: 3 | C52: =Arvestus!D168 -> 28077320 | D52: =Arvestus!E168 -> 1.4096913e+08 | E52: =Arvestus!F168 -> -281938.25 | F52: =Arvestus!G168 -> 386673.35 | G52: =Arvestus!H168 -> 3326352.2 | H52: =Arvestus!I168 -> 0
B53: 4 | C53: =Arvestus!D169 -> 28068840 | D53: =Arvestus!E169 -> 1.452e+08 | E53: =Arvestus!F169 -> -290399.99 | F53: =Arvestus!G169 -> 386673.35 | G53: =Arvestus!H169 -> 3626289.5 | H53: =Arvestus!I169 -> 0
B54: 5 | C54: =Arvestus!D170 -> 29563492 | D54: =Arvestus!E170 -> 1.5181938e+08 | E54: =Arvestus!F170 -> -303638.75 | F54: =Arvestus!G170 -> 386673.35 | G54: =Arvestus!H170 -> 2696435.5 | H54: =Arvestus!I170 -> 0
B55: 6 | C55: =Arvestus!D171 -> 29571164 | D55: =Arvestus!E171 -> 1.47099e+08 | E55: =Arvestus!F171 -> -294197.99 | F55: =Arvestus!G171 -> 386673.35 | G55: =Arvestus!H171 -> 858611.68 | H55: =Arvestus!I171 -> 0
B56: 7 | C56: =Arvestus!D172 -> 29599514 | D56: =Arvestus!E172 -> 1.5386998e+08 | E56: =Arvestus!F172 -> -307739.96 | F56: =Arvestus!G172 -> 386673.35 | G56: =Arvestus!H172 -> 729920.35 | H56: =Arvestus!I172 -> 0
B57: 8 | C57: =Arvestus!D173 -> 29616283 | D57: =Arvestus!E173 -> 1.5125076e+08 | E57: =Arvestus!F173 -> -302501.52 | F57: =Arvestus!G173 -> 386673.35 | G57: =Arvestus!H173 -> 704547.67 | H57: =Arvestus!I173 -> 0
B58: 9 | C58: =Arvestus!D174 -> 29622296 | D58: =Arvestus!E174 -> 1.4707236e+08 | E58: =Arvestus!F174 -> -294144.71 | F58: =Arvestus!G174 -> 386673.35 | G58: =Arvestus!H174 -> 2344041.5 | H58: =Arvestus!I174 -> 0
B59: 10 | C59: =Arvestus!D175 -> 29695037 | D59: =Arvestus!E175 -> 1.459429e+08 | E59: =Arvestus!F175 -> -291885.8 | F59: =Arvestus!G175 -> 386673.35 | G59: =Arvestus!H175 -> 20654143 | H59: =Arvestus!I175 -> 0
B60: 11 | C60: =Arvestus!D176 -> 29677942 | D60: =Arvestus!E176 -> 1.4934898e+08 | E60: =Arvestus!F176 -> -298697.95 | F60: =Arvestus!G176 -> 386673.35 | G60: =Arvestus!H176 -> 1096602.5 | H60: =Arvestus!I176 -> 0
B61: 12 | C61: =Arvestus!D177 -> 29606570 | D61: =Arvestus!E177 -> 1.499317e+08 | E61: =Arvestus!F177 -> -299863.41 | F61: =Arvestus!G177 -> 386673.35 | G61: =Arvestus!H177 -> 2093270.7 | H61: =Arvestus!I177 -> 0
