Workbook
Name Alpha: #REF!
Name Alpha: #REF!
Name Alpha: #REF!
Name Alpha: #REF!
Name Alpha: #REF!
Name beeta: #REF!
Name beeta: #REF!
Name beeta: #REF!
Name beeta: #REF!
Name beeta: #REF!
Name beta: #REF!
Name gamma: #REF!
Name gamma: #REF!
Name oldname: #REF!
Name oldname2: #REF!

Sheet Võlasaldo
C1: 1 | D1: 2 | E1: 3 | F1: 4 | G1: 5 | H1: 6 | I1: 7 | J1: 8 | K1: 9 | L1: 10 | M1: 11 | N1: 12 | O1: 13 | P1: 14 | Q1: 15 | R1: 16 | S1: 17 | T1: 18 | U1: 19 | V1: 20 | W1: 21 | X1: 22 | Y1: 23 | Z1: 24 | AA1: 25 | AB1: 26 | AC1: 27 | AD1: 28 | AE1: 29 | AF1: 30 | AG1: 31 | AH1: 32 | AI1: 33 | AJ1: 34 | AK1: 35 | AL1: 36 | AM1: 37 | AN1: 38 | AO1: 39 | AP1: 40 | AQ1: 41 | AR1: 42 | AS1: 43 | AT1: 44 | AU1: 45 | AV1: 46 | AW1: 47 | AX1: 48 | AY1: 49 | AZ1: 50 | BA1: 51 | BB1: 52 | BC1: 53 | BD1: 54
D3: 2022 | E3: 2023 | R3: 2024 | AE3: 2025 | AR3: 2026
B4: Maakond | C4: Omavalitsus | D4: 12 | E4: 1 | F4: 1 2020+ | G4: 2 | H4: 3 | I4: 4 | J4: 5 | K4: 6 | L4: 7 | M4: 8 | N4: 9 | O4: 10 | P4: 11 | Q4: 12 | R4: 1 | S4: 1 2021+ | T4: 2 | U4: 3 | V4: 4 | W4: 5 | X4: 6 | Y4: 7 | Z4: 8 | AA4: 9 | AB4: 10 | AC4: 11 | AD4: 12 | AE4: 1 | AF4: 1 2022+ | AG4: 2 | AH4: 3 | AI4: 4 | AJ4: 5 | AK4: 6 | AL4: 7 | AM4: 8 | AN4: 9 | AO4: 10 | AP4: 11 | AQ4: 12 | AR4: 1 | AS4: 1 2023+ | AT4: 2 | AU4: 3 | AV4: 4 | AW4: 5 | AX4: 6 | AY4: 7 | AZ4: 8 | BA4: 9 | BB4: 10 | BC4: 11 | BD4: 12
A5: 141 | B5: Harju | C5: Anija vald | D5: 65199.266 | E5: 66003.815 | F5: 61370.587 | G5: 69108.707 | H5: 72710.222 | I5: 73767.008 | J5: 67110.55 | K5: 66222.4 | L5: 66312.459 | M5: 67675.182 | N5: 66035.705 | O5: 70160.828 | P5: 69150.328 | Q5: 64628.252 | R5: 72374.864 | S5: 62986.503 | T5: 60865.732 | U5: 64564.259 | V5: 67409.392 | W5: 67174.336 | X5: 69524.874 | Y5: 70730.446 | Z5: 71208.635 | AA5: 74067.3 | AB5: 77058.72 | AC5: 78345.774 | AD5: 81937.337 | AE5: 84776.982 | AF5: 77895.556 | AG5: 78119.953 | AH5: 77869.15 | AI5: 75200.123 | AJ5: 74442.318 | AK5: 72579.154 | AL5: 76142.965 | AM5: 78301.722 | AN5: 78402.25 | AO5: 80243.84 | AP5: 80799.594 | AQ5: 82159.772 | AR5: 80916.308 | AS5: 62289.087 | AT5: 60835.343 | AU5: 60294.689 | AV5: 63679.592 | AW5: 66347.55 | AX5: 67072.84 | AY5: 68273.819 | AZ5: 63327.574 | BA5: 64433.091
A6: 198 | B6: Harju | C6: Harku vald | D6: 197979.6 | E6: 201012.43 | F6: 184997.76 | G6: 190697.77 | H6: 197480.53 | I6: 190946.3 | J6: 188362.94 | K6: 198020.28 | L6: 200165.19 | M6: 209032.57 | N6: 207119.69 | O6: 214784.62 | P6: 215800.98 | Q6: 199535.98 | R6: 220777.29 | S6: 202533.39 | T6: 195904.94 | U6: 208088.23 | V6: 216851.86 | W6: 213007.28 | X6: 208333.09 | Y6: 217144.75 | Z6: 233809.45 | AA6: 247955.92 | AB6: 259816.43 | AC6: 264739.87 | AD6: 267744.22 | AE6: 271218.03 | AF6: 235430.36 | AG6: 235333.57 | AH6: 241083.93 | AI6: 237311.88 | AJ6: 253643.02 | AK6: 259088.06 | AL6: 256334.22 | AM6: 250885.9 | AN6: 258372.29 | AO6: 256657.27 | AP6: 260434.98 | AQ6: 254735.09 | AR6: 260392.42 | AS6: 227456.61 | AT6: 233237.85 | AU6: 234410.72 | AV6: 231390.21 | AW6: 232170.18 | AX6: 230897.59 | AY6: 236372.26 | AZ6: 237751.01 | BA6: 247061.14
A7: 245 | B7: Harju | C7: Jõelähtme vald | D7: 65602.668 | E7: 65344.811 | F7: 57334.685 | G7: 62234.219 | H7: 65788.731 | I7: 64914.096 | J7: 62118.566 | K7: 61783.686 | L7: 68360.131 | M7: 67540.153 | N7: 67185.061 | O7: 67954.687 | P7: 64632.318 | Q7: 58413.118 | R7: 68018.553 | S7: 56267.973 | T7: 52446.479 | U7: 59349.769 | V7: 61535.748 | W7: 61946.623 | X7: 60859.855 | Y7: 61094.016 | Z7: 59148.241 | AA7: 65100.791 | AB7: 67392.593 | AC7: 66078.574 | AD7: 71078.637 | AE7: 73885.345 | AF7: 67587.807 | AG7: 67136.71 | AH7: 66615.999 | AI7: 63505.406 | AJ7: 67967.087 | AK7: 67647.42 | AL7: 67961.016 | AM7: 68777.147 | AN7: 71329.002 | AO7: 71351.341 | AP7: 71344.122 | AQ7: 73059.908 | AR7: 72012.592 | AS7: 57644.685 | AT7: 61351.341 | AU7: 61256.753 | AV7: 62273.365 | AW7: 64488.122 | AX7: 69439.551 | AY7: 68423.477 | AZ7: 71070.705 | BA7: 75464.417
A8: 296 | B8: Harju | C8: Keila linn | D8: 125482.33 | E8: 126153.99 | F8: 102639.88 | G8: 101584.17 | H8: 104684.44 | I8: 104284.98 | J8: 103405.08 | K8: 102396.86 | L8: 99692.819 | M8: 100275.03 | N8: 104375.04 | O8: 113098.07 | P8: 115282.56 | Q8: 106898.84 | R8: 119267.99 | S8: 101455.6 | T8: 101788.41 | U8: 105565.21 | V8: 105271.85 | W8: 108192.15 | X8: 103781.37 | Y8: 99326.118 | Z8: 105060.28 | AA8: 108506.95 | AB8: 111888.95 | AC8: 111772.21 | AD8: 113306.41 | AE8: 113691.9 | AF8: 94194.943 | AG8: 96354.985 | AH8: 99076.958 | AI8: 94795.801 | AJ8: 96540.432 | AK8: 99697.494 | AL8: 101471.6 | AM8: 107616.95 | AN8: 112051.66 | AO8: 116649.47 | AP8: 115220.91 | AQ8: 121394.42 | AR8: 127948.22 | AS8: 109028.22 | AT8: 110060.59 | AU8: 107638.98 | AV8: 110802.91 | AW8: 112498.65 | AX8: 112166.59 | AY8: 112733.7 | AZ8: 121575.07 | BA8: 121634.33
A9: 305 | B9: Harju | C9: Kiili vald | D9: 64534.458 | E9: 66818.34 | F9: 63708.648 | G9: 67516.114 | H9: 66942.512 | I9: 62467.678 | J9: 66200.872 | K9: 65553.717 | L9: 65443.804 | M9: 73097.008 | N9: 69778.348 | O9: 66966.791 | P9: 67005.182 | Q9: 59430.436 | R9: 69074.143 | S9: 56462.323 | T9: 52494.174 | U9: 59297.724 | V9: 61698.711 | W9: 59941.794 | X9: 60244.792 | Y9: 64658.377 | Z9: 69353.567 | AA9: 73616.452 | AB9: 75715.416 | AC9: 77499.523 | AD9: 84118.856 | AE9: 84281.283 | AF9: 68376.516 | AG9: 69022.152 | AH9: 68803.523 | AI9: 68772.139 | AJ9: 71961.172 | AK9: 70691.119 | AL9: 73907.911 | AM9: 76887.179 | AN9: 77046.575 | AO9: 78958.203 | AP9: 73860.604 | AQ9: 76721.392 | AR9: 77448.549 | AS9: 66231.504 | AT9: 71296.516 | AU9: 70942.549 | AV9: 69690.917 | AW9: 71176.751 | AX9: 73558.332 | AY9: 73388.8 | AZ9: 76146.717 | BA9: 74760.758
A10: 338 | B10: Harju | C10: Kose vald | D10: 100732.42 | E10: 102437.68 | F10: 89719.136 | G10: 89874.377 | H10: 97734.489 | I10: 96990.816 | J10: 96694.686 | K10: 99855.834 | L10: 101080.9 | M10: 101263.41 | N10: 101988.54 | O10: 102562.86 | P10: 105285.67 | Q10: 100166.79 | R10: 106488.37 | S10: 85269.777 | T10: 81141.417 | U10: 88435.798 | V10: 85317.357 | W10: 85409.879 | X10: 86650.791 | Y10: 88391.545 | Z10: 91883.668 | AA10: 92442.655 | AB10: 93613.853 | AC10: 94582.164 | AD10: 91804.595 | AE10: 97629.288 | AF10: 77643.769 | AG10: 72689.995 | AH10: 74980.508 | AI10: 72682.797 | AJ10: 74078.636 | AK10: 76545.39 | AL10: 77298.883 | AM10: 75698.375 | AN10: 76268.5 | AO10: 78882.004 | AP10: 75320.437 | AQ10: 77609.912 | AR10: 87895.218 | AS10: 73809.568 | AT10: 74055.383 | AU10: 70491.284 | AV10: 68731.292 | AW10: 74664.37 | AX10: 77456.957 | AY10: 75135.584 | AZ10: 75561.818 | BA10: 78931.642
A11: 353 | B11: Harju | C11: Kuusalu vald | D11: 51468.878 | E11: 47552.078 | F11: 40326.848 | G11: 44129.888 | H11: 43687.608 | I11: 47454.529 | J11: 41241.429 | K11: 42343.423 | L11: 50704.898 | M11: 49913.505 | N11: 52648.398 | O11: 50963.952 | P11: 49519.543 | Q11: 49806.344 | R11: 58836.502 | S11: 54484.856 | T11: 51102.903 | U11: 60391.811 | V11: 58773.171 | W11: 59381.841 | X11: 58692.344 | Y11: 61278.838 | Z11: 57831.694 | AA11: 56398.342 | AB11: 55855.345 | AC11: 57571.821 | AD11: 61995.068 | AE11: 62129.078 | AF11: 59091.597 | AG11: 62581.877 | AH11: 60964.018 | AI11: 59764.947 | AJ11: 63163.826 | AK11: 65810.621 | AL11: 64887.89 | AM11: 66174.245 | AN11: 72353.723 | AO11: 71309.623 | AP11: 69561.976 | AQ11: 70936.326 | AR11: 74555.877 | AS11: 60402.533 | AT11: 61928.794 | AU11: 58620.505 | AV11: 57604.463 | AW11: 60617.507 | AX11: 59011.478 | AY11: 58973.563 | AZ11: 55534.709 | BA11: 55364.018
A12: 424 | B12: Harju | C12: Loksa linn | D12: 73151.384 | E12: 68275.412 | F12: 65490.209 | G12: 68247.468 | H12: 67819.3 | I12: 68890.676 | J12: 67703.168 | K12: 66567.207 | L12: 51321.556 | M12: 51920.872 | N12: 52913.91 | O12: 53980.742 | P12: 51536.956 | Q12: 51344.998 | R12: 52109.6 | S12: 49027.03 | T12: 51099.072 | U12: 51694.031 | V12: 51672.401 | W12: 54449.981 | X12: 50675.874 | Y12: 50413.54 | Z12: 50838.282 | AA12: 54539.639 | AB12: 55221.036 | AC12: 52940.742 | AD12: 54429.845 | AE12: 55916.214 | AF12: 35168.484 | AG12: 49192.225 | AH12: 49818.215 | AI12: 49635.916 | AJ12: 50360.925 | AK12: 51745.539 | AL12: 51131.898 | AM12: 48882.469 | AN12: 54154.595 | AO12: 51395.404 | AP12: 49450.358 | AQ12: 48207.168 | AR12: 49674.643 | AS12: 31930.07 | AT12: 31399.71 | AU12: 31197.486 | AV12: 31187.337 | AW12: 30398.996 | AX12: 31752.352 | AY12: 29583.117 | AZ12: 31560.249 | BA12: 31972.294
A13: 431 | B13: Harju | C13: Lääne-Harju vald | D13: 151212.07 | E13: 157012.67 | F13: 136728.16 | G13: 135472.71 | H13: 141466.23 | I13: 140430.25 | J13: 143262.74 | K13: 140150.75 | L13: 135243.8 | M13: 138284.27 | N13: 143567 | O13: 147486.77 | P13: 145737.5 | Q13: 141079.44 | R13: 150022.17 | S13: 128104.76 | T13: 123599.19 | U13: 128780.92 | V13: 132654.27 | W13: 132485.5 | X13: 131745.57 | Y13: 127079.08 | Z13: 128846.84 | AA13: 131568.43 | AB13: 138732.33 | AC13: 135971.48 | AD13: 138732.91 | AE13: 146401.86 | AF13: 112571.56 | AG13: 115133.7 | AH13: 116665.5 | AI13: 118128.77 | AJ13: 130668.75 | AK13: 128700.02 | AL13: 130134.82 | AM13: 129683.76 | AN13: 129826.5 | AO13: 134490.31 | AP13: 134364.98 | AQ13: 145832.02 | AR13: 151597.6 | AS13: 122036.55 | AT13: 122578.94 | AU13: 127885.1 | AV13: 126169.52 | AW13: 132176.83 | AX13: 130122.31 | AY13: 126508.93 | AZ13: 130811.35 | BA13: 141723.64
A14: 446 | B14: Harju | C14: Maardu linn | D14: 177137.91 | E14: 183341.32 | F14: 158421.68 | G14: 164478.46 | H14: 163717.21 | I14: 170379.77 | J14: 172971.86 | K14: 173491.64 | L14: 195508.21 | M14: 185385.62 | N14: 185789.87 | O14: 187747.36 | P14: 186621.45 | Q14: 176663.55 | R14: 189422.48 | S14: 146091.64 | T14: 139428.41 | U14: 153757.99 | V14: 158642.86 | W14: 167555.74 | X14: 165179.56 | Y14: 170268.43 | Z14: 182509.1 | AA14: 187391.48 | AB14: 181335.43 | AC14: 186534.72 | AD14: 193378.37 | AE14: 204020.51 | AF14: 178252.21 | AG14: 186813.47 | AH14: 190109.39 | AI14: 189022.4 | AJ14: 193551.43 | AK14: 195486.89 | AL14: 204026.78 | AM14: 213195.95 | AN14: 212037.88 | AO14: 214013.44 | AP14: 212657.02 | AQ14: 216661.33 | AR14: 219123.44 | AS14: 189549.23 | AT14: 197494.27 | AU14: 202872.09 | AV14: 202518.23 | AW14: 209420.99 | AX14: 222080.01 | AY14: 212891.49 | AZ14: 213477.41 | BA14: 218766.64
A15: 651 | B15: Harju | C15: Raasiku vald | D15: 88139.124 | E15: 86777.238 | F15: 81077.797 | G15: 83459.272 | H15: 87394.471 | I15: 87062.342 | J15: 87654.601 | K15: 87752.434 | L15: 91432.765 | M15: 94202.103 | N15: 95916.808 | O15: 98314.908 | P15: 93206.552 | Q15: 85351.942 | R15: 88346.367 | S15: 77378.449 | T15: 76073.52 | U15: 80084.108 | V15: 82473.347 | W15: 80716.275 | X15: 80157.308 | Y15: 81698.185 | Z15: 84402.92 | AA15: 86870.902 | AB15: 91266.747 | AC15: 88843.092 | AD15: 88537.84 | AE15: 89754.337 | AF15: 76189.545 | AG15: 70762.688 | AH15: 71334.222 | AI15: 68998.327 | AJ15: 71037.474 | AK15: 67318.314 | AL15: 67258.119 | AM15: 68827.176 | AN15: 68096.242 | AO15: 68875.238 | AP15: 68869.091 | AQ15: 69476.021 | AR15: 71815.105 | AS15: 38559.847 | AT15: 39560.958 | AU15: 40586.778 | AV15: 42529.336 | AW15: 43023.171 | AX15: 45252.382 | AY15: 44153.275 | AZ15: 43949.423 | BA15: 44703.449
A16: 653 | B16: Harju | C16: Rae vald | D16: 244420.63 | E16: 254572.92 | F16: 224943.08 | G16: 232696.51 | H16: 236982.14 | I16: 235624.68 | J16: 236799.27 | K16: 248376.31 | L16: 257488.87 | M16: 260650.86 | N16: 274143.89 | O16: 291064.9 | P16: 285122.33 | Q16: 275118.39 | R16: 306811.79 | S16: 260753.24 | T16: 249661 | U16: 254291.54 | V16: 257784.99 | W16: 262853.21 | X16: 259468.12 | Y16: 273721.01 | Z16: 296349.11 | AA16: 311523.88 | AB16: 323409.16 | AC16: 319533.11 | AD16: 314497.61 | AE16: 322234.51 | AF16: 286517.89 | AG16: 294440.62 | AH16: 297493.07 | AI16: 286965.5 | AJ16: 294916.94 | AK16: 293941.47 | AL16: 297943.28 | AM16: 309170.3 | AN16: 321713.82 | AO16: 321556.43 | AP16: 323216.05 | AQ16: 325367.59 | AR16: 331321.03 | AS16: 292548.15 | AT16: 290206.87 | AU16: 291600.53 | AV16: 282731.33 | AW16: 288110.42 | AX16: 292115.41 | AY16: 288886.37 | AZ16: 290725.34 | BA16: 302782.1
... A82: 917 | B82: Võru | C82: Võru vald | D82: 70313.907 | E82: 74659.333 | F82: 61863.698 | G82: 60327.197 | H82: 57787.73 | I82: 59547.405 | J82: 60050.562 | K82: 62132.798 | L82: 59440.363 | M82: 67187.572 | N82: 71394.144 | O82: 75470.351 | P82: 75063.352 | Q82: 65848.172 | R82: 82627.574 | S82: 72362.306 | T82: 64998.819 | U82: 71325.645 | V82: 72882.28 | W82: 75147.023 | X82: 71150.317 | Y82: 73250.687 | Z82: 77716.558 | AA82: 79955.241 | AB82: 82063.454 | AC82: 80971.44 | AD82: 76632.344 | AE82: 90436.092 | AF82: 79523.07 | AG82: 67020.984 | AH82: 67069.028 | AI82: 64243.953 | AJ82: 69047.524 | AK82: 74195.943 | AL82: 85732.383 | AM82: 88860.247 | AN82: 87699.516 | AO82: 84840.103 | AP82: 77294.51 | AQ82: 78253.051 | AR82: 86770.639 | AS82: 76185.201 | AT82: 77158.942 | AU82: 79675.502 | AV82: 76815.252 | AW82: 75649.16 | AX82: 68751.068 | AY82: 67530.987 | AZ82: 72331.258 | BA82: 78225.434
C83: Aadressita
C84: KOKKU | D84: =SUM(D5:D83) -> 12766661 | E84: =SUM(E5:E83) -> 13111853 | F84: =SUM(F5:F83) -> 11295763 | G84: =SUM(G5:G83) -> 11489590 | H84: =SUM(H5:H83) -> 11810172 | I84: =SUM(I5:I83) -> 11652744 | J84: =SUM(J5:J83) -> 11691982 | K84: =SUM(K5:K83) -> 11700906 | ... BA84: =SUM(BA5:BA83) -> 14398680
C85: muutus | E85: =E84-D84 -> 345191.53 | G85: =G84-F84 -> 193826.39 | H85: =H84-G84 -> 320582.78 | I85: =I84-H84 -> -157428.76 | J85: =J84-I84 -> 39238.009 | K85: =K84-J84 -> 8924.1932 | L85: =L84-K84 -> 364342.74 | M85: =M84-L84 -> 615121.82 | N85: =N84-M84 -> 69240.626 | ... R85: =R84-Q84 -> 1491152 | T85: =T84-S84 -> -527617.25 | U85: =U84-T84 -> 833663.24 | V85: =V84-U84 -> 329735.78 | W85: =W84-V84 -> -77894.988 | X85: =X84-W84 -> -219966.7 | Y85: =Y84-X84 -> 238968.34 | Z85: =Z84-Y84 -> 651744.31 | AA85: =AA84-Z84 -> 325713.41 | ... AE85: =AE84-AD84 -> 536258.27 | AG85: =AG84-AF84 -> 315982.13 | AH85: =AH84-AG84 -> 61318.571 | AI85: =AI84-AH84 -> -351220.49 | AJ85: =AJ84-AI84 -> 438235.81 | AK85: =AK84-AJ84 -> 36777.807 | AL85: =AL84-AK84 -> 194007.4 | AM85: =AM84-AL84 -> 242480 | AN85: =AN84-AM84 -> 138059.08 | ... AR85: =AR84-AQ84 -> 606524.05 | AT85: =AT84-AS84 -> 266192.11 | AU85: =AU84-AT84 -> 152403.15 | AV85: =AV84-AU84 -> -264856.28 | AW85: =AW84-AV84 -> 302685.2 | AX85: =AX84-AW84 -> 193589.84 | AY85: =AY84-AX84 -> -15435.596 | AZ85: =AZ84-AY84 -> -48446.509 | BA85: =BA84-AZ84 -> 467995.42

Sheet VMS muut
C1: 1 | D1: 2 | E1: 3 | F1: 4 | G1: 5 | H1: 6 | I1: 7 | J1: 8 | K1: 9 | L1: 10 | M1: 11 | N1: 12 | O1: 13 | P1: 14 | Q1: 15 | R1: 16 | S1: 17 | T1: 18 | U1: 19 | V1: 20 | W1: 21 | X1: 22 | Y1: 23 | Z1: 24 | AA1: 25 | AB1: 26 | AC1: 27 | AD1: 28 | AE1: 29 | AF1: 30 | AG1: 31 | AH1: 32 | AI1: 33 | AJ1: 34 | AK1: 35 | AL1: 36 | AM1: 37 | AN1: 38 | AO1: 39 | AP1: 40 | AQ1: 41 | AR1: 42 | AS1: 43 | AT1: 44 | AU1: 45 | AV1: 46 | AW1: 47 | AX1: 48 | AY1: 49
C2: Varasema perioodi VMS muutus: Kogu VMS muutus lahutada viimase kuu muutus (VMS algne lehel andmed).
D3: 2023 | P3: 2024 | AB3: 2025 | AN3: 2026
A4: Kood | B4: Maakond | C4: Omavalitsus | D4: 1 | E4: 2 | F4: 3 | G4: 4 | H4: 5 | I4: 6 | J4: 7 | K4: 8 | L4: 9 | M4: 10 | N4: 11 | O4: 12 | P4: 1 | Q4: 2 | R4: 3 | S4: 4 | T4: 5 | U4: 6 | V4: 7 | W4: 8 | X4: 9 | Y4: 10 | Z4: 11 | AA4: 12 | AB4: 1 | AC4: 2 | AD4: 3 | AE4: 4 | AF4: 5 | AG4: 6 | AH4: 7 | AI4: 8 | AJ4: 9 | AK4: 10 | AL4: 11 | AM4: 12 | AN4: 1 | AO4: 2 | AP4: 3 | AQ4: 4 | AR4: 5 | AS4: 6 | AT4: 7 | AU4: 8 | AV4: 9 | AW4: 10 | AX4: 11 | AY4: 12
A5: 141 | B5: Harju | C5: Anija vald | D5: 65682.53 | E5: 5044.38 | F5: 4851.4 | G5: 8975.47 | H5: 7701.54 | I5: 3409.73 | J5: 13133.76 | K5: 12754.71 | L5: 17633.86 | M5: 16795.64 | N5: 16633.86 | O5: 22980.71 | P5: 39703.97 | Q5: 2038.94 | R5: 11633.18 | S5: 8175.36 | T5: 10621.49 | U5: 3268.36 | V5: 15108.98 | W5: 14154.17 | X5: -435.3 | Y5: 2210.11 | Z5: 3783.41 | AA5: 15857.25 | AB5: 7201.86 | AC5: 22698.65 | AD5: 12105.33 | AE5: 1774.9 | AF5: 10116.35 | AG5: 12328.5 | AH5: 5989.19 | AI5: 5603.65 | AJ5: 2632.96 | AK5: 5390 | AL5: 8438.42 | AM5: 889.26 | AN5: 11120.59 | AO5: 3555 | AP5: 18408 | AQ5: 12700.3 | AR5: 6692.87 | AS5: 5672.34 | AT5: 8128.29 | AU5: 2671.49
A6: 198 | B6: Harju | C6: Harku vald | D6: 94795.6 | E6: 46978.27 | F6: 49851.56 | G6: 34865.91 | H6: 84098.12 | I6: 31906.17 | J6: 48262.91 | K6: 58314.11 | L6: 112412.29 | M6: 49189.98 | N6: 39366.82 | O6: 125542.47 | P6: 236185.41 | Q6: 25398.22 | R6: 93932.3 | S6: 52783.07 | T6: 35042.68 | U6: 44059.89 | V6: 31867.57 | W6: 86950.04 | X6: 34263.92 | Y6: 32651.24 | Z6: 32223.74 | AA6: 33077.54 | AB6: 102581.2 | AC6: 79097.96 | AD6: 46845.23 | AE6: 37674.12 | AF6: 43114.49 | AG6: 42395.06 | AH6: 47195.92 | AI6: 8482.82 | AJ6: 149719.88 | AK6: 43970 | AL6: 33119.74 | AM6: 69365.03 | AN6: 50288.3 | AO6: 39583 | AP6: 73135 | AQ6: 38790.92 | AR6: 9966.68 | AS6: 174258.69 | AT6: 66320.78 | AU6: 52984.77
A7: 245 | B7: Harju | C7: Jõelähtme vald | D7: 34922.84 | E7: 3710.31 | F7: 12337.85 | G7: 20170.55 | H7: 20122.8 | I7: 22849.45 | J7: 27721 | K7: 13059.61 | L7: 19092.49 | M7: 14227.73 | N7: 5460.5 | O7: 37113.55 | P7: 34987.94 | Q7: 23982.17 | R7: 22070.37 | S7: 10523.39 | T7: 9965.03 | U7: 21512.11 | V7: 18139.01 | W7: 35861.3 | X7: 27815.88 | Y7: 14111.89 | Z7: 13846.06 | AA7: 21782.72 | AB7: 27107.93 | AC7: 21462.83 | AD7: 30919.55 | AE7: 14727.53 | AF7: 12804.74 | AG7: 19571.11 | AH7: 11878.97 | AI7: 25330.24 | AJ7: 9322.64 | AK7: 15750 | AL7: 13111.97 | AM7: 22274.95 | AN7: 20987.71 | AO7: 19741 | AP7: 26104 | AQ7: 12777.02 | AR7: 29939.82 | AS7: 26911.45 | AT7: 16392.6 | AU7: 42706.16
A8: 296 | B8: Harju | C8: Keila linn | D8: 29510.91 | E8: 17061.39 | F8: 56548.24 | G8: 25521.89 | H8: 37243.94 | I8: 7475.01 | J8: 20530.94 | K8: 26693.42 | L8: 17719.05 | M8: 44080.94 | N8: -857.21 | O8: 31077.06 | P8: 53378.22 | Q8: 9591.74 | R8: 6582.3 | S8: 10680 | T8: 5448.57 | U8: 18503.37 | V8: 21670.61 | W8: 58241.1 | X8: 20959.15 | Y8: 18748.92 | Z8: 22914.8 | AA8: 34784.95 | AB8: 43725.99 | AC8: 41852.11 | AD8: 24478.94 | AE8: 11582.26 | AF8: 36094.02 | AG8: 40602.45 | AH8: 23321.08 | AI8: 43344.46 | AJ8: 13854.17 | AK8: 21833 | AL8: 35536.73 | AM8: 9601.58 | AN8: 29456.12 | AO8: 2987 | AP8: 112814 | AQ8: 13434.67 | AR8: 4350.09 | AS8: 28336.29 | AT8: 13723.99 | AU8: 9659.73
A9: 305 | B9: Harju | C9: Kiili vald | D9: 58497.64 | E9: 14371.68 | F9: 10183.55 | G9: 31777.55 | H9: 34458.4 | I9: 9612.2 | J9: 19095.6 | K9: 20572.67 | L9: 10732.33 | M9: 28095.26 | N9: 12413.05 | O9: 30283.87 | P9: 79342.79 | Q9: 8293.96 | R9: 16109.72 | S9: 29240.32 | T9: 13744.33 | U9: 4194.67 | V9: 8281.8 | W9: 24219.59 | X9: 28536.46 | Y9: 22243.4 | Z9: 8688.71 | AA9: 10952.28 | AB9: 22933.15 | AC9: 29800.22 | AD9: 19035.47 | AE9: 5721.16 | AF9: 17019.66 | AG9: 15009.67 | AH9: 12130.83 | AI9: 13853.39 | AJ9: 16636.6 | AK9: 17288 | AL9: 23731.67 | AM9: 11941.54 | AN9: 50008.01 | AO9: 8345 | AP9: 22533 | AQ9: 14589.97 | AR9: 18788.06 | AS9: 17148.46 | AT9: 4888.7 | AU9: -8639.32
A10: 338 | B10: Harju | C10: Kose vald | D10: 75054.03 | E10: 21829.65 | F10: 9974.11 | G10: 17915.2 | H10: 53253.81 | I10: 2732.35 | J10: 39279.69 | K10: 12302.35 | L10: 24948.55 | M10: 11068.26 | N10: 21837.55 | O10: 24351.5 | P10: 111682.94 | Q10: 25515.27 | R10: -19923.61 | S10: 13601.01 | T10: 12548.32 | U10: 12122.44 | V10: 18218.92 | W10: 26396.02 | X10: 14523.92 | Y10: 6824.97 | Z10: 3479.96 | AA10: 18141.01 | AB10: 9806.23 | AC10: 9237.87 | AD10: 6323.82 | AE10: 6256.24 | AF10: 20219.79 | AG10: 29425.54 | AH10: 12623.12 | AI10: 18125.2 | AJ10: 1988.06 | AK10: 14411 | AL10: 30765.41 | AM10: 3286.8 | AN10: 1299.14 | AO10: 2381 | AP10: 38061 | AQ10: 5125.36 | AR10: 7731.19 | AS10: 17697.97 | AT10: 9649.43 | AU10: 62
A11: 353 | B11: Harju | C11: Kuusalu vald | D11: 40606.45 | E11: 6103.93 | F11: 17818.56 | G11: 6580.21 | H11: 19457.83 | I11: 20508.66 | J11: 21992.68 | K11: 17504.96 | L11: 10631.59 | M11: 13954.99 | N11: 20308.42 | O11: 16441.89 | P11: 99365.75 | Q11: 17418.51 | R11: 11409.98 | S11: 7159.42 | T11: 11101.94 | U11: 26887.79 | V11: 13622.35 | W11: 20950.82 | X11: 14451.64 | Y11: 4412.63 | Z11: 11243.89 | AA11: 12574.11 | AB11: 46385.93 | AC11: 17883.7 | AD11: 9145.65 | AE11: 8291.25 | AF11: 11353.94 | AG11: -840.63 | AH11: 14883.85 | AI11: 24105.3 | AJ11: 5943.83 | AK11: 2879 | AL11: 11447.32 | AM11: 25773.81 | AN11: 14290.93 | AO11: 10368 | AP11: 30228 | AQ11: 3549.09 | AR11: 12754.5 | AS11: 15284 | AT11: 11491.07 | AU11: 3004.79
A12: 424 | B12: Harju | C12: Loksa linn | D12: 54987.91 | E12: 0 | F12: 8316.09 | G12: 3313.68 | H12: 667.91 | I12: 2058.54 | J12: 1761.95 | K12: 2180.52 | L12: 7284.34 | M12: 5543.91 | N12: 7518.08 | O12: 10452.95 | P12: 18669.94 | Q12: 1342.37 | R12: 1262.62 | S12: 5724.03 | T12: 784.03 | U12: 11513.58 | V12: 1345.59 | W12: 6719.17 | X12: -19.27 | Y12: 1601.48 | Z12: 334.05 | AA12: 401.87 | AB12: 37855.34 | AC12: 10396.1 | AD12: -581.97 | AE12: 412.82 | AF12: 1330 | AG12: 3617.84 | AH12: 4060.22 | AI12: 2732.53 | AJ12: 1484.05 | AK12: 306 | AL12: 1914.35 | AM12: 6905.81 | AN12: 1465.4 | AO12: 1061 | AP12: 1168 | AQ12: -903.29 | AR12: 906.82 | AS12: 3534.28 | AT12: 4712.93 | AU12: 1598.12
A13: 431 | B13: Harju | C13: Lääne-Harju vald | D13: 84291.44 | E13: 24051.71 | F13: 45678.64 | G13: 38196.36 | H13: 40040.81 | I13: 23304.01 | J13: 19058.6 | K13: 26196.47 | L13: 22088.64 | M13: 8241.46 | N13: 37816.85 | O13: 44164.43 | P13: 73590.73 | Q13: 18104.91 | R13: 28578.48 | S13: 30189.92 | T13: 30778.89 | U13: 1981.79 | V13: 15010.19 | W13: 10741.36 | X13: 8850.36 | Y13: 15125.59 | Z13: 15307.1 | AA13: 16495.35 | AB13: 52224.62 | AC13: 31392.51 | AD13: 138113.97 | AE13: 7742.35 | AF13: 26692.94 | AG13: 27774.56 | AH13: 27564.75 | AI13: 29571.08 | AJ13: 13974.03 | AK13: 26098 | AL13: 42768.94 | AM13: 13559.16 | AN13: 38550.14 | AO13: 34492 | AP13: 133894 | AQ13: 6443.34 | AR13: 8881.29 | AS13: 24126.69 | AT13: -3361.8 | AU13: 18646.24
A14: 446 | B14: Harju | C14: Maardu linn | D14: 145485.43 | E14: 14002.9 | F14: 21605.91 | G14: 120987.12 | H14: 24093.56 | I14: 40121.65 | J14: 163293.5 | K14: 25153.28 | L14: 36034.68 | M14: 21834.1 | N14: 21438.05 | O14: 34446.01 | P14: 51986.71 | Q14: 13788.89 | R14: 34450.83 | S14: 21929.52 | T14: 16395.97 | U14: 15545.46 | V14: 13691.11 | W14: 29555.61 | X14: 24496.23 | Y14: 12485.7 | Z14: 20607 | AA14: 42221.72 | AB14: 87742.18 | AC14: 53035.87 | AD14: 45003.33 | AE14: 6376.52 | AF14: 125336.61 | AG14: 156198.28 | AH14: 140373.96 | AI14: 141442.06 | AJ14: 18150.31 | AK14: 25030 | AL14: 31201.08 | AM14: 17654.69 | AN14: 52608.07 | AO14: 21374 | AP14: 77428 | AQ14: 53615.72 | AR14: 5239.95 | AS14: 27428.88 | AT14: 25340.05 | AU14: 29624.9
A15: 651 | B15: Harju | C15: Raasiku vald | D15: 72136.56 | E15: 5396.72 | F15: 12430.07 | G15: 7321.03 | H15: 15352.77 | I15: 7468.8 | J15: 16058.88 | K15: 20606.2 | L15: 29036.36 | M15: 4931.18 | N15: -300.6 | O15: 34957.07 | P15: 45164.18 | Q15: 16645.42 | R15: 18712.15 | S15: 10391.74 | T15: 12392.77 | U15: 5744.28 | V15: 14948.1 | W15: 22253.17 | X15: 14315.4 | Y15: 2552.56 | Z15: 16837.62 | AA15: 7105.56 | AB15: 12426.11 | AC15: 19060.97 | AD15: 13419.15 | AE15: -38.05 | AF15: 3882.87 | AG15: 22058.5 | AH15: 9033.1 | AI15: 10067.05 | AJ15: 2960.84 | AK15: 14843 | AL15: 5278.81 | AM15: 7788.04 | AN15: 13398.07 | AO15: 7815 | AP15: 12348 | AQ15: 7663.42 | AR15: 11833.4 | AS15: 3547.85 | AT15: 15839.99 | AU15: 23704.69
A16: 653 | B16: Harju | C16: Rae vald | D16: 168071.98 | E16: 46632.22 | F16: 65328.17 | G16: 440756.62 | H16: 104911.24 | I16: 126137.48 | J16: 85632.46 | K16: 105195.38 | L16: 85233.51 | M16: 84902.96 | N16: 84006.14 | O16: 87829.12 | P16: 126827.81 | Q16: 57564.36 | R16: 84840.76 | S16: 212479.5 | T16: 51106.31 | U16: 59793.34 | V16: 39967.26 | W16: 136613.28 | X16: 104862.71 | Y16: 60437.06 | Z16: 121848.2 | AA16: 79312.6 | AB16: 178391.66 | AC16: 200624.17 | AD16: 64843.11 | AE16: 11745.39 | AF16: 66988.53 | AG16: 106234.11 | AH16: 126691.33 | AI16: 68066.82 | AJ16: 48609.74 | AK16: 41395 | AL16: 37526.44 | AM16: 104608.06 | AN16: 313368.13 | AO16: 15632 | AP16: 181160 | AQ16: 33582.77 | AR16: 42502.23 | AS16: 35264.96 | AT16: 60793.36 | AU16: 78380.92
... A82: 919 | B82: Võru | C82: Võru linn | D82: 53071.41 | E82: 7911.56 | F82: 14154.55 | G82: 18190.22 | H82: 10885.97 | I82: -2092.59 | J82: 25252.91 | K82: -2213.01 | L82: 4876.07 | M82: 12324.47 | N82: 13721.13 | O82: 135253.12 | P82: 114179.78 | Q82: 13182.37 | R82: 10362.69 | S82: 10944.17 | T82: 3991.83 | U82: 19467.31 | V82: 9285.34 | W82: 46914.56 | X82: 27954.45 | Y82: 9537.88 | Z82: 9712.55 | AA82: 21225.32 | AB82: 13799 | AC82: 22535.74 | AD82: 11969.43 | AE82: 7278.86 | AF82: 10814.65 | AG82: 8064.15 | AH82: 9531.63 | AI82: 15239.66 | AJ82: 20881.69 | AK82: 8232 | AL82: 50168.42 | AM82: 42396.28 | AN82: 21724.49 | AO82: 8554 | AP82: 30499 | AQ82: 12497.42 | AR82: 24854.89 | AS82: 54950.2 | AT82: 8660.94 | AU82: 18792.01
C83: Aadressita | D83: 1469694.6 | E83: 54276.66 | F83: 76129.22 | G83: 100649.3 | H83: 106250.84 | I83: 81877.21 | J83: 106000.72 | K83: 31276.99 | L83: 115590.46 | M83: 194043.72 | N83: -212502.75 | O83: 217754.93 | P83: 274896.41 | Q83: 54688.36 | R83: 185773.67 | S83: 53091.41 | T83: 82170.03 | U83: 45216.11 | V83: 25743.49 | W83: 52181.37 | X83: 75106.57 | Y83: 53053.94 | Z83: 69907.52 | AA83: -35318.55 | AB83: -68321.58 | AC83: 14439.46 | AD83: 102980.33 | AE83: 47940.94 | AF83: 31641.13 | AG83: 35538.27 | AH83: 19203.77 | AI83: 97179.22 | AJ83: 58343.39 | AK83: 67933 | AL83: 75855.56 | AM83: 82646.06 | AN83: 38598.86 | AO83: 7402 | AP83: 334351 | AQ83: 82583.85 | AR83: -1654.25 | AS83: 409217.13 | AT83: 14205.73 | AU83: 67707.87
C84: KOKKU | D84: =SUM(D5:D83) -> 9882229.1 | E84: =SUM(E5:E83) -> 1687828 | F84: =SUM(F5:F83) -> 2483876 | G84: =SUM(G5:G83) -> 2871862.1 | H84: =SUM(H5:H83) -> 3547058.4 | I84: =SUM(I5:I83) -> 2989813.2 | J84: =SUM(J5:J83) -> 3090598.1 | K84: =SUM(K5:K83) -> 2363293.5 | ... AY84: =SUM(AY5:AY83) -> 0

Sheet VMS algne
D1: 2023 | P1: 2024 | AB1: 2025 | AN1: 2026
A2: tusa_kood | B2: Maakond | C2: Omavalitsus | D2: 1 | E2: 2 | F2: 3 | G2: 4 | H2: 5 | I2: 6 | J2: 7 | K2: 8 | L2: 9 | M2: 10 | N2: 11 | O2: 12 | P2: 1 | Q2: 2 | R2: 3 | S2: 4 | T2: 5 | U2: 6 | V2: 7 | W2: 8 | X2: 9 | Y2: 10 | Z2: 11 | AA2: 12 | AB2: 1 | AC2: 2 | AD2: 3 | AE2: 4 | AF2: 5 | AG2: 6 | AH2: 7 | AI2: 8 | AJ2: 9 | AK2: 10 | AL2: 11 | AM2: 12 | AN2: 1 | AO2: 2 | AP2: 3 | AQ2: 4 | AR2: 5 | AS2: 6 | AT2: 7 | AU2: 8 | AV2: 9 | AW2: 10 | AX2: 11 | AY2: 12
A3: 141 | B3: Harju | C3: Anija vald | D3: 4812290.1 | E3: 4794065 | F3: 4768412.8 | G3: 5058848.2 | H3: 4862158.8 | I3: 5176044.3 | J3: 5176458.6 | K3: 4859666.7 | L3: 4875498.6 | M3: 4918343.1 | N3: 4983071.3 | O3: 5437390.1 | P3: 5063929.7 | Q3: 5046669.2 | R3: 5237760.2 | S3: 5291802.1 | T3: 5307770.9 | U3: 5589951.4 | V3: 5649531.3 | W3: 5296261.7 | X3: 5273077.2 | Y3: 5389465.4 | Z3: 5470007.8 | AA3: 6027172.1 | AB3: 5330622.7 | AC3: 5372225 | AD3: 5559168.4 | AE3: 5768923.3 | AF3: 5569191 | AG3: 5778489.5 | AH3: 6167460.4 | AI3: 5544843.2 | AJ3: 5649643 | AK3: 5752740.9 | AL3: 5744743 | AM3: 6133135.5 | AN3: 5848537.8 | AO3: 5730558.5 | AP3: 5930272.6 | AQ3: 6091027.4 | AR3: 5984516.9 | AS3: 6148783.4 | AT3: 6420389.8 | AU3: 5976743.9
A4: 198 | B4: Harju | C4: Harku vald | D4: 19771046 | E4: 19829938 | F4: 20461541 | G4: 21084102 | H4: 20377539 | I4: 21594912 | J4: 20861262 | K4: 20375990 | L4: 19967098 | M4: 20300430 | N4: 21103263 | O4: 22771040 | P4: 21733244 | Q4: 22186340 | R4: 23006494 | S4: 23444248 | T4: 22576206 | U4: 23301977 | V4: 23297090 | W4: 22353167 | X4: 22304232 | Y4: 22798386 | Z4: 23008766 | AA4: 26132568 | AB4: 22805432 | AC4: 24391053 | AD4: 24689834 | AE4: 25387158 | AF4: 24981466 | AG4: 24761223 | AH4: 24835627 | AI4: 24039030 | AJ4: 23887180 | AK4: 24302743 | AL4: 24606523 | AM4: 26944630 | AN4: 25598061 | AO4: 25669411 | AP4: 27091573 | AQ4: 27328347 | AR4: 26479285 | AS4: 27354396 | AT4: 27189918 | AU4: 26131694
A5: 245 | B5: Harju | C5: Jõelähtme vald | D5: 6959703.1 | E5: 6915091.7 | F5: 7213623.1 | G5: 7705900.3 | H5: 7402080.7 | I5: 7663547.4 | J5: 7604390 | K5: 7317044.7 | L5: 7194590.5 | M5: 7308095 | N5: 7495679.4 | O5: 8017843.8 | P5: 7758532 | Q5: 7808464.8 | R5: 7885369.1 | S5: 8057984.8 | T5: 8079879.2 | U5: 8285809.3 | V5: 8417329 | W5: 8117228.2 | X5: 7885454.6 | Y5: 8036275.6 | Z5: 8500061.2 | AA5: 9043061.9 | AB5: 8526068 | AC5: 8570597.6 | AD5: 8910185.7 | AE5: 9209174.9 | AF5: 8994838.1 | AG5: 9105300.6 | AH5: 9168281.2 | AI5: 8880025.5 | AJ5: 8726850.1 | AK5: 9012258.2 | AL5: 9052619.3 | AM5: 9678684.9 | AN5: 9789402.2 | AO5: 9469266.9 | AP5: 9843767 | AQ5: 10378509 | AR5: 9885062.5 | AS5: 10195059 | AT5: 10286876 | AU5: 9878735.9
A6: 296 | B6: Harju | C6: Keila linn | D6: 9480163.8 | E6: 9478152.5 | F6: 9661279.4 | G6: 10280712 | H6: 9837961.3 | I6: 10544500 | J6: 10144424 | K6: 10132039 | L6: 9773839.7 | M6: 10001976 | N6: 10065504 | O6: 11277188 | P6: 10096944 | Q6: 10163377 | R6: 10553937 | S6: 10927398 | T6: 10734845 | U6: 11280617 | V6: 10876296 | W6: 11008521 | X6: 10484160 | Y6: 10906872 | Z6: 11128725 | AA6: 12422119 | AB6: 10666984 | AC6: 11080613 | AD6: 11220545 | AE6: 11910480 | AF6: 11589249 | AG6: 11976720 | AH6: 11833568 | AI6: 11691510 | AJ6: 11378599 | AK6: 11760339 | AL6: 12130430 | AM6: 12812391 | AN6: 11782792 | AO6: 11937249 | AP6: 12053419 | AQ6: 12644862 | AR6: 12365618 | AS6: 12731558 | AT6: 12728028 | AU6: 12490570
A7: 305 | B7: Harju | C7: Kiili vald | D7: 7247693 | E7: 7322440 | F7: 7461409.2 | G7: 8000988.6 | H7: 7496588.8 | I7: 7832862.7 | J7: 7709010.4 | K7: 7425526.2 | L7: 7452602.4 | M7: 7508518 | N7: 7521450.9 | O7: 8520470.7 | P7: 8613004.5 | Q7: 8444296.9 | R7: 8836817.8 | S7: 9154760.3 | T7: 8858628.2 | U7: 9164542.2 | V7: 9010961.7 | W7: 8996380.3 | X7: 8733805.3 | Y7: 8919553.9 | Z7: 8991520.4 | AA7: 10128487 | AB7: 9446821.5 | AC7: 10105570 | AD7: 10260588 | AE7: 10496864 | AF7: 9797359.8 | AG7: 10404021 | AH7: 10229047 | AI7: 9880017 | AJ7: 9963568.5 | AK7: 9987003.6 | AL7: 9982515.2 | AM7: 10649676 | AN7: 11053978 | AO7: 11332372 | AP7: 11510153 | AQ7: 11790932 | AR7: 11257183 | AS7: 11796563 | AT7: 11475156 | AU7: 11374466
A8: 338 | B8: Harju | C8: Kose vald | D8: 6413707.9 | E8: 6461307.8 | F8: 6481949.9 | G8: 6887260.5 | H8: 6734061 | I8: 7104641.3 | J8: 6793295.5 | K8: 6691411.4 | L8: 6678054.8 | M8: 6804187.7 | N8: 6884866.6 | O8: 7481770.9 | P8: 7036684.2 | Q8: 7150295.2 | R8: 7149063.6 | S8: 7478219.2 | T8: 7492242.1 | U8: 7598249.6 | V8: 7507333.4 | W8: 7467257.9 | X8: 7329764 | Y8: 7437505.1 | Z8: 7580390.5 | AA8: 8345319.4 | AB8: 7385666.7 | AC8: 7718904.6 | AD8: 7571559.5 | AE8: 8082836.4 | AF8: 7795804.5 | AG8: 8060661.3 | AH8: 7875782.9 | AI8: 7868028.2 | AJ8: 7657874.2 | AK8: 7868152.8 | AL8: 7997095.6 | AM8: 8530236.1 | AN8: 8036756.5 | AO8: 8013113.7 | AP8: 8006501.5 | AQ8: 8394887.3 | AR8: 8358391 | AS8: 8530476 | AT8: 8459453.7 | AU8: 8504377.1
A9: 353 | B9: Harju | C9: Kuusalu vald | D9: 5389845 | E9: 5403853.6 | F9: 5583129.1 | G9: 5908598.7 | H9: 5494947.9 | I9: 6195654.9 | J9: 5725263 | K9: 5572885.4 | L9: 5559702.9 | M9: 5622542.2 | N9: 5730241.5 | O9: 6214819.8 | P9: 5694368.2 | Q9: 5648791.2 | R9: 5883720.9 | S9: 6257221.8 | T9: 5915060.4 | U9: 6368148.2 | V9: 6101042.3 | W9: 6000632 | X9: 5835879 | Y9: 6035771.4 | Z9: 6061686.9 | AA9: 6893310.9 | AB9: 5803592.8 | AC9: 5994053.5 | AD9: 6220695 | AE9: 6508299.2 | AF9: 6303318.1 | AG9: 6529862.6 | AH9: 6244965.7 | AI9: 6120014.4 | AJ9: 6229316.9 | AK9: 6268455.4 | AL9: 6251296 | AM9: 6926257.8 | AN9: 6281794.2 | AO9: 6169507.7 | AP9: 6665845.4 | AQ9: 6699143.8 | AR9: 6652356.7 | AS9: 6964250.9 | AT9: 6701223.5 | AU9: 6592080.6
A10: 424 | B10: Harju | C10: Loksa linn | D10: 1261532 | E10: 1299723.7 | F10: 1286340.7 | G10: 1346549.8 | H10: 1339135.2 | I10: 1528806.8 | J10: 1440223.4 | K10: 1335710.6 | L10: 1371195.1 | M10: 1393771.6 | N10: 1402413.9 | O10: 1566661.2 | P10: 1315651.8 | Q10: 1348044.1 | R10: 1364398.7 | S10: 1391749.9 | T10: 1419488.4 | U10: 1541705.3 | V10: 1457710 | W10: 1401884.5 | X10: 1369299.1 | Y10: 1391124.1 | Z10: 1495771.3 | AA10: 1524855.9 | AB10: 1401661.9 | AC10: 1409441.3 | AD10: 1372334.1 | AE10: 1456704 | AF10: 1525753.9 | AG10: 1536095.8 | AH10: 1520709.2 | AI10: 1496976.6 | AJ10: 1480753.1 | AK10: 1495028.3 | AL10: 1510835 | AM10: 1580082.9 | AN10: 1464764.1 | AO10: 1441287.7 | AP10: 1498631.9 | AQ10: 1530104.7 | AR10: 1549329.9 | AS10: 1609364.9 | AT10: 1600812.2 | AU10: 1508108.7
A11: 431 | B11: Harju | C11: Lääne-Harju vald | D11: 10483715 | E11: 10476296 | F11: 11030879 | G11: 11658585 | H11: 10994945 | I11: 11550306 | J11: 11082839 | K11: 10907994 | L11: 10720541 | M11: 10855329 | N11: 11073621 | O11: 12036030 | P11: 11209372 | Q11: 11456628 | R11: 11479344 | S11: 11983462 | T11: 12083678 | U11: 12328031 | V11: 12226099 | W11: 11866513 | X11: 11572650 | Y11: 11870167 | Z11: 12033684 | AA11: 13315711 | AB11: 11867453 | AC11: 12191463 | AD11: 12339476 | AE11: 13004597 | AF11: 12855749 | AG11: 13258610 | AH11: 12865654 | AI11: 12758920 | AJ11: 12436245 | AK11: 12742333 | AL11: 12802299 | AM11: 13857039 | AN11: 13161681 | AO11: 13228608 | AP11: 13429187 | AQ11: 14069583 | AR11: 13821383 | AS11: 14387642 | AT11: 14041338 | AU11: 13857120
A12: 446 | B12: Harju | C12: Maardu linn | D12: 11115269 | E12: 10854346 | F12: 10895240 | G12: 11804086 | H12: 11409026 | I12: 12315134 | J12: 11832822 | K12: 11382730 | L12: 11354067 | M12: 11408200 | N12: 11499110 | O12: 12530899 | P12: 11686501 | Q12: 11822026 | R12: 11886199 | S12: 12397396 | T12: 12221091 | U12: 13228180 | V12: 12448730 | W12: 12213215 | X12: 12022999 | Y12: 12311653 | Z12: 12526791 | AA12: 13465663 | AB12: 12209705 | AC12: 12207229 | AD12: 12482323 | AE12: 12995181 | AF12: 12787249 | AG12: 13533627 | AH12: 13144187 | AI12: 12680875 | AJ12: 12558615 | AK12: 12906601 | AL12: 13009540 | AM12: 13763872 | AN12: 13074186 | AO12: 12712816 | AP12: 12955756 | AQ12: 13665616 | AR12: 13407868 | AS12: 14173314 | AT12: 13898661 | AU12: 13418099
A13: 651 | B13: Harju | C13: Raasiku vald | D13: 5013741 | E13: 4935787.1 | F13: 5067856.6 | G13: 5308877.7 | H13: 5036922.9 | I13: 5498514.8 | J13: 5432212.1 | K13: 5247312.6 | L13: 5117953.2 | M13: 5179014.3 | N13: 5322513.5 | O13: 5753631.8 | P13: 5297810 | Q13: 5325462 | R13: 5456615.1 | S13: 5546206.4 | T13: 5584238 | U13: 5789195.6 | V13: 5777819.7 | W13: 5624540.9 | X13: 5580049.9 | Y13: 5553360.5 | Z13: 5954333.8 | AA13: 6331382.5 | AB13: 5537787 | AC13: 5797230.1 | AD13: 5871186.6 | AE13: 6188545.1 | AF13: 5768792.3 | AG13: 6086965.5 | AH13: 6156095.3 | AI13: 5926219.2 | AJ13: 5787514 | AK13: 5966348.3 | AL13: 6018981.7 | AM13: 6481633.8 | AN13: 6212893.7 | AO13: 6219185.7 | AP13: 6283362.7 | AQ13: 6562817.3 | AR13: 6350736.3 | AS13: 6632855.8 | AT13: 6615761.3 | AU13: 6373656.6
A14: 653 | B14: Harju | C14: Rae vald | D14: 27873841 | E14: 27834433 | F14: 29044025 | G14: 30290938 | H14: 28679596 | I14: 29620924 | J14: 29351235 | K14: 28685748 | L14: 28388946 | M14: 28623908 | N14: 29207928 | O14: 31674340 | P14: 30891697 | Q14: 30505175 | R14: 31738876 | S14: 32878098 | T14: 31191660 | U14: 32256618 | V14: 31981418 | W14: 31429152 | X14: 30942872 | Y14: 31551137 | Z14: 31845075 | AA14: 35907610 | AB14: 31894961 | AC14: 33471778 | AD14: 33967593 | AE14: 35920427 | AF14: 33652658 | AG14: 34477472 | AH14: 34423293 | AI14: 33788130 | AJ14: 33173732 | AK14: 33703427 | AL14: 34370715 | AM14: 36497512 | AN14: 35738792 | AO14: 35489268 | AP14: 38011235 | AQ14: 38444473 | AR14: 36278832 | AS14: 37644574 | AT14: 37194121 | AU14: 36400984
... A80: 919 | B80: Võru | C80: Võru linn | D80: 6783735.7 | E80: 6792269.5 | F80: 6820631.8 | G80: 7284055 | H80: 7162883.5 | I80: 7865139.6 | J80: 7305807.6 | K80: 7168134.6 | L80: 7246057.6 | M80: 7396820.3 | N80: 7509989.9 | O80: 8121516.9 | P80: 7203426.7 | Q80: 7238291.6 | R80: 7377641 | S80: 7664712.7 | T80: 7687404.6 | U80: 8394071.1 | V80: 7403124.9 | W80: 7619470.8 | X80: 7684592.4 | Y80: 7889277.5 | Z80: 8081191.7 | AA80: 8859349.4 | AB80: 7653292.2 | AC80: 7797781.9 | AD80: 7704064.9 | AE80: 8073903.4 | AF80: 8211767.6 | AG80: 8666101.9 | AH80: 8273761 | AI80: 7964383 | AJ80: 8116028.7 | AK80: 8267775.4 | AL80: 8365128.9 | AM80: 8994871.1 | AN80: 8100764.6 | AO80: 8066565.7 | AP80: 8052539.8 | AQ80: 8630092.5 | AR80: 8655069.3 | AS80: 9153028.2 | AT80: 8860912.7 | AU80: 8456427.7
A81: (blank) | C81: Aadressita | D81: 3388394.1 | E81: 4546644.7 | F81: 5385430.8 | G81: 6204066.7 | H81: 6876566 | I81: 7822861.1 | J81: 8111932.8 | K81: 8270529 | L81: 9107238.9 | M81: 9223553 | N81: 9690413.9 | O81: 10666740 | P81: 1632311.1 | Q81: 2087803.7 | R81: 2827908 | S81: 3170598.1 | T81: 3480707.3 | U81: 4057889.2 | V81: 4431573.1 | W81: 4748157.6 | X81: 5125042.6 | Y81: 5686438.8 | Z81: 6289379.2 | AA81: 7068109.5 | AB81: 1052933.9 | AC81: 1631353 | AD81: 2164701.7 | AE81: 2323700.1 | AF81: 2639564.8 | AG81: 3285405.3 | AH81: 3478164.1 | AI81: 3899194.7 | AJ81: 4303592.9 | AK81: 4776589.7 | AL81: 5352295.3 | AM81: 6153986 | AN81: 1087309 | AO81: 1695836.4 | AP81: 2103564.8 | AQ81: 2598179.1 | AR81: 2885034 | AS81: 3283833.2 | AT81: 3879451.9 | AU81: 4216637.1
A82: 999 | C82: KOKKU | D82: =SUM(D3:D81) -> 1.0853865e+09 | E82: =SUM(E3:E81) -> 1.0930748e+09 | F82: =SUM(F3:F81) -> 1.1147673e+09 | G82: =SUM(G3:G81) -> 1.1831833e+09 | H82: =SUM(H3:H81) -> 1.1392508e+09 | I82: =SUM(I3:I81) -> 1.2156728e+09 | J82: =SUM(J3:J81) -> 1.1735123e+09 | K82: =SUM(K3:K81) -> 1.1352174e+09 | ... AU82: =SUM(AU3:AU81) -> 1.3642298e+09
C84: 1 | D84: 2 | E84: 3 | F84: 4 | G84: 5 | H84: 6 | I84: 7 | J84: 8 | K84: 9 | L84: 10 | M84: 11 | N84: 12 | O84: 13 | P84: 14 | Q84: 15 | R84: 16 | S84: 17 | T84: 18 | U84: 19 | V84: 20 | W84: 21 | X84: 22 | Y84: 23 | Z84: 24 | AA84: 25 | AB84: 26 | AC84: 27 | AD84: 28 | AE84: 29 | AF84: 30 | AG84: 31 | AH84: 32 | AI84: 33 | AJ84: 34 | AK84: 35 | AL84: 36 | AM84: 37 | AN84: 38 | AO84: 39 | AP84: 40 | AQ84: 41 | AR84: 42 | AS84: 43 | AT84: 44 | AU84: 45 | AV84: 46 | AW84: 47 | AX84: 48 | AY84: 49
C86: Aadressita isikute tulumaks | D86: =ROUND(D81*0.1189,-3) -> 403000 | E86: =ROUND(E81*0.1189,-3) -> 541000 | F86: =ROUND(F81*0.1189,-3) -> 640000 | G86: =ROUND(G81*0.1189,-3) -> 738000 | H86: =ROUND(H81*0.1189,-3) -> 818000 | I86: =ROUND(I81*0.1189,-3) -> 930000 | J86: =ROUND(J81*0.1189,-3) -> 965000 | K86: =ROUND(K81*0.1189,-3) -> 983000 | ... AA86: =ROUND(AA81*0.1189,-3) -> 840000 | AB86: =ROUND(AB81*0.1129,-3) -> 119000 | AC86: =ROUND(AC81*0.1129,-3) -> 184000 | AD86: =ROUND(AD81*0.1129,-3) -> 244000 | AE86: =ROUND(AE81*0.1129,-3) -> 262000 | AF86: =ROUND(AF81*0.1129,-3) -> 298000 | AG86: =ROUND(AG81*0.1129,-3) -> 371000 | AH86: =ROUND(AH81*0.1129,-3) -> 393000 | AI86: =ROUND(AI81*0.1129,-3) -> 440000 | ... AM86: =ROUND(AM81*0.1129,-3) -> 695000 | AN86: =ROUND(AN81*0.1064,-3) -> 116000 | AO86: =ROUND(AO81*0.1064,-3) -> 180000 | AP86: =ROUND(AP81*0.1064,-3) -> 224000 | AQ86: =ROUND(AQ81*0.1064,-3) -> 276000 | AR86: =ROUND(AR81*0.1064,-3) -> 307000 | AS86: =ROUND(AS81*0.1064,-3) -> 349000 | AT86: =ROUND(AT81*0.1064,-3) -> 413000 | AU86: =ROUND(AU81*0.1064,-3) -> 449000

Sheet MM
A1: Maakond | B1: Kohalik omavalitsus | C1: 2023 | O1: 2024 | AA1: 2025 | AM1: 2026
C3: 1 | D3: 2 | E3: 3 | F3: 4 | G3: 5 | H3: 6 | I3: 7 | J3: 8 | K3: 9 | L3: 10 | M3: 11 | N3: 12 | O3: 1 | P3: 2 | Q3: 3 | R3: 4 | S3: 5 | T3: 6 | U3: 7 | V3: 8 | W3: 9 | X3: 10 | Y3: 11 | Z3: 12 | AA3: 1 | AB3: 2 | AC3: 3 | AD3: 4 | AE3: 5 | AF3: 6 | AG3: 7 | AH3: 8 | AI3: 9 | AJ3: 10 | AK3: 11 | AL3: 12 | AM3: 1 | AN3: 2 | AO3: 3 | AP3: 4 | AQ3: 5 | AR3: 6 | AS3: 7 | AT3: 8 | AU3: 9 | AV3: 10 | AW3: 11 | AX3: 12
A4: Harju | B4: Anija vald | C4: 3015 | D4: 3024 | E4: 3045 | F4: 3019 | G4: 3028 | H4: 3029 | I4: 3028 | J4: 3056 | K4: 3037 | L4: 3020 | M4: 2989 | N4: 3015 | O4: 3003 | P4: 3004 | Q4: 3014 | R4: 3023 | S4: 3018 | T4: 3032 | U4: 3041 | V4: 3069 | W4: 3050 | X4: 3021 | Y4: 3035 | Z4: 3030 | AA4: 2954 | AB4: 2984 | AC4: 3016 | AD4: 2999 | AE4: 2982 | AF4: 3015 | AG4: 3015 | AH4: 3024 | AI4: 3022 | AJ4: 3017 | AK4: 3026 | AL4: 3045 | AM4: 3003 | AN4: 3031 | AO4: 3048 | AP4: 3028 | AQ4: 3034 | AR4: 3068 | AS4: 3052 | AT4: 3080
A5: Harju | B5: Harku vald | C5: 8792 | D5: 8799 | E5: 8839 | F5: 8841 | G5: 8852 | H5: 8896 | I5: 8926 | J5: 8974 | K5: 8912 | L5: 8822 | M5: 8796 | N5: 8856 | O5: 9001 | P5: 9034 | Q5: 9002 | R5: 9054 | S5: 9065 | T5: 9128 | U5: 9180 | V5: 9197 | W5: 9238 | X5: 9134 | Y5: 9117 | Z5: 9123 | AA5: 9039 | AB5: 9250 | AC5: 9232 | AD5: 9266 | AE5: 9272 | AF5: 9325 | AG5: 9367 | AH5: 9379 | AI5: 9359 | AJ5: 9334 | AK5: 9316 | AL5: 9360 | AM5: 9440 | AN5: 9495 | AO5: 9537 | AP5: 9573 | AQ5: 9593 | AR5: 9701 | AS5: 9748 | AT5: 9779
A6: Harju | B6: Jõelähtme vald | C6: 3720 | D6: 3726 | E6: 3734 | F6: 3735 | G6: 3742 | H6: 3864 | I6: 3765 | J6: 3753 | K6: 3725 | L6: 3724 | M6: 3703 | N6: 3725 | O6: 3826 | P6: 3810 | Q6: 3801 | R6: 3824 | S6: 3828 | T6: 3921 | U6: 3873 | V6: 3836 | W6: 3848 | X6: 3824 | Y6: 3836 | Z6: 3841 | AA6: 3894 | AB6: 3946 | AC6: 3953 | AD6: 3951 | AE6: 3974 | AF6: 4069 | AG6: 4012 | AH6: 3975 | AI6: 3977 | AJ6: 3977 | AK6: 3964 | AL6: 4005 | AM6: 4120 | AN6: 4125 | AO6: 4154 | AP6: 4178 | AQ6: 4178 | AR6: 4291 | AS6: 4209 | AT6: 4163
A7: Harju | B7: Keila linn | C7: 5187 | D7: 5157 | E7: 5155 | F7: 5163 | G7: 5168 | H7: 5192 | I7: 5204 | J7: 5252 | K7: 5178 | L7: 5151 | M7: 5133 | N7: 5165 | O7: 5140 | P7: 5131 | Q7: 5136 | R7: 5153 | S7: 5155 | T7: 5195 | U7: 5200 | V7: 5260 | W7: 5190 | X7: 5212 | Y7: 5167 | Z7: 5193 | AA7: 5178 | AB7: 5214 | AC7: 5207 | AD7: 5223 | AE7: 5234 | AF7: 5342 | AG7: 5360 | AH7: 5281 | AI7: 5290 | AJ7: 5272 | AK7: 5263 | AL7: 5279 | AM7: 5221 | AN7: 5247 | AO7: 5292 | AP7: 5293 | AQ7: 5283 | AR7: 5328 | AS7: 5362 | AT7: 5345
A8: Harju | B8: Kiili vald | C8: 3265 | D8: 3266 | E8: 3264 | F8: 3261 | G8: 3266 | H8: 3309 | I8: 3280 | J8: 3310 | K8: 3293 | L8: 3282 | M8: 3293 | N8: 3301 | O8: 3500 | P8: 3527 | Q8: 3522 | R8: 3526 | S8: 3535 | T8: 3589 | U8: 3576 | V8: 3612 | W8: 3601 | X8: 3569 | Y8: 3558 | Z8: 3581 | AA8: 3669 | AB8: 3730 | AC8: 3718 | AD8: 3737 | AE8: 3743 | AF8: 3837 | AG8: 3827 | AH8: 3866 | AI8: 3813 | AJ8: 3742 | AK8: 3751 | AL8: 3774 | AM8: 3938 | AN8: 3970 | AO8: 3982 | AP8: 4015 | AQ8: 4025 | AR8: 4071 | AS8: 4088 | AT8: 4047
A9: Harju | B9: Kose vald | C9: 3690 | D9: 3734 | E9: 3709 | F9: 3727 | G9: 3742 | H9: 3767 | I9: 3747 | J9: 3752 | K9: 3791 | L9: 3774 | M9: 3752 | N9: 3812 | O9: 3775 | P9: 3797 | Q9: 3793 | R9: 3821 | S9: 3833 | T9: 3789 | U9: 3818 | V9: 3834 | W9: 3833 | X9: 3840 | Y9: 3833 | Z9: 3903 | AA9: 3724 | AB9: 3757 | AC9: 3764 | AD9: 3794 | AE9: 3791 | AF9: 3801 | AG9: 3818 | AH9: 3817 | AI9: 3801 | AJ9: 3799 | AK9: 3778 | AL9: 3842 | AM9: 3741 | AN9: 3776 | AO9: 3775 | AP9: 3806 | AQ9: 3830 | AR9: 3832 | AS9: 3880 | AT9: 3850
A10: Harju | B10: Kuusalu vald | C10: 3050 | D10: 3072 | E10: 3040 | F10: 3031 | G10: 3027 | H10: 3063 | I10: 3074 | J10: 3064 | K10: 3084 | L10: 3031 | M10: 3031 | N10: 3068 | O10: 3000 | P10: 3011 | Q10: 2993 | R10: 3017 | S10: 3042 | T10: 3035 | U10: 3095 | V10: 3025 | W10: 3061 | X10: 3045 | Y10: 3009 | Z10: 3070 | AA10: 2937 | AB10: 2965 | AC10: 2955 | AD10: 2964 | AE10: 2971 | AF10: 2994 | AG10: 3030 | AH10: 3010 | AI10: 3028 | AJ10: 2997 | AK10: 2979 | AL10: 3063 | AM10: 2954 | AN10: 2953 | AO10: 2957 | AP10: 2968 | AQ10: 2989 | AR10: 3020 | AS10: 3031 | AT10: 2986
A11: Harju | B11: Loksa linn | C11: 1007 | D11: 986 | E11: 1009 | F11: 980 | G11: 987 | H11: 1003 | I11: 1030 | J11: 1000 | K11: 1013 | L11: 1003 | M11: 1021 | N11: 1023 | O11: 993 | P11: 984 | Q11: 986 | R11: 993 | S11: 983 | T11: 985 | U11: 993 | V11: 957 | W11: 969 | X11: 985 | Y11: 970 | Z11: 976 | AA11: 966 | AB11: 953 | AC11: 952 | AD11: 969 | AE11: 972 | AF11: 978 | AG11: 991 | AH11: 981 | AI11: 978 | AJ11: 980 | AK11: 975 | AL11: 979 | AM11: 961 | AN11: 949 | AO11: 960 | AP11: 979 | AQ11: 965 | AR11: 963 | AS11: 980 | AT11: 985
A12: Harju | B12: Lääne-Harju vald | C12: 6515 | D12: 6492 | E12: 6501 | F12: 6499 | G12: 6528 | H12: 6573 | I12: 6591 | J12: 6474 | K12: 6487 | L12: 6441 | M12: 6419 | N12: 6418 | O12: 6507 | P12: 6469 | Q12: 6471 | R12: 6513 | S12: 6531 | T12: 6561 | U12: 6674 | V12: 6560 | W12: 6576 | X12: 6518 | Y12: 6496 | Z12: 6537 | AA12: 6405 | AB12: 6460 | AC12: 6438 | AD12: 6535 | AE12: 6538 | AF12: 6591 | AG12: 6672 | AH12: 6577 | AI12: 6609 | AJ12: 6613 | AK12: 6556 | AL12: 6616 | AM12: 6635 | AN12: 6659 | AO12: 6659 | AP12: 6656 | AQ12: 6692 | AR12: 6768 | AS12: 6886 | AT12: 6719
A13: Harju | B13: Maardu linn | C13: 7689 | D13: 7670 | E13: 7703 | F13: 7705 | G13: 7714 | H13: 7717 | I13: 7908 | J13: 7648 | K13: 7626 | L13: 7627 | M13: 7571 | N13: 7616 | O13: 7745 | P13: 7764 | Q13: 7734 | R13: 7747 | S13: 7745 | T13: 7913 | U13: 7791 | V13: 7698 | W13: 7708 | X13: 7731 | Y13: 7698 | Z13: 7714 | AA13: 7543 | AB13: 7570 | AC13: 7576 | AD13: 7636 | AE13: 7685 | AF13: 7780 | AG13: 7755 | AH13: 7630 | AI13: 7569 | AJ13: 7606 | AK13: 7623 | AL13: 7614 | AM13: 7607 | AN13: 7591 | AO13: 7614 | AP13: 7655 | AQ13: 7688 | AR13: 7834 | AS13: 7791 | AT13: 7683
A14: Harju | B14: Raasiku vald | C14: 2662 | D14: 2658 | E14: 2656 | F14: 2638 | G14: 2640 | H14: 2674 | I14: 2715 | J14: 2653 | K14: 2656 | L14: 2667 | M14: 2647 | N14: 2664 | O14: 2637 | P14: 2647 | Q14: 2652 | R14: 2669 | S14: 2681 | T14: 2687 | U14: 2704 | V14: 2714 | W14: 2679 | X14: 2678 | Y14: 2677 | Z14: 2691 | AA14: 2637 | AB14: 2659 | AC14: 2663 | AD14: 2672 | AE14: 2680 | AF14: 2720 | AG14: 2717 | AH14: 2701 | AI14: 2724 | AJ14: 2717 | AK14: 2711 | AL14: 2745 | AM14: 2710 | AN14: 2705 | AO14: 2719 | AP14: 2725 | AQ14: 2707 | AR14: 2781 | AS14: 2797 | AT14: 2741
A15: Harju | B15: Rae vald | C15: 11594 | D15: 11580 | E15: 11621 | F15: 11616 | G15: 11691 | H15: 11788 | I15: 11926 | J15: 11907 | K15: 11744 | L15: 11720 | M15: 11708 | N15: 11669 | O15: 11818 | P15: 11796 | Q15: 11796 | R15: 11835 | S15: 11877 | T15: 12000 | U15: 12174 | V15: 12121 | W15: 12007 | X15: 11960 | Y15: 11963 | Z15: 12000 | AA15: 11840 | AB15: 12044 | AC15: 12087 | AD15: 12103 | AE15: 12173 | AF15: 12335 | AG15: 12327 | AH15: 12458 | AI15: 12244 | AJ15: 12190 | AK15: 12177 | AL15: 12247 | AM15: 12308 | AN15: 12366 | AO15: 12386 | AP15: 12436 | AQ15: 12461 | AR15: 12735 | AS15: 12671 | AT15: 12764
... A81: Võru | B81: Võru vald | C81: 4555 | D81: 4594 | E81: 4558 | F81: 4591 | G81: 4626 | H81: 4645 | I81: 4586 | J81: 4718 | K81: 4664 | L81: 4674 | M81: 4581 | N81: 4764 | O81: 4537 | P81: 4525 | Q81: 4516 | R81: 4528 | S81: 4545 | T81: 4603 | U81: 4542 | V81: 4633 | W81: 4628 | X81: 4616 | Y81: 4590 | Z81: 4760 | AA81: 4483 | AB81: 4490 | AC81: 4541 | AD81: 4566 | AE81: 4611 | AF81: 4623 | AG81: 4614 | AH81: 4630 | AI81: 4636 | AJ81: 4597 | AK81: 4608 | AL81: 4763 | AM81: 4498 | AN81: 4533 | AO81: 4587 | AP81: 4586 | AQ81: 4617 | AR81: 4672 | AS81: 4659 | AT81: 4620
B82: Aadressita | C82: 3881 | D82: 3962 | E82: 4358 | F82: 4675 | G82: 5118 | H82: 5544 | I82: 5869 | J82: 5983 | K82: 6260 | L82: 6508 | M82: 6759 | N82: 6943 | O82: 2335 | P82: 2010 | Q82: 2114 | R82: 2258 | S82: 2498 | T82: 2689 | U82: 2981 | V82: 3138 | W82: 3345 | X82: 3605 | Y82: 3828 | Z82: 4160 | AA82: 2024 | AB82: 1610 | AC82: 1601 | AD82: 1735 | AE82: 1899 | AF82: 2107 | AG82: 2261 | AH82: 2444 | AI82: 2661 | AJ82: 2960 | AK82: 3218 | AL82: 3619 | AM82: 1929 | AN82: 1516 | AO82: 1608 | AP82: 1750 | AQ82: 1962 | AR82: 2181 | AS82: 2364 | AT82: 2533
B83: KOKKU | C83: =SUM(C4:C82) -> 637855 | D83: =SUM(D4:D82) -> 638830 | E83: =SUM(E4:E82) -> 641156 | F83: =SUM(F4:F82) -> 640755 | G83: =SUM(G4:G82) -> 643871 | H83: =SUM(H4:H82) -> 648060 | I83: =SUM(I4:I82) -> 647491 | J83: =SUM(J4:J82) -> 647397 | ... AX83: =SUM(AX4:AX82) -> 0
B85: 1 | C85: 2 | D85: 3 | E85: 4 | F85: 5 | G85: 6 | H85: 7 | I85: 8 | J85: 9 | K85: 10 | L85: 11 | M85: 12 | N85: 13 | O85: 14 | P85: 15 | Q85: 16 | R85: 17 | S85: 18 | T85: 19 | U85: 20 | V85: 21 | W85: 22 | X85: 23 | Y85: 24 | Z85: 25 | AA85: 26 | AB85: 27 | AC85: 28 | AD85: 29 | AE85: 30 | AF85: 31 | AG85: 32 | AH85: 33 | AI85: 34 | AJ85: 35 | AK85: 36 | AL85: 37 | AM85: 38 | AN85: 39 | AO85: 40 | AP85: 41 | AQ85: 42 | AR85: 43 | AS85: 44 | AT85: 45 | AU85: 46 | AV85: 47 | AW85: 48 | AX85: 49

Sheet Pension2023
A1: 1 | B1: 2 | C1: 3 | D1: 4 | E1: 5 | F1: 6 | G1: 7 | H1: 8 | I1: 9 | J1: 10 | K1: 11 | L1: 12 | M1: 13 | N1: 14 | O1: 15 | P1: 16 | Q1: 17 | R1: 18 | S1: 19 | T1: 20 | U1: 21 | V1: 22 | W1: 23 | X1: 24 | Y1: 25 | Z1: 26 | AA1: 27 | AB1: 28 | AC1: 29 | AD1: 30 | AE1: 31 | AF1: 32 | AG1: 33 | AH1: 34 | AI1: 35 | AJ1: 36 | AK1: 37
B4: Pensionitulu | N4: Pensionisaajate arv | Z4: Keskmine pension
A5: Omavalitsus | B5: 1 | C5: 2 | D5: 3 | E5: 4 | F5: 5 | G5: 6 | H5: 7 | I5: 8 | J5: 9 | K5: 10 | L5: 11 | M5: 12 | N5: 1 | O5: 2 | P5: 3 | Q5: 4 | R5: 5 | S5: 6 | T5: 7 | U5: 8 | V5: 9 | W5: 10 | X5: 11 | Y5: 12 | Z5: 1 | AA5: 2 | AB5: 3 | AC5: 4 | AD5: 5 | AE5: 6 | AF5: 7 | AG5: 8 | AH5: 9 | AI5: 10 | AJ5: 11 | AK5: 12
A6: Alutaguse vald | B6: 810415.66 | C6: 809777.39 | D6: 811327.57 | E6: 921002.22 | F6: 922492.49 | G6: 925908.16 | H6: 924878.4 | I6: 931187.26 | J6: 932285.54 | K6: 932331.6 | L6: 932379.14 | M6: 934444.66 | N6: 1320 | O6: 1318 | P6: 1322 | Q6: 1317 | R6: 1318 | S6: 1322 | T6: 1321 | U6: 1328 | V6: 1332 | W6: 1334 | X6: 1333 | Y6: 1334 | Z6: 613.95126 | AA6: 614.39863 | AB6: 613.71223 | AC6: 699.31831 | AD6: 699.91843 | AE6: 700.38439 | AF6: 700.13505 | AG6: 701.19523 | AH6: 699.91407 | AI6: 698.89925 | AJ6: 699.45922 | AK6: 700.48325
A7: Anija vald | B7: 970835.29 | C7: 972776.31 | D7: 980536.67 | E7: 1110800.7 | F7: 1107805 | G7: 1105663.5 | H7: 1102797.1 | I7: 1109443.1 | J7: 1106343.9 | K7: 1102495.9 | L7: 1104027.2 | M7: 1108427.9 | N7: 1554 | O7: 1559 | P7: 1569 | Q7: 1564 | R7: 1563 | S7: 1560 | T7: 1554 | U7: 1555 | V7: 1556 | W7: 1550 | X7: 1554 | Y7: 1556 | Z7: 624.73313 | AA7: 623.97454 | AB7: 624.9437 | AC7: 710.23065 | AD7: 708.76842 | AE7: 708.75865 | AF7: 709.65067 | AG7: 713.4682 | AH7: 711.0179 | AI7: 711.28768 | AJ7: 710.44222 | AK7: 712.35729
A8: Antsla vald | B8: 685938.29 | C8: 685958.59 | D8: 686327.74 | E8: 784703.5 | F8: 780302.77 | G8: 778664.08 | H8: 776433.27 | I8: 779052.33 | J8: 780099.4 | K8: 783515.04 | L8: 784877.92 | M8: 782872.48 | N8: 1135 | O8: 1135 | P8: 1137 | Q8: 1140 | R8: 1133 | S8: 1129 | T8: 1126 | U8: 1132 | V8: 1134 | W8: 1138 | X8: 1140 | Y8: 1137 | Z8: 604.35092 | AA8: 604.3688 | AB8: 603.63038 | AC8: 688.3364 | AD8: 688.705 | AE8: 689.6936 | AF8: 689.54997 | AG8: 688.20877 | AH8: 687.91834 | AI8: 688.50179 | AJ8: 688.4894 | AK8: 688.5422
A9: Elva vald | B9: 2187556.8 | C9: 2182043.1 | D9: 2193826.1 | E9: 2496156.6 | F9: 2487464.5 | G9: 2479021.5 | H9: 2473379.9 | I9: 2472278.3 | J9: 2486751.9 | K9: 2491160.3 | L9: 2490513.1 | M9: 2486336.3 | N9: 3555 | O9: 3554 | P9: 3568 | Q9: 3561 | R9: 3551 | S9: 3539 | T9: 3529 | U9: 3524 | V9: 3542 | W9: 3545 | X9: 3542 | Y9: 3537 | Z9: 615.3465 | AA9: 613.96824 | AB9: 614.86157 | AC9: 700.97068 | AD9: 700.49692 | AE9: 700.48643 | AF9: 700.87273 | AG9: 701.55458 | AH9: 702.07562 | AI9: 702.72504 | AJ9: 703.13753 | AK9: 702.9506
A10: Haapsalu linn | B10: 2342570.5 | C10: 2343020.8 | D10: 2343307 | E10: 2666146.8 | F10: 2668838.2 | G10: 2663000.1 | H10: 2658817.2 | I10: 2664367.1 | J10: 2666692.1 | K10: 2666078.9 | L10: 2652074.6 | M10: 2648577.5 | N10: 3701 | O10: 3702 | P10: 3699 | Q10: 3693 | R10: 3696 | S10: 3686 | T10: 3681 | U10: 3693 | V10: 3697 | W10: 3696 | X10: 3676 | Y10: 3667 | Z10: 632.9561 | AA10: 632.90676 | AB10: 633.49743 | AC10: 721.94606 | AD10: 722.08825 | AE10: 722.4634 | AF10: 722.3084 | AG10: 721.46414 | AH10: 721.31246 | AI10: 721.3417 | AJ10: 721.45665 | AK10: 722.27366
A11: Haljala vald | B11: 725154.77 | C11: 726142.86 | D11: 729852.28 | E11: 828724.87 | F11: 830938.49 | G11: 824314.7 | H11: 827849 | I11: 823770.13 | J11: 834563.72 | K11: 834548.99 | L11: 841853.87 | M11: 836344.57 | N11: 1160 | O11: 1155 | P11: 1161 | Q11: 1159 | R11: 1155 | S11: 1152 | T11: 1151 | U11: 1149 | V11: 1159 | W11: 1163 | X11: 1167 | Y11: 1165 | Z11: 625.13342 | AA11: 628.69512 | AB11: 628.64107 | AC11: 715.0344 | AD11: 719.42726 | AE11: 715.55095 | AF11: 719.24327 | AG11: 716.94528 | AH11: 720.07223 | AI11: 717.58297 | AJ11: 721.38292 | AK11: 717.89233
A12: Harku vald | B12: 1619611.4 | C12: 1619154.7 | D12: 1621623.6 | E12: 1851679.4 | F12: 1852212.5 | G12: 1859489.1 | H12: 1857479.4 | I12: 1866394.9 | J12: 1882421.1 | K12: 1881883.3 | L12: 1887777 | M12: 1889274.6 | N12: 2352 | O12: 2354 | P12: 2361 | Q12: 2363 | R12: 2363 | S12: 2363 | T12: 2357 | U12: 2370 | V12: 2379 | W12: 2384 | X12: 2389 | Y12: 2390 | Z12: 688.61027 | AA12: 687.83124 | AB12: 686.8376 | AC12: 783.61378 | AD12: 783.83939 | AE12: 786.91879 | AF12: 788.06932 | AG12: 787.50841 | AH12: 791.26568 | AI12: 789.38057 | AJ12: 790.19548 | AK12: 790.49146
A13: Hiiumaa vald | B13: 1681360.1 | C13: 1682413.3 | D13: 1691249.3 | E13: 1919826.2 | F13: 1921027.4 | G13: 1918540.3 | H13: 1912859.9 | I13: 1918556.1 | J13: 1922088.5 | K13: 1928226.9 | L13: 1935022.3 | M13: 1933050 | N13: 2605 | O13: 2610 | P13: 2614 | Q13: 2619 | R13: 2618 | S13: 2614 | T13: 2600 | U13: 2612 | V13: 2611 | W13: 2621 | X13: 2625 | Y13: 2620 | Z13: 645.43572 | AA13: 644.60279 | AB13: 646.99669 | AC13: 733.03787 | AD13: 733.77672 | AE13: 733.9481 | AF13: 735.71535 | AG13: 734.51611 | AH13: 736.15032 | AI13: 735.68368 | AJ13: 737.15136 | AK13: 737.80535
A14: Häädemeeste vald | B14: 707490.02 | C14: 709785.85 | D14: 710309.14 | E14: 808904.04 | F14: 810855.55 | G14: 807568.76 | H14: 809840.59 | I14: 809249.86 | J14: 813766.97 | K14: 818288.37 | L14: 819186.7 | M14: 817534.64 | N14: 1158 | O14: 1160 | P14: 1164 | Q14: 1164 | R14: 1158 | S14: 1157 | T14: 1161 | U14: 1163 | V14: 1167 | W14: 1172 | X14: 1175 | Y14: 1170 | Z14: 610.95857 | AA14: 611.88435 | AB14: 610.23122 | AC14: 694.93474 | AD14: 700.22068 | AE14: 697.9851 | AF14: 697.53711 | AG14: 695.82963 | AH14: 697.31531 | AI14: 698.19827 | AJ14: 697.18017 | AK14: 698.74756
A15: Jõelähtme vald | B15: 869821.57 | C15: 867550.04 | D15: 866215.62 | E15: 987240.43 | F15: 992999.78 | G15: 988754.74 | H15: 989592.59 | I15: 992714.46 | J15: 997682.07 | K15: 999265.72 | L15: 1001573.3 | M15: 1004405.2 | N15: 1306 | O15: 1298 | P15: 1303 | Q15: 1301 | R15: 1303 | S15: 1299 | T15: 1298 | U15: 1304 | V15: 1310 | W15: 1315 | X15: 1317 | Y15: 1319 | Z15: 666.01958 | AA15: 668.37445 | AB15: 664.78559 | AC15: 758.832 | AD15: 762.08732 | AE15: 761.16608 | AF15: 762.39799 | AG15: 761.2841 | AH15: 761.58937 | AI15: 759.89789 | AJ15: 760.49607 | AK15: 761.48995
A16: Jõgeva vald | B16: 2242903.1 | C16: 2235146.9 | D16: 2238224.1 | E16: 2547689.2 | F16: 2538987.8 | G16: 2537298 | H16: 2529652.5 | I16: 2536847 | J16: 2536521.1 | K16: 2536423.9 | L16: 2543182.5 | M16: 2535260.8 | N16: 3602 | O16: 3594 | P16: 3599 | Q16: 3594 | R16: 3583 | S16: 3581 | T16: 3571 | U16: 3572 | V16: 3575 | W16: 3580 | X16: 3593 | Y16: 3582 | Z16: 622.6827 | AA16: 621.91066 | AB16: 621.90166 | AC16: 708.8729 | AD16: 708.62066 | AE16: 708.54455 | AF16: 708.38772 | AG16: 710.20354 | AH16: 709.51639 | AI16: 708.49828 | AJ16: 707.8159 | AK16: 707.778
... A85: KOKKU | B85: 1.9396088e+08 | C85: 1.9374914e+08 | D85: 1.9405884e+08 | E85: 2.2088842e+08 | F85: 2.2037097e+08 | G85: 2.200582e+08 | H85: 2.1974402e+08 | I85: 2.2002353e+08 | J85: 2.2042999e+08 | K85: 2.2082992e+08 | L85: 2.2094221e+08 | M85: 2.2099467e+08 | N85: 309036 | O85: 308789 | P85: 309305 | Q85: 308868 | R85: 308279 | S85: 307800 | T85: 307111 | U85: 307502 | V85: 308073 | W85: 308712 | X85: 308949 | Y85: 308924 | Z85: 627.63199 | AA85: 627.44832 | AB85: 627.40284 | AC85: 715.15476 | AD85: 714.84264 | AE85: 714.93892 | AF85: 715.51985 | AG85: 715.51903 | AH85: 715.51221 | AI85: 715.32665 | AJ85: 715.14138 | AK85: 715.36906
A86: Aadressita pensionitulu lisa | B86: =B85/SUM(B6:B83) -> 1.0003545 | C86: =C85/SUM(C6:C83) -> 1.0002549 | D86: =D85/SUM(D6:D83) -> 1.0002841 | E86: =E85/SUM(E6:E83) -> 1.0002888 | F86: =F85/SUM(F6:F83) -> 1.0002984 | G86: =G85/SUM(G6:G83) -> 1.0004575 | H86: =H85/SUM(H6:H83) -> 1.0003673 | I86: =I85/SUM(I6:I83) -> 1.000383 | ... M86: =M85/SUM(M6:M83) -> 1.0007093

Sheet Pension2024
A1: 1 | B1: 2 | C1: 3 | D1: 4 | E1: 5 | F1: 6 | G1: 7 | H1: 8 | I1: 9 | J1: 10 | K1: 11 | L1: 12 | M1: 13 | N1: 14 | O1: 15 | P1: 16 | Q1: 17 | R1: 18 | S1: 19 | T1: 20 | U1: 21 | V1: 22 | W1: 23 | X1: 24 | Y1: 25 | Z1: 26 | AA1: 27 | AB1: 28 | AC1: 29 | AD1: 30 | AE1: 31 | AF1: 32 | AG1: 33 | AH1: 34 | AI1: 35 | AJ1: 36 | AK1: 37
B4: Pensionitulu | N4: Pensionisaajate arv | Z4: Keskmine pension
A5: Omavalitsus | B5: 1 | C5: 2 | D5: 3 | E5: 4 | F5: 5 | G5: 6 | H5: 7 | I5: 8 | J5: 9 | K5: 10 | L5: 11 | M5: 12 | N5: 1 | O5: 2 | P5: 3 | Q5: 4 | R5: 5 | S5: 6 | T5: 7 | U5: 8 | V5: 9 | W5: 10 | X5: 11 | Y5: 12 | Z5: 1 | AA5: 2 | AB5: 3 | AC5: 4 | AD5: 5 | AE5: 6 | AF5: 7 | AG5: 8 | AH5: 9 | AI5: 10 | AJ5: 11 | AK5: 12
A6: Alutaguse vald | B6: 941479.97 | C6: 943150.11 | D6: 946344.57 | E6: 1050108.8 | F6: 1051403.5 | G6: 1048389.1 | H6: 1050639.8 | I6: 1059530.5 | J6: 1053237.9 | K6: 1053962.5 | L6: 1055258.4 | M6: 1060247.4 | N6: 1346 | O6: 1353 | P6: 1357 | Q6: 1361 | R6: 1365 | S6: 1360 | T6: 1359 | U6: 1364 | V6: 1365 | W6: 1366 | X6: 1370 | Y6: 1374 | Z6: =ROUND(B6/N6,2) -> 699.47 | AA6: =ROUND(C6/O6,2) -> 697.08 | AB6: =ROUND(D6/P6,2) -> 697.38 | AC6: =ROUND(E6/Q6,2) -> 771.57 | AD6: =ROUND(F6/R6,2) -> 770.26 | AE6: =ROUND(G6/S6,2) -> 770.87 | AF6: =ROUND(H6/T6,2) -> 773.1 | AG6: =ROUND(I6/U6,2) -> 776.78 | ... AK6: =ROUND(M6/Y6,2) -> 771.65
A7: Anija vald | B7: 1113957.1 | C7: 1105590.5 | D7: 1112900.3 | E7: 1233299.9 | F7: 1236356.4 | G7: 1235594 | H7: 1235268.8 | I7: 1231707.8 | J7: 1229162.8 | K7: 1228107.5 | L7: 1228800.6 | M7: 1229063.8 | N7: 1563 | O7: 1555 | P7: 1564 | Q7: 1565 | R7: 1573 | S7: 1573 | T7: 1569 | U7: 1565 | V7: 1561 | W7: 1561 | X7: 1562 | Y7: 1560 | Z7: =ROUND(B7/N7,2) -> 712.7 | AA7: =ROUND(C7/O7,2) -> 710.99 | AB7: =ROUND(D7/P7,2) -> 711.57 | AC7: =ROUND(E7/Q7,2) -> 788.05 | AD7: =ROUND(F7/R7,2) -> 785.99 | AE7: =ROUND(G7/S7,2) -> 785.5 | AF7: =ROUND(H7/T7,2) -> 787.3 | AG7: =ROUND(I7/U7,2) -> 787.03 | ... AK7: =ROUND(M7/Y7,2) -> 787.86
A8: Antsla vald | B8: 794115.53 | C8: 792235.42 | D8: 792489.42 | E8: 882797.54 | F8: 882010.75 | G8: 888796 | H8: 889864.87 | I8: 886578.62 | J8: 885081.64 | K8: 896001.06 | L8: 882584.36 | M8: 887224.44 | N8: 1148 | O8: 1150 | P8: 1150 | Q8: 1158 | R8: 1157 | S8: 1169 | T8: 1166 | U8: 1161 | V8: 1160 | W8: 1164 | X8: 1159 | Y8: 1159 | Z8: =ROUND(B8/N8,2) -> 691.74 | AA8: =ROUND(C8/O8,2) -> 688.9 | AB8: =ROUND(D8/P8,2) -> 689.12 | AC8: =ROUND(E8/Q8,2) -> 762.35 | AD8: =ROUND(F8/R8,2) -> 762.33 | AE8: =ROUND(G8/S8,2) -> 760.3 | AF8: =ROUND(H8/T8,2) -> 763.18 | AG8: =ROUND(I8/U8,2) -> 763.63 | ... AK8: =ROUND(M8/Y8,2) -> 765.51
A9: Elva vald | B9: 2461866 | C9: 2462027.6 | D9: 2463405.8 | E9: 2721453.9 | F9: 2720077.5 | G9: 2717165.8 | H9: 2715775.1 | I9: 2710196.6 | J9: 2703945.3 | K9: 2693644.8 | L9: 2686637.1 | M9: 2683274.5 | N9: 3500 | O9: 3509 | P9: 3503 | Q9: 3498 | R9: 3497 | S9: 3494 | T9: 3483 | U9: 3477 | V9: 3470 | W9: 3461 | X9: 3452 | Y9: 3447 | Z9: =ROUND(B9/N9,2) -> 703.39 | AA9: =ROUND(C9/O9,2) -> 701.63 | AB9: =ROUND(D9/P9,2) -> 703.23 | AC9: =ROUND(E9/Q9,2) -> 778 | AD9: =ROUND(F9/R9,2) -> 777.83 | AE9: =ROUND(G9/S9,2) -> 777.67 | AF9: =ROUND(H9/T9,2) -> 779.72 | AG9: =ROUND(I9/U9,2) -> 779.46 | ... AK9: =ROUND(M9/Y9,2) -> 778.44
