Workbook

Sheet andmed
A3: KOD | B3: KOMMENTAAR | C3: 01_2026 | D3: 02_2026 | E3: 03_2026
A4: 130 | B4: Alutaguse vald | C4: 511398 | D4: 490564 | E4: 488237
A5: 141 | B5: Anija vald | C5: 773864 | D5: 731456 | E5: 739271
A6: 145 | B6: Antsla vald | C6: 403977 | D6: 369173 | E6: 370641
A7: 171 | B7: Elva vald | C7: 1701322 | D7: 1507855 | E7: 1549753
A8: 184 | B8: Haapsalu linn | C8: 1402207 | D8: 1314464 | E8: 1343924
A9: 191 | B9: Haljala vald | C9: 546301 | D9: 492133 | E9: 507734
A10: 198 | B10: Harku vald | C10: 3205532 | D10: 2933339 | E10: 3023140
A11: 205 | B11: Hiiumaa vald | C11: 1335370 | D11: 1307949 | E11: 1263857
A12: 214 | B12: Häädemeeste vald | C12: 541624 | D12: 494923 | E12: 511016
A13: 245 | B13: Jõelähtme vald | C13: 1173432 | D13: 1147399 | E13: 1136627
A14: 247 | B14: Jõgeva vald | C14: 1398593 | D14: 1269453 | E14: 1286390
A15: 250 | B15: Jõhvi vald | C15: 1850782 | D15: 1743044 | E15: 1763038
... A81: 928 | B81: Väike-Maarja vald | C81: 588266 | D81: 524683 | E81: 535454

Sheet tulumaks
A1: Maakond | B1: Kohalik omavalitsus
C2: 2002 | P2: 2003 | AC2: 2004 | AP2: 2005 | BC2: 2006 | BP2: 2007 | CC2: 2008 | CP2: 2009 | DC2: 2010 | DP2: 2011 | EC2: 2012 | EP2: 2013 | FC2: 2014 | FP2: 2015 | GC2: 2016 | GP2: 2017 | HC2: 2018 | HP2: 2019 | IC2: 2020 | IP2: 2021 | JC2: 2022 | JP2: 2023 | KC2: 2024 | KP2: 2025 | LC2: 2026 | LP2: muutus 2025, % | MC2: Tulumaksu laekumine (ei ole arvestatud 2002-2017 tulumaksu jaotuses külade liikumistega)
C3: jaanuar | D3: veebruar | E3: märts | F3: aprill | G3: mai | H3: juuni | I3: juuli | J3: august | K3: september | L3: oktoober | M3: november | N3: detsember | O3: KOKKU | P3: jaanuar | Q3: veebruar | R3: märts | S3: aprill | T3: mai | U3: juuni | V3: juuli | W3: august | X3: september | Y3: oktoober | Z3: november | AA3: detsember | AB3: KOKKU | AC3: jaanuar | AD3: veebruar | AE3: märts | AF3: aprill | AG3: mai | AH3: juuni | AI3: juuli | AJ3: august | AK3: september | AL3: oktoober | AM3: november | AN3: detsember | AO3: KOKKU | AP3: jaanuar | AQ3: veebruar | AR3: märts | AS3: aprill | AT3: mai | AU3: juuni | AV3: juuli | AW3: august | AX3: september | AY3: oktoober | AZ3: november | BA3: detsember | BB3: KOKKU | BC3: jaanuar | BD3: veebruar | BE3: märts | BF3: aprill | BG3: mai | BH3: juuni | BI3: juuli | BJ3: august | BK3: september | BL3: oktoober | BM3: november | BN3: detsember | BO3: KOKKU | BP3: jaanuar | BQ3: veebruar | BR3: märts | BS3: aprill | BT3: mai | BU3: juuni | BV3: juuli | BW3: august | BX3: september | BY3: oktoober | BZ3: november | CA3: detsember | CB3: KOKKU | CC3: jaanuar | CD3: veebruar | CE3: märts | CF3: aprill | CG3: mai | CH3: juuni | CI3: juuli | CJ3: august | CK3: september | CL3: oktoober | CM3: november | CN3: detsember | CO3: KOKKU | CP3: jaanuar | CQ3: veebruar | CR3: märts | CS3: aprill | CT3: mai | CU3: juuni | CV3: juuli | CW3: august | CX3: september | CY3: oktoober | CZ3: november | DA3: detsember | DB3: KOKKU | DC3: jaanuar | DD3: veebruar | DE3: märts | DF3: aprill | DG3: mai | DH3: juuni | DI3: juuli | DJ3: august | DK3: september | DL3: oktoober | DM3: november | DN3: detsember | DO3: KOKKU | DP3: jaanuar | DQ3: veebruar | DR3: märts | DS3: aprill | DT3: mai | DU3: juuni | DV3: juuli | DW3: august | DX3: september | DY3: oktoober | DZ3: november | EA3: detsember | EB3: KOKKU | EC3: jaanuar | ED3: veebruar | EE3: märts | EF3: aprill | EG3: mai | EH3: juuni | EI3: juuli | EJ3: august | EK3: september | EL3: oktoober | EM3: november | EN3: detsember | EO3: KOKKU | EP3: jaanuar | EQ3: veebruar | ER3: märts | ES3: aprill | ET3: mai | EU3: juuni | EV3: juuli | EW3: august | EX3: september | EY3: oktoober | EZ3: november | FA3: detsember | FB3: KOKKU | FC3: jaanuar | FD3: veebruar | FE3: märts | FF3: aprill | FG3: mai | FH3: juuni | FI3: juuli | FJ3: august | FK3: september | FL3: oktoober | FM3: november | FN3: detsember | FO3: KOKKU | FP3: jaanuar | FQ3: veebruar | FR3: märts | FS3: aprill | FT3: mai | FU3: juuni | FV3: juuli | FW3: august | FX3: september | FY3: oktoober | FZ3: november | GA3: detsember | GB3: KOKKU | GC3: jaanuar | GD3: veebruar | GE3: märts | GF3: aprill | GG3: mai | GH3: juuni | GI3: juuli | GJ3: august | GK3: september | GL3: oktoober | GM3: november | GN3: detsember | GO3: KOKKU | GP3: jaanuar | GQ3: veebruar | GR3: märts | GS3: aprill | GT3: mai | GU3: juuni | GV3: juuli | GW3: august | GX3: september | GY3: oktoober | GZ3: november | HA3: detsember | HB3: KOKKU | HC3: jaanuar | HD3: veebruar | HE3: märts | HF3: aprill | HG3: mai | HH3: juuni | HI3: juuli | HJ3: august | HK3: september | HL3: oktoober | HM3: november | HN3: detsember | HO3: KOKKU | HP3: jaanuar | HQ3: veebruar | HR3: märts | HS3: aprill | HT3: mai | HU3: juuni | HV3: juuli | HW3: august | HX3: september | HY3: oktoober | HZ3: november | IA3: detsember | IB3: KOKKU | IC3: jaanuar | ID3: veebruar | IE3: märts | IF3: aprill | IG3: mai | IH3: juuni | II3: juuli | IJ3: august | IK3: september | IL3: oktoober | IM3: november | IN3: detsember | IO3: KOKKU | IP3: jaanuar | IQ3: veebruar | IR3: märts | IS3: aprill | IT3: mai | IU3: juuni | IV3: juuli | IW3: august | IX3: september | IY3: oktoober | IZ3: november | JA3: detsember | JB3: KOKKU | JC3: jaanuar | JD3: veebruar | JE3: märts | JF3: aprill | JG3: mai | JH3: juuni | JI3: juuli | JJ3: august | JK3: september | JL3: oktoober | JM3: november | JN3: detsember | JO3: KOKKU | JP3: jaanuar | JQ3: veebruar | JR3: märts | JS3: aprill | JT3: mai | JU3: juuni | JV3: juuli | JW3: august | JX3: september | JY3: oktoober | JZ3: november | KA3: detsember | KB3: KOKKU | KC3: jaanuar | KD3: veebruar | KE3: märts | KF3: aprill | KG3: mai | KH3: juuni | KI3: juuli | KJ3: august | KK3: september | KL3: oktoober | KM3: november | KN3: detsember | KO3: KOKKU | KP3: jaanuar | KQ3: veebruar | KR3: märts | KS3: aprill | KT3: mai | KU3: juuni | KV3: juuli | KW3: august | KX3: september | KY3: oktoober | KZ3: november | LA3: detsember | LB3: KOKKU | LC3: jaanuar | LD3: veebruar | LE3: märts | LF3: aprill | LG3: mai | LH3: juuni | LI3: juuli | LJ3: august | LK3: september | LL3: oktoober | LM3: november | LN3: detsember | LO3: KOKKU | LP3: jan-dets | LQ3: jaanuar | LR3: veebruar | LS3: märts | LT3: aprill | LU3: mai | LV3: juuni | LW3: juuli | LX3: august | LY3: september | LZ3: oktoober | MA3: november | MB3: detsember | MC3: 2002 | MD3: 2003 | ME3: 2004 | MF3: 2005 | MG3: 2006 | MH3: 2007 | MI3: 2008 | MJ3: 2009 | MK3: 2010 | ML3: 2011 | MM3: 2012 | MN3: 2013 | MO3: 2014 | MP3: 2015 | MQ3: 2016 | MR3: 2017 | MS3: 2018 | MT3: 2019 | MU3: 2020 | MV3: 2021 | MW3: 2022 | MX3: 2023 | MY3: 2024 | MZ3: 2025
A4: Harju | B4: Anija vald | C4: 167078.98 | D4: 109056.47 | E4: 121988.93 | F4: 112690.11 | G4: 57692.406 | H4: 121919.01 | I4: 159647.34 | J4: 152982.95 | K4: 150595.78 | L4: 141794.32 | M4: 141200.45 | N4: 165767 | O4: 1602413.8 | P4: 156010.25 | Q4: 136602.9 | R4: 124303.94 | S4: 115595.66 | T4: 104915.06 | U4: 165539.93 | V4: 174632.89 | W4: 158789.58 | X4: 156971.67 | Y4: 173238.53 | Z4: 177639.42 | AA4: 147383.27 | AB4: 1791623.1 | AC4: 182419.06 | AD4: 141714.88 | AE4: 144572.3 | AF4: 161793.36 | AG4: 148922.96 | AH4: 154560.22 | AI4: 219403.13 | AJ4: 176874.27 | AK4: 147662.5 | AL4: 165036.88 | AM4: 204526.73 | AN4: 185914.83 | AO4: 2033401.1 | AP4: 177995.79 | AQ4: 145834.11 | AR4: 150532.38 | AS4: 195192.89 | AT4: 162446.92 | AU4: 218075.88 | AV4: 158161.07 | AW4: 248338.74 | AX4: 181309.1 | AY4: 195702.2 | AZ4: 181634.16 | BA4: 206530.49 | BB4: 2221753.7 | BC4: 221442.49 | BD4: 177939.1 | BE4: 209299.14 | BF4: 236354.42 | BG4: 209375.2 | BH4: 228017.91 | BI4: 252650.03 | BJ4: 251189.4 | BK4: 242771.27 | BL4: 244978.33 | BM4: 240532.13 | BN4: 229901.19 | BO4: 2744450.6 | BP4: 284244.88 | BQ4: 246265.45 | BR4: 261994.17 | BS4: 221197.32 | BT4: 292503.42 | BU4: 253750.21 | BV4: 330730.25 | BW4: 304927.84 | BX4: 279553.9 | BY4: 285030.29 | BZ4: 284787.69 | CA4: 250755.82 | CB4: 3295741.2 | CC4: 383524.15 | CD4: 261588.14 | CE4: 321932.3 | CF4: 365868.3 | CG4: 313464.78 | CH4: 275974.84 | CI4: 372924.79 | CJ4: 348222.23 | CK4: 343016.05 | CL4: 286413.15 | CM4: 272740.47 | CN4: 318991.35 | CO4: 3864660.6 | CP4: 298235.53 | CQ4: 264579.33 | CR4: 263809.71 | CS4: 258164.39 | CT4: 252075.15 | CU4: 244231.78 | CV4: 316113.85 | CW4: 249028.29 | CX4: 244968.62 | CY4: 241791 | CZ4: 266911.15 | DA4: 242437.72 | DB4: 3142346.5 | DC4: 226409.64 | DD4: 214816.7 | DE4: 265475.76 | DF4: 222412.6 | DG4: 215734.86 | DH4: 234591.16 | DI4: 343397.42 | DJ4: 247129.79 | DK4: 226613.96 | DL4: 236780.83 | DM4: 232895.65 | DN4: 253503.7 | DO4: 2919762.1 | DP4: 271385 | DQ4: 223018 | DR4: 239927 | DS4: 238610 | DT4: 256371 | DU4: 252927 | DV4: 297699 | DW4: 269212 | DX4: 244012 | DY4: 249322 | DZ4: 262550 | EA4: 266754 | EB4: 3071787 | EC4: 306375 | ED4: 243508 | EE4: 259152 | EF4: 260990 | EG4: 267940 | EH4: 273075 | EI4: 310187 | EJ4: 279176 | EK4: 252029 | EL4: 274244 | EM4: 272409 | EN4: 261971 | EO4: 3261056 | EP4: 334271 | EQ4: 277472 | ER4: 263159 | ES4: 287093 | ET4: 292765 | EU4: 287875 | EV4: 330470 | EW4: 309291 | EX4: 285447 | EY4: 280066 | EZ4: 290838 | FA4: 291122 | FB4: 3529869 | FC4: 348490 | FD4: 283335 | FE4: 307657 | FF4: 295501 | FG4: 309680 | FH4: 302903 | FI4: 350489 | FJ4: 331092 | FK4: 297107 | FL4: 313288 | FM4: 310804 | FN4: 322240 | FO4: 3772586 | FP4: 367132 | FQ4: 278335 | FR4: 354398 | FS4: 352175 | FT4: 323642 | FU4: 325987 | FV4: 382090 | FW4: 351446 | FX4: 320813 | FY4: 333491 | FZ4: 332633 | GA4: 333225 | GB4: 4055367 | GC4: 398884 | GD4: 315157 | GE4: 335482 | GF4: 352087 | GG4: 357730 | GH4: 363902 | GI4: 391057 | GJ4: 365391 | GK4: 326563 | GL4: 343955 | GM4: 345825 | GN4: 353865 | GO4: 4249898 | GP4: 406127 | GQ4: 338983 | GR4: 355161 | GS4: 363461 | GT4: 374709 | GU4: 368008 | GV4: 454002 | GW4: 396336 | GX4: 347978 | GY4: 383928 | GZ4: 379776 | HA4: 385074 | HB4: 4553543 | HC4: 454402 | HD4: 389706 | HE4: 405749 | HF4: 406642 | HG4: 408298 | HH4: 412050 | HI4: 445382 | HJ4: 432993 | HK4: 395698 | HL4: 415422 | HM4: 415949 | HN4: 444074 | HO4: =SUM(HC4:HN4) -> 5026365 | HP4: 500499 | HQ4: 417654 | HR4: 424810 | HS4: 462776 | HT4: 446863 | HU4: 455012 | HV4: 479408 | HW4: 477532 | HX4: 438747 | HY4: 508499 | HZ4: 450589 | IA4: 455234 | IB4: =SUM(HP4:IA4) -> 5517623 | IC4: 514959 | ID4: 454328 | IE4: 466395 | IF4: 443460 | IG4: 470822 | IH4: 444175 | II4: 473471 | IJ4: 487350 | IK4: 447114 | IL4: 489572 | IM4: 469007 | IN4: 474631 | IO4: =SUM(IC4:IN4) -> 5635284 | IP4: 534762 | IQ4: 497431 | IR4: 490525 | IS4: 489926 | IT4: 512729 | IU4: 480304 | IV4: 515762 | IW4: 539466 | IX4: 498277 | IY4: 546680 | IZ4: 505610 | JA4: 525401 | JB4: =SUM(IP4:JA4) -> 6136873 | JC4: 616135 | JD4: 546516 | JE4: 540327 | JF4: 536185 | JG4: 568376 | JH4: 554473 | JI4: 576314 | JJ4: 598157 | JK4: 546113 | JL4: 622364 | JM4: 566135 | JN4: 565222 | JO4: =SUM(JC4:JN4) -> 6836317 | JP4: 634700 | JQ4: 570764 | JR4: 597279 | JS4: 579798 | JT4: 616855 | JU4: 587393 | JV4: 627963 | JW4: 623673 | JX4: 590999 | JY4: 610390 | JZ4: 616313 | KA4: 600679 | KB4: =SUM(JP4:KA4) -> 7256806 | KC4: 658825 | KD4: 636949 | KE4: 631794 | KF4: 657889 | KG4: 668924 | KH4: 660805 | KI4: 699246 | KJ4: 704520 | KK4: 671430 | KL4: 714258 | KM4: 673961 | KN4: 679847 | KO4: =SUM(KC4:KN4) -> 8058448 | KP4: 753017 | KQ4: 669787 | KR4: 685472 | KS4: 701140 | KT4: 734385 | KU4: 701697 | KV4: 730001 | KW4: 769959 | KX4: 700145 | KY4: 742879 | KZ4: 725563 | LA4: 726820 | LB4: =SUM(KP4:LA4) -> 8640865 | LC4: =VLOOKUP($B4,andmed!$B$4:$C$81,2,FALSE) -> 773864 | LD4: =VLOOKUP($B4,andmed!$B$4:$AA$81,3,FALSE) -> 731456 | LE4: =VLOOKUP($B4,andmed!$B$4:$AA$81,4,FALSE) -> 739271 | LF4: 746086 | LG4: 768299 | LH4: 757920 | LI4: 778788 | LJ4: 810813 | LK4: 760021 | LP4: =SUM(LC4:LN4)/SUM(KP4:KX4)-1 -> 0.065302657 | LQ4: =LC4/KP4-1 -> 0.027684634 | LR4: =LD4/KQ4-1 -> 0.092072554 | LS4: =LE4/KR4-1 -> 0.078484606 | LT4: =LF4/KS4-1 -> 0.064104173 | LU4: =LG4/KT4-1 -> 0.046180137 | LV4: =LH4/KU4-1 -> 0.080124327 | LW4: =LI4/KV4-1 -> 0.066831415 | LX4: =LJ4/KW4-1 -> 0.053059968 | LY4: =LK4/KX4-1 -> 0.085519428 | MC4: =O4 -> 1602413.8 | MD4: =AB4 -> 1791623.1 | ME4: =AO4 -> 2033401.1 | MF4: =BB4 -> 2221753.7 | MG4: =BO4 -> 2744450.6 | MH4: =CB4 -> 3295741.2 | MI4: =CO4 -> 3864660.6 | MJ4: =DB4 -> 3142346.5 | MK4: =DO4 -> 2919762.1 | ML4: =EB4 -> 3071787 | MM4: =EO4 -> 3261056 | MN4: =FB4 -> 3529869 | MO4: =FO4 -> 3772586 | MP4: =GB4 -> 4055367 | MQ4: =GO4 -> 4249898 | MR4: =HB4 -> 4553543 | MS4: =HO4 -> 5026365 | MT4: =IB4 -> 5517623 | MU4: =IO4 -> 5635284 | MV4: =JB4 -> 6136873 | MW4: =JO4 -> 6836317 | MX4: =KB4 -> 7256806 | MY4: =KO4 -> 8058448 | MZ4: =LB4 -> 8640865
A5: Harju | B5: Harku vald | C5: 201342.59 | D5: 150121.43 | E5: 192412.54 | F5: 169640.5 | G5: 110312.27 | H5: 187432.48 | I5: 220090.5 | J5: 206968.61 | K5: 185412.61 | L5: 236174.12 | M5: 201596.96 | N5: 212831.29 | O5: 2274335.9 | P5: 223428.67 | Q5: 199711.63 | R5: 236679.98 | S5: 191862.9 | T5: 207746.67 | U5: 233829.27 | V5: 301602.39 | W5: 263741.45 | X5: 252226.81 | Y5: 327109.21 | Z5: 252499.46 | AA5: 261020.35 | AB5: 2951458.8 | AC5: 297935.85 | AD5: 235125.2 | AE5: 260235.26 | AF5: 253729.95 | AG5: 256126.38 | AH5: 295994.66 | AI5: 318545.56 | AJ5: 276972.57 | AK5: 254748.38 | AL5: 262269.06 | AM5: 341212.08 | AN5: 307536.33 | AO5: 3360431.3 | AP5: 302775.56 | AQ5: 302735.74 | AR5: 341298.56 | AS5: 364770.62 | AT5: 361937.67 | AU5: 359793.12 | AV5: 389965.36 | AW5: 395269.96 | AX5: 334194.78 | AY5: 326901.88 | AZ5: 336400.05 | BA5: 396985.86 | BB5: 4213029.2 | BC5: 416277.15 | BD5: 412993.69 | BE5: 471454.18 | BF5: 459762.63 | BG5: 453951.27 | BH5: 490090.75 | BI5: 571033 | BJ5: 490171.92 | BK5: 449136.87 | BL5: 462549.44 | BM5: 489664.66 | BN5: 520647.17 | BO5: 5687732.7 | BP5: 582673.81 | BQ5: 587569.63 | BR5: 610965.96 | BS5: 624724.41 | BT5: 603252.72 | BU5: 596491.25 | BV5: 738084.63 | BW5: 641367.96 | BX5: 577559.09 | BY5: 626820.72 | BZ5: 625958.61 | CA5: 620567.6 | CB5: 7436036.4 | CC5: 759481.42 | CD5: 738045.58 | CE5: 800503.3 | CF5: 831646.11 | CG5: 747265.48 | CH5: 793453.79 | CI5: 947852.31 | CJ5: 792885.67 | CK5: 696094.3 | CL5: 708892.35 | CM5: 697483.1 | CN5: 775720.6 | CO5: 9289324 | CP5: 781104.46 | CQ5: 717264.2 | CR5: 822097.9 | CS5: 783550.8 | CT5: 715150.13 | CU5: 705732.81 | CV5: 834112.46 | CW5: 688471.68 | CX5: 644458.09 | CY5: 605449.11 | CZ5: 665953.69 | DA5: 672595.07 | DB5: 8635940.4 | DC5: 719348.87 | DD5: 656403.37 | DE5: 715235.71 | DF5: 718276.81 | DG5: 701694.43 | DH5: 722927.15 | DI5: 952867.65 | DJ5: 753890.05 | DK5: 646693.02 | DL5: 638041.3 | DM5: 710478.7 | DN5: 704072.26 | DO5: 8639929.3 | DP5: 808955 | DQ5: 697805 | DR5: 793699 | DS5: 808633 | DT5: 804451 | DU5: 783508 | DV5: 896957 | DW5: 843417 | DX5: 735340 | DY5: 780366 | DZ5: 771154 | EA5: 792281 | EB5: 9516566 | EC5: 882689 | ED5: 814487 | EE5: 867685 | EF5: 893937 | EG5: 898647 | EH5: 849795 | EI5: 1146823 | EJ5: 862089 | EK5: 802073 | EL5: 855848 | EM5: 846279 | EN5: 872367 | EO5: 10592719 | EP5: 955768 | EQ5: 873223 | ER5: 930475 | ES5: 957114 | ET5: 971031 | EU5: 1154338 | EV5: 1075628 | EW5: 925359 | EX5: 872650 | EY5: 895834 | EZ5: 901657 | FA5: 913686 | FB5: 11426763 | FC5: 1076610 | FD5: 910375 | FE5: 979760 | FF5: 1019845 | FG5: 1037675 | FH5: 977746 | FI5: 1227662 | FJ5: 1022776 | FK5: 920261 | FL5: 925674 | FM5: 961988 | FN5: 998281 | FO5: 12058653 | FP5: 1068068 | FQ5: 908263 | FR5: 1169383 | FS5: 1068782 | FT5: 1120598 | FU5: 1043607 | FV5: 1189007 | FW5: 1133453 | FX5: 998513 | FY5: 1095303 | FZ5: 1044676 | GA5: 1053936 | GB5: 12893589 | GC5: 1171481 | GD5: 1059652 | GE5: 1101247 | GF5: 1152569 | GG5: 1202610 | GH5: 1220558 | GI5: 1271448 | GJ5: 1167533 | GK5: 1056375 | GL5: 1171043 | GM5: 1257728 | GN5: 1146797 | GO5: 13979041 | GP5: 1287675 | GQ5: 1177400 | GR5: 1212535 | GS5: 1248185 | GT5: 1357868 | GU5: 1434962 | GV5: 1375578 | GW5: 1227092 | GX5: 1188278 | GY5: 1275709 | GZ5: 1244369 | HA5: 1282929 | HB5: 15312580 | HC5: 1472204 | HD5: 1316982 | HE5: 1386471 | HF5: 1414061 | HG5: 1450381 | HH5: 1388141 | HI5: 1486979 | HJ5: 1421802 | HK5: 1374378 | HL5: 1450466 | HM5: 1419445 | HN5: 1477943 | HO5: =SUM(HC5:HN5) -> 17059253 | HP5: 1616677 | HQ5: 1500671 | HR5: 1628300 | HS5: 1691375 | HT5: 1664181 | HU5: 1569956 | HV5: 1751758 | HW5: 1592375 | HX5: 1562894 | HY5: 1630307 | HZ5: 1560669 | IA5: 1594349 | IB5: =SUM(HP5:IA5) -> 19363512 | IC5: 1727075 | ID5: 1649924 | IE5: 1682258 | IF5: 1559308 | IG5: 1742591 | IH5: 1603238 | II5: 1709524 | IJ5: 1640906 | IK5: 1638092 | IL5: 1809936 | IM5: 1653302 | IN5: 1681856 | IO5: =SUM(IC5:IN5) -> 20098010 | IP5: 1803556 | IQ5: 1751220 | IR5: 1822344 | IS5: 1782156 | IT5: 1950515 | IU5: 1809986 | IV5: 1951497 | IW5: 1857112 | IX5: 1778528 | IY5: 2128853 | IZ5: 1837614 | JA5: 1842598 | JB5: =SUM(IP5:JA5) -> 22315979 | JC5: 2071113 | JD5: 1989248 | JE5: 2148176 | JF5: 2171098 | JG5: 2261890 | JH5: 2168031 | JI5: 2542187 | JJ5: 1933637 | JK5: 2139861 | JL5: 2404382 | JM5: 2199570 | JN5: 2222816 | JO5: =SUM(JC5:JN5) -> 26252009 | JP5: 2414936 | JQ5: 2366410 | JR5: 2459815 | JS5: 2511427 | JT5: 2593226 | JU5: 2455521 | JV5: 2619685 | JW5: 2520362 | JX5: 2471564 | JY5: 2723445 | JZ5: 2454393 | KA5: 2542062 | KB5: =SUM(JP5:KA5) -> 30132846 | KC5: 2798225 | KD5: 2654366 | KE5: 2752790 | KF5: 2874467 | KG5: 2881260 | KH5: 2746001 | KI5: 2843065 | KJ5: 2826671 | KK5: 2740179 | KL5: 3228801 | KM5: 2780776 | KN5: 2807828 | KO5: =SUM(KC5:KN5) -> 33934429 | KP5: 3195405 | KQ5: 2707443 | KR5: 2926712 | KS5: 2977465 | KT5: 3021819 | KU5: 2947368 | KV5: 2965414 | KW5: 2946373 | KX5: 2879653 | KY5: 3360460 | KZ5: 2893280 | LA5: 2933878 | LB5: =SUM(KP5:LA5) -> 35755270 | LC5: =VLOOKUP($B5,andmed!$B$4:$C$81,2,FALSE) -> 3205532 | LD5: =VLOOKUP($B5,andmed!$B$4:$AA$81,3,FALSE) -> 2933339 | LE5: =VLOOKUP($B5,andmed!$B$4:$AA$81,4,FALSE) -> 3023140 | LF5: 3127953 | LG5: 3164419 | LH5: 3038831 | LI5: 3171318 | LJ5: 3124107 | LK5: 3025845 | LP5: =SUM(LC5:LN5)/SUM(KP5:KX5)-1 -> 0.046930455 | LQ5: =LC5/KP5-1 -> 0.0031692383 | LR5: =LD5/KQ5-1 -> 0.083435182 | LS5: =LE5/KR5-1 -> 0.032947553 | LT5: =LF5/KS5-1 -> 0.050542324 | LU5: =LG5/KT5-1 -> 0.04719012 | LV5: =LH5/KU5-1 -> 0.031032094 | LW5: =LI5/KV5-1 -> 0.069435161 | LX5: =LJ5/KW5-1 -> 0.06032298 | LY5: =LK5/KX5-1 -> 0.050767228 | MC5: =O5 -> 2274335.9 | MD5: =AB5 -> 2951458.8 | ME5: =AO5 -> 3360431.3 | MF5: =BB5 -> 4213029.2 | MG5: =BO5 -> 5687732.7 | MH5: =CB5 -> 7436036.4 | MI5: =CO5 -> 9289324 | MJ5: =DB5 -> 8635940.4 | MK5: =DO5 -> 8639929.3 | ML5: =EB5 -> 9516566 | MM5: =EO5 -> 10592719 | MN5: =FB5 -> 11426763 | MO5: =FO5 -> 12058653 | MP5: =GB5 -> 12893589 | MQ5: =GO5 -> 13979041 | MR5: =HB5 -> 15312580 | MS5: =HO5 -> 17059253 | MT5: =IB5 -> 19363512 | MU5: =IO5 -> 20098010 | MV5: =JB5 -> 22315979 | MW5: =JO5 -> 26252009 | MX5: =KB5 -> 30132846 | MY5: =KO5 -> 33934429 | MZ5: =LB5 -> 35755270
A6: Harju | B6: Jõelähtme vald | C6: 159926.31 | D6: 111160.83 | E6: 117193.83 | F6: 103896.12 | G6: 77056.805 | H6: 134797.98 | I6: 163276.37 | J6: 143691.09 | K6: 166637.1 | L6: 315549.38 | M6: 143999.46 | N6: 154015.19 | O6: 1791200.5 | P6: 154218.3 | Q6: 136648.73 | R6: 137818.25 | S6: 111116.98 | T6: 107699.5 | U6: 144826.35 | V6: 240439.9 | W6: 134537.73 | X6: 166374.68 | Y6: 182845.79 | Z6: 185298.72 | AA6: 184016.53 | AB6: 1885841.5 | AC6: 261458.78 | AD6: 139316.53 | AE6: 156450.03 | AF6: 138673.26 | AG6: 102488.14 | AH6: 152403.97 | AI6: 196170.03 | AJ6: 158119.14 | AK6: 150410.31 | AL6: 144541.5 | AM6: 210516.73 | AN6: 176229.53 | AO6: 1986778 | AP6: 166704.72 | AQ6: 171071.8 | AR6: 190325.82 | AS6: 181166.45 | AT6: 185000.58 | AU6: 180617.64 | AV6: 208250.48 | AW6: 191143 | AX6: 163444.84 | AY6: 185691.08 | AZ6: 173614.65 | BA6: 202156.06 | BB6: 2199187.1 | BC6: 204270.96 | BD6: 191307.76 | BE6: 222063.13 | BF6: 222170.38 | BG6: 210185.34 | BH6: 242634.69 | BI6: 269528.91 | BJ6: 237359.94 | BK6: 213209.32 | BL6: 225672.54 | BM6: 234749.72 | BN6: 228156.28 | BO6: 2701309 | BP6: 286356.72 | BQ6: 266297.41 | BR6: 274895.12 | BS6: 274875.18 | BT6: 274030.33 | BU6: 268970.58 | BV6: 365158.63 | BW6: 289614.48 | BX6: 287639.55 | BY6: 290408.71 | BZ6: 303857.13 | CA6: 289808.27 | CB6: 3471912.1 | CC6: 375535.84 | CD6: 328923.54 | CE6: 342213.52 | CF6: 350038.16 | CG6: 335128.85 | CH6: 350628.89 | CI6: 425431.66 | CJ6: 353135.31 | CK6: 311622.65 | CL6: 335285.37 | CM6: 338766.7 | CN6: 362168.84 | CO6: 4208879.3 | CP6: 378672.36 | CQ6: 312814.22 | CR6: 391932.69 | CS6: 346564.81 | CT6: 313927.12 | CU6: 312916.48 | CV6: 727806.36 | CW6: 340844.59 | CX6: 309907.52 | CY6: 307781.05 | CZ6: 327700.91 | DA6: 281355.37 | DB6: 4352223.5 | DC6: 287888.3 | DD6: 245029.53 | DE6: 290484.64 | DF6: 296522.18 | DG6: 294467.87 | DH6: 297602.93 | DI6: 447502.78 | DJ6: 297745.26 | DK6: 272612.77 | DL6: 267762.77 | DM6: 296795.73 | DN6: 296207.61 | DO6: 3590622.4 | DP6: 351665 | DQ6: 279261 | DR6: 307061 | DS6: 313876 | DT6: 325513 | DU6: 313972 | DV6: 526658 | DW6: 316061 | DX6: 297945 | DY6: 294907 | DZ6: 308505 | EA6: 303470 | EB6: 3938894 | EC6: 360409 | ED6: 315818 | EE6: 321183 | EF6: 324315 | EG6: 336366 | EH6: 334414 | EI6: 460232 | EJ6: 334041 | EK6: 305805 | EL6: 335070 | EM6: 329099 | EN6: 338776 | EO6: 4095528 | EP6: 369648 | EQ6: 340668 | ER6: 349573 | ES6: 351710 | ET6: 360380 | EU6: 362389 | EV6: 504089 | EW6: 378042 | EX6: 342095 | EY6: 361433 | EZ6: 364917 | FA6: 356899 | FB6: 4441843 | FC6: 419464 | FD6: 357062 | FE6: 378430 | FF6: 369229 | FG6: 396494 | FH6: 390385 | FI6: 481306 | FJ6: 411123 | FK6: 368443 | FL6: 382794 | FM6: 391558 | FN6: 389951 | FO6: 4736239 | FP6: 431597 | FQ6: 349049 | FR6: 441110 | FS6: 407857 | FT6: 428399 | FU6: 410155 | FV6: 464327 | FW6: 448188 | FX6: 392622 | FY6: 419669 | FZ6: 421179 | GA6: 428169 | GB6: 5042321 | GC6: 466896 | GD6: 425624 | GE6: 436167 | GF6: 435491 | GG6: 460807 | GH6: 473069 | GI6: 498917 | GJ6: 464188 | GK6: 421767 | GL6: 457653 | GM6: 457157 | GN6: 463589 | GO6: 5461325 | GP6: 512057 | GQ6: 455395 | GR6: 493402 | GS6: 477242 | GT6: 503758 | GU6: 487153 | GV6: 561266 | GW6: 500276 | GX6: 474081 | GY6: 497286 | GZ6: 482600 | HA6: 511008 | HB6: 5955524 | HC6: 565234 | HD6: 515259 | HE6: 522640 | HF6: 551723 | HG6: 557791 | HH6: 529207 | HI6: 583221 | HJ6: 564530 | HK6: 556072 | HL6: 576127 | HM6: 539604 | HN6: 555282 | HO6: =SUM(HC6:HN6) -> 6616690 | HP6: 624747 | HQ6: 559495 | HR6: 566336 | HS6: 623257 | HT6: 621102 | HU6: 611141 | HV6: 661939 | HW6: 619603 | HX6: 602338 | HY6: 613144 | HZ6: 627571 | IA6: 604683 | IB6: =SUM(HP6:IA6) -> 7335356 | IC6: 682155 | ID6: 635221 | IE6: 646301 | IF6: 595675 | IG6: 646401 | IH6: 612131 | II6: 652398 | IJ6: 653096 | IK6: 621113 | IL6: 659108 | IM6: 637454 | IN6: 639157 | IO6: =SUM(IC6:IN6) -> 7680210 | IP6: 693769 | IQ6: 624898 | IR6: 644833 | IS6: 644294 | IT6: 689878 | IU6: 663936 | IV6: 702402 | IW6: 725414 | IX6: 671223 | IY6: 716964 | IZ6: 697417 | JA6: 700052 | JB6: =SUM(IP6:JA6) -> 8175080 | JC6: 779647 | JD6: 747684 | JE6: 761393 | JF6: 758532 | JG6: 801570 | JH6: 761227 | JI6: 820101 | JJ6: 822630 | JK6: 771380 | JL6: 818538 | JM6: 780250 | JN6: 796974 | JO6: =SUM(JC6:JN6) -> 9419926 | JP6: 880470 | JQ6: 831800 | JR6: 851532 | JS6: 873197 | JT6: 939607 | JU6: 894226 | JV6: 922782 | JW6: 919093 | JX6: 1012426 | JY6: 948331 | JZ6: 888280 | KA6: 906264 | KB6: =SUM(JP6:KA6) -> 10868008 | KC6: 979048 | KD6: 954221 | KE6: 983395 | KF6: 978399 | KG6: 996091 | KH6: 991246 | KI6: 1021489 | KJ6: 1035155 | KK6: 1014684 | KL6: 1034711 | KM6: 992192 | KN6: 1043204 | KO6: =SUM(KC6:KN6) -> 12023835 | KP6: 1119393 | KQ6: 1029814 | KR6: 1049140 | KS6: 1110690 | KT6: 1127381 | KU6: 1085033 | KV6: 1104402 | KW6: 1103846 | KX6: 1074038 | KY6: 1148454 | KZ6: 1090719 | LA6: 1094728 | LB6: =SUM(KP6:LA6) -> 13137638 | LC6: =VLOOKUP($B6,andmed!$B$4:$C$81,2,FALSE) -> 1173432 | LD6: =VLOOKUP($B6,andmed!$B$4:$AA$81,3,FALSE) -> 1147399 | LE6: =VLOOKUP($B6,andmed!$B$4:$AA$81,4,FALSE) -> 1136627 | LF6: 1165916 | LG6: 1222723 | LH6: 1164451 | LI6: 1203549 | LJ6: 1209616 | LK6: 1168728 | LP6: =SUM(LC6:LN6)/SUM(KP6:KX6)-1 -> 0.080449323 | LQ6: =LC6/KP6-1 -> 0.048275271 | LR6: =LD6/KQ6-1 -> 0.11418081 | LS6: =LE6/KR6-1 -> 0.083389252 | LT6: =LF6/KS6-1 -> 0.049722245 | LU6: =LG6/KT6-1 -> 0.084569458 | LV6: =LH6/KU6-1 -> 0.073194087 | LW6: =LI6/KV6-1 -> 0.089774376 | LX6: =LJ6/KW6-1 -> 0.095819526 | LY6: =LK6/KX6-1 -> 0.088162616 | MC6: =O6 -> 1791200.5 | MD6: =AB6 -> 1885841.5 | ME6: =AO6 -> 1986778 | MF6: =BB6 -> 2199187.1 | MG6: =BO6 -> 2701309 | MH6: =CB6 -> 3471912.1 | MI6: =CO6 -> 4208879.3 | MJ6: =DB6 -> 4352223.5 | MK6: =DO6 -> 3590622.4 | ML6: =EB6 -> 3938894 | MM6: =EO6 -> 4095528 | MN6: =FB6 -> 4441843 | MO6: =FO6 -> 4736239 | MP6: =GB6 -> 5042321 | MQ6: =GO6 -> 5461325 | MR6: =HB6 -> 5955524 | MS6: =HO6 -> 6616690 | MT6: =IB6 -> 7335356 | MU6: =IO6 -> 7680210 | MV6: =JB6 -> 8175080 | MW6: =JO6 -> 9419926 | MX6: =KB6 -> 10868008 | MY6: =KO6 -> 12023835 | MZ6: =LB6 -> 13137638
A7: Harju | B7: Keila linn | C7: 281398.07 | D7: 192269.06 | E7: 212888.04 | F7: 213358.49 | G7: 106645.85 | H7: 212183.67 | I7: 281594.79 | J7: 244746.46 | K7: 216142.8 | L7: 245520.56 | M7: 224137.38 | N7: 283247.1 | O7: 2714132.3 | P7: 275318.92 | Q7: 223788.11 | R7: 235657.2 | S7: 173045.26 | T7: 183211.94 | U7: 262208.28 | V7: 332317.63 | W7: 277989.53 | X7: 262733.57 | Y7: 271299.64 | Z7: 271930.83 | AA7: 301178.21 | AB7: 3070679.1 | AC7: 319950.47 | AD7: 232975.41 | AE7: 245835.71 | AF7: 244161.54 | AG7: 264872.18 | AH7: 288134.8 | AI7: 319394.44 | AJ7: 291090.59 | AK7: 247856.02 | AL7: 261974.93 | AM7: 340032.08 | AN7: 318615.55 | AO7: 3374893.7 | AP7: 322448.58 | AQ7: 258835.27 | AR7: 321121.78 | AS7: 289560.54 | AT7: 306874.08 | AU7: 355660.14 | AV7: 321793.42 | AW7: 338606.53 | AX7: 304495.93 | AY7: 311007.31 | AZ7: 305109.16 | BA7: 336253.24 | BB7: 3771766 | BC7: 397851.8 | BD7: 311760.83 | BE7: 388851.51 | BF7: 343653.13 | BG7: 367472.04 | BH7: 369045.93 | BI7: 465000.58 | BJ7: 400204.13 | BK7: 347146.41 | BL7: 348406.55 | BM7: 384728.63 | BN7: 396106.12 | BO7: 4520227.7 | BP7: 497545.73 | BQ7: 389363.25 | BR7: 435042.5 | BS7: 448708.79 | BT7: 448929.1 | BU7: 462898.33 | BV7: 537269.06 | BW7: 500899.36 | BX7: 434492.35 | BY7: 450668.96 | BZ7: 470911 | CA7: 500286.32 | CB7: 5577014.8 | CC7: 591790.29 | CD7: 507519.4 | CE7: 547661.03 | CF7: 545062.12 | CG7: 551242.57 | CH7: 567639.36 | CI7: 669773.56 | CJ7: 598645.39 | CK7: 493003.4 | CL7: 502184.76 | CM7: 524904.52 | CN7: 561980.37 | CO7: 6661406.8 | CP7: 565770.14 | CQ7: 493262.37 | CR7: 523962.07 | CS7: 513030.56 | CT7: 494154.32 | CU7: 483559.75 | CV7: 563371.72 | CW7: 484857.92 | CX7: 433915.99 | CY7: 546603.54 | CZ7: 439713.68 | DA7: 444204.75 | DB7: 5986406.8 | DC7: 475548.23 | DD7: 418917.59 | DE7: 441450.47 | DF7: 461242.25 | DG7: 443280.58 | DH7: 446470.16 | DI7: 531313.13 | DJ7: 490888.44 | DK7: 400630.04 | DL7: 422898.27 | DM7: 455212.76 | DN7: 458398.82 | DO7: 5446250.8 | DP7: 516631 | DQ7: 420041 | DR7: 465264 | DS7: 491633 | DT7: 489486 | DU7: 472082 | DV7: 557128 | DW7: 503536 | DX7: 444832 | DY7: 464204 | DZ7: 479822 | EA7: 489787 | EB7: 5794446 | EC7: 533826 | ED7: 476280 | EE7: 512145 | EF7: 529017 | EG7: 533096 | EH7: 523753 | EI7: 601090 | EJ7: 545493 | EK7: 481320 | EL7: 498239 | EM7: 521325 | EN7: 538232 | EO7: 6293816 | EP7: 588708 | EQ7: 519606 | ER7: 545148 | ES7: 543778 | ET7: 596890 | EU7: 566729 | EV7: 635240 | EW7: 608409 | EX7: 528906 | EY7: 540287 | EZ7: 562050 | FA7: 570201 | FB7: 6805952 | FC7: 658935 | FD7: 546509 | FE7: 602110 | FF7: 573031 | FG7: 637437 | FH7: 602369 | FI7: 669661 | FJ7: 626408 | FK7: 570449 | FL7: 574456 | FM7: 600368 | FN7: 616705 | FO7: 7278438 | FP7: 666905 | FQ7: 550887 | FR7: 671120 | FS7: 710819 | FT7: 683269 | FU7: 637119 | FV7: 713897 | FW7: 693136 | FX7: 603906 | FY7: 631388 | FZ7: 652268 | GA7: 655819 | GB7: 7870533 | GC7: 722720 | GD7: 626247 | GE7: 645934 | GF7: 663022 | GG7: 696240 | GH7: 739595 | GI7: 749263 | GJ7: 710180 | GK7: 656500 | GL7: 676456 | GM7: 712167 | GN7: 660518 | GO7: 8258842 | GP7: 777704 | GQ7: 692321 | GR7: 735693 | GS7: 700748 | GT7: 780862 | GU7: 758612 | GV7: 818581 | GW7: 766619 | GX7: 709123 | GY7: 753581 | GZ7: 731398 | HA7: 778230 | HB7: 9003472 | HC7: 885029 | HD7: 753500 | HE7: 815009 | HF7: 834891 | HG7: 862745 | HH7: 831090 | HI7: 920614 | HJ7: 903048 | HK7: 830865 | HL7: 839297 | HM7: 827503 | HN7: 883703 | HO7: =SUM(HC7:HN7) -> 10187294 | HP7: 966815 | HQ7: 837537 | HR7: 856264 | HS7: 944951 | HT7: 940926 | HU7: 904056 | HV7: 993743 | HW7: 967425 | HX7: 903430 | HY7: 923237 | HZ7: 930484 | IA7: 941608 | IB7: =SUM(HP7:IA7) -> 11110476 | IC7: 1032574 | ID7: 917626 | IE7: 956707 | IF7: 860710 | IG7: 979099 | IH7: 921312 | II7: 957297 | IJ7: 952400 | IK7: 939285 | IL7: 958507 | IM7: 936640 | IN7: 955733 | IO7: =SUM(IC7:IN7) -> 11367890 | IP7: 1035381 | IQ7: 936865 | IR7: 973783 | IS7: 965440 | IT7: 1027221 | IU7: 972986 | IV7: 1042141 | IW7: 1052437 | IX7: 1006650 | IY7: 1030181 | IZ7: 1012613 | JA7: 1019618 | JB7: =SUM(IP7:JA7) -> 12075316 | JC7: 1160052 | JD7: 1020748 | JE7: 1048654 | JF7: 1079764 | JG7: 1109942 | JH7: 1088590 | JI7: 1151194 | JJ7: 1145324 | JK7: 1086494 | JL7: 1154555 | JM7: 1102974 | JN7: 1126836 | JO7: =SUM(JC7:JN7) -> 13275127 | JP7: 1247571 | JQ7: 1152278 | JR7: 1182211 | JS7: 1192470 | JT7: 1268733 | JU7: 1209823 | JV7: 1269239 | JW7: 1223662 | JX7: 1220203 | JY7: 1226703 | JZ7: 1215446 | KA7: 1217437 | KB7: =SUM(JP7:KA7) -> 14625776 | KC7: 1366566 | KD7: 1243882 | KE7: 1272464 | KF7: 1303573 | KG7: 1358432 | KH7: 1323355 | KI7: 1399370 | KJ7: 1338304 | KK7: 1362776 | KL7: 1365040 | KM7: 1350663 | KN7: 1370157 | KO7: =SUM(KC7:KN7) -> 16054582 | KP7: 1535156 | KQ7: 1284336 | KR7: 1365501 | KS7: 1393648 | KT7: 1454794 | KU7: 1387154 | KV7: 1473273 | KW7: 1431022 | KX7: 1402005 | KY7: 1466067 | KZ7: 1434585 | LA7: 1472391 | LB7: =SUM(KP7:LA7) -> 17099932 | LC7: =VLOOKUP($B7,andmed!$B$4:$C$81,2,FALSE) -> 1558500 | LD7: =VLOOKUP($B7,andmed!$B$4:$AA$81,3,FALSE) -> 1400578 | LE7: =VLOOKUP($B7,andmed!$B$4:$AA$81,4,FALSE) -> 1464152 | LF7: 1455208 | LG7: 1518135 | LH7: 1478585 | LI7: 1525234 | LJ7: 1524658 | LK7: 1513208 | LP7: =SUM(LC7:LN7)/SUM(KP7:KX7)-1 -> 0.055894964 | LQ7: =LC7/KP7-1 -> 0.015206272 | LR7: =LD7/KQ7-1 -> 0.090507468 | LS7: =LE7/KR7-1 -> 0.072245278 | LT7: =LF7/KS7-1 -> 0.044171843 | LU7: =LG7/KT7-1 -> 0.043539498 | LV7: =LH7/KU7-1 -> 0.065912653 | LW7: =LI7/KV7-1 -> 0.035269091 | LX7: =LJ7/KW7-1 -> 0.065432956 | LY7: =LK7/KX7-1 -> 0.079317121 | MC7: =O7 -> 2714132.3 | MD7: =AB7 -> 3070679.1 | ME7: =AO7 -> 3374893.7 | MF7: =BB7 -> 3771766 | MG7: =BO7 -> 4520227.7 | MH7: =CB7 -> 5577014.8 | MI7: =CO7 -> 6661406.8 | MJ7: =DB7 -> 5986406.8 | MK7: =DO7 -> 5446250.8 | ML7: =EB7 -> 5794446 | MM7: =EO7 -> 6293816 | MN7: =FB7 -> 6805952 | MO7: =FO7 -> 7278438 | MP7: =GB7 -> 7870533 | MQ7: =GO7 -> 8258842 | MR7: =HB7 -> 9003472 | MS7: =HO7 -> 10187294 | MT7: =IB7 -> 11110476 | MU7: =IO7 -> 11367890 | MV7: =JB7 -> 12075316 | MW7: =JO7 -> 13275127 | MX7: =KB7 -> 14625776 | MY7: =KO7 -> 16054582 | MZ7: =LB7 -> 17099932
A8: Harju | B8: Kiili vald | C8: 53001.291 | D8: 36167.602 | E8: 47758.874 | F8: 43628.903 | G8: 27892.577 | H8: 41957.933 | I8: 58097.606 | J8: 49680.378 | K8: 44377.309 | L8: 52721.038 | M8: 49215.293 | N8: 53828.052 | O8: 558326.86 | P8: 56754.886 | Q8: 48768.359 | R8: 55656.884 | S8: 43626.794 | T8: 43997.865 | U8: 53192.642 | V8: 73969.425 | W8: 64116.294 | X8: 60892.974 | Y8: 73976.071 | Z8: 65896.041 | AA8: 65482.022 | AB8: 706330.26 | AC8: 73362.967 | AD8: 60286.388 | AE8: 65007.35 | AF8: 65385.643 | AG8: 66823.272 | AH8: 72761.814 | AI8: 79318.318 | AJ8: 78234.377 | AK8: 65433.96 | AL8: 73371.979 | AM8: 92886.889 | AN8: 85307.735 | AO8: 878180.69 | AP8: 79877.29 | AQ8: 85654.391 | AR8: 109804.05 | AS8: 102760.41 | AT8: 96465.175 | AU8: 101250.24 | AV8: 114948.04 | AW8: 101431.17 | AX8: 90984.431 | AY8: 101771.06 | AZ8: 99888.282 | BA8: 108726.82 | BB8: 1193561.3 | BC8: 120495.76 | BD8: 127102.18 | BE8: 147233.33 | BF8: 138091.73 | BG8: 134864.76 | BH8: 149319.47 | BI8: 172809.11 | BJ8: 148343.35 | BK8: 138441.19 | BL8: 150664.23 | BM8: 158924.3 | BN8: 154413.93 | BO8: 1740703.3 | BP8: 187433.37 | BQ8: 187636.36 | BR8: 208329.09 | BS8: 199076.92 | BT8: 205208.99 | BU8: 196436.41 | BV8: 243359.07 | BW8: 213439.34 | BX8: 205312.08 | BY8: 211603.03 | BZ8: 214220.34 | CA8: 214022.28 | CB8: 2486077.3 | CC8: 255079.44 | CD8: 252181.11 | CE8: 269436.81 | CF8: 281431.43 | CG8: 267438.42 | CH8: 273949.68 | CI8: 310895.98 | CJ8: 278279.05 | CK8: 239316.02 | CL8: 262381.28 | CM8: 263086.49 | CN8: 262561.71 | CO8: 3216037.4 | CP8: 271270.37 | CQ8: 252866.44 | CR8: 288145.09 | CS8: 264150.29 | CT8: 244748.83 | CU8: 242902.1 | CV8: 301338.82 | CW8: 247692.85 | CX8: 225105.2 | CY8: 208543.45 | CZ8: 227526.94 | DA8: 227785.33 | DB8: 3002075.7 | DC8: 245470.07 | DD8: 226794.19 | DE8: 241726.51 | DF8: 238370.06 | DG8: 240888.37 | DH8: 235997.34 | DI8: 297793.51 | DJ8: 239735.98 | DK8: 221330.51 | DL8: 224547.63 | DM8: 233308.64 | DN8: 243443.11 | DO8: 2889405.9 | DP8: 267511 | DQ8: 231931 | DR8: 249595 | DS8: 255589 | DT8: 267986 | DU8: 250842 | DV8: 318618 | DW8: 255670 | DX8: 246448 | DY8: 265481 | DZ8: 260760 | EA8: 261907 | EB8: 3132338 | EC8: 291225 | ED8: 262316 | EE8: 289860 | EF8: 272881 | EG8: 289724 | EH8: 271449 | EI8: 358953 | EJ8: 278170 | EK8: 266821 | EL8: 270244 | EM8: 268552 | EN8: 281649 | EO8: 3401844 | EP8: 304988 | EQ8: 286487 | ER8: 297705 | ES8: 316276 | ET8: 329943 | EU8: 301812 | EV8: 354434 | EW8: 302671 | EX8: 292548 | EY8: 298876 | EZ8: 307535 | FA8: 306919 | FB8: 3700194 | FC8: 358828 | FD8: 312314 | FE8: 351375 | FF8: 339605 | FG8: 355349 | FH8: 329247 | FI8: 383875 | FJ8: 334486 | FK8: 307993 | FL8: 347196 | FM8: 336041 | FN8: 353616 | FO8: 4109925 | FP8: 388122 | FQ8: 328805 | FR8: 416074 | FS8: 368437 | FT8: 386441 | FU8: 381326 | FV8: 414590 | FW8: 377590 | FX8: 351199 | FY8: 368088 | FZ8: 370449 | GA8: 373026 | GB8: 4524147 | GC8: 408274 | GD8: 398152 | GE8: 408824 | GF8: 405230 | GG8: 432554 | GH8: 491839 | GI8: 466072 | GJ8: 419934 | GK8: 409539 | GL8: 427682 | GM8: 426583 | GN8: 427208 | GO8: 5121891 | GP8: 485490 | GQ8: 435478 | GR8: 484767 | GS8: 470591 | GT8: 484684 | GU8: 464630 | GV8: 504452 | GW8: 470678 | GX8: 456550 | GY8: 471944 | GZ8: 475414 | HA8: 470371 | HB8: 5675049 | HC8: 537903 | HD8: 502983 | HE8: 532028 | HF8: 537858 | HG8: 552344 | HH8: 553393 | HI8: 582298 | HJ8: 535551 | HK8: 523418 | HL8: 547536 | HM8: 528907 | HN8: 551941 | HO8: =SUM(HC8:HN8) -> 6486160 | HP8: 612258 | HQ8: 540020 | HR8: 587365 | HS8: 631292 | HT8: 608565 | HU8: 599185 | HV8: 624768 | HW8: 601068 | HX8: 589061 | HY8: 600010 | HZ8: 574423 | IA8: 596188 | IB8: =SUM(HP8:IA8) -> 7164203 | IC8: 670992 | ID8: 621047 | IE8: 644806 | IF8: 595895 | IG8: 652568 | IH8: 624254 | II8: 641560 | IJ8: 639267 | IK8: 621397 | IL8: 662410 | IM8: 629946 | IN8: 639136 | IO8: =SUM(IC8:IN8) -> 7643278 | IP8: 722608 | IQ8: 657447 | IR8: 691266 | IS8: 685442 | IT8: 737689 | IU8: 664146 | IV8: 719477 | IW8: 715995 | IX8: 684911 | IY8: 738890 | IZ8: 700629 | JA8: 697486 | JB8: =SUM(IP8:JA8) -> 8415986 | JC8: 810315 | JD8: 786078 | JE8: 781657 | JF8: 805600 | JG8: 852679 | JH8: 769856 | JI8: 871145 | JJ8: 822353 | JK8: 807473 | JL8: 853102 | JM8: 814260 | JN8: 820969 | JO8: =SUM(JC8:JN8) -> 9795487 | JP8: 913077 | JQ8: 863227 | JR8: 906526 | JS8: 908301 | JT8: 985288 | JU8: 906796 | JV8: 943408 | JW8: 924227 | JX8: 901198 | JY8: 1016055 | JZ8: 909024 | KA8: 912175 | KB8: =SUM(JP8:KA8) -> 11089302 | KC8: 1027375 | KD8: 1048755 | KE8: 1046728 | KF8: 1104004 | KG8: 1126400 | KH8: 1072431 | KI8: 1111525 | KJ8: 1087500 | KK8: 1090606 | KL8: 1169878 | KM8: 1085546 | KN8: 1086361 | KO8: =SUM(KC8:KN8) -> 13057109 | KP8: 1232106 | KQ8: 1117709 | KR8: 1202962 | KS8: 1242887 | KT8: 1257363 | KU8: 1164761 | KV8: 1220160 | KW8: 1203788 | KX8: 1175180 | KY8: 1282566 | KZ8: 1179232 | LA8: 1178545 | LB8: =SUM(KP8:LA8) -> 14457259 | LC8: =VLOOKUP($B8,andmed!$B$4:$C$81,2,FALSE) -> 1254398 | LD8: =VLOOKUP($B8,andmed!$B$4:$AA$81,3,FALSE) -> 1244294 | LE8: =VLOOKUP($B8,andmed!$B$4:$AA$81,4,FALSE) -> 1302278 | LF8: 1332148 | LG8: 1365911 | LH8: 1269389 | LI8: 1333017 | LJ8: 1291608 | LK8: 1289821 | LP8: =SUM(LC8:LN8)/SUM(KP8:KX8)-1 -> 0.080054981 | LQ8: =LC8/KP8-1 -> 0.018092599 | LR8: =LD8/KQ8-1 -> 0.11325399 | LS8: =LE8/KR8-1 -> 0.082559549 | LT8: =LF8/KS8-1 -> 0.07181747 | LU8: =LG8/KT8-1 -> 0.086329882 | LV8: =LH8/KU8-1 -> 0.08982787 | LW8: =LI8/KV8-1 -> 0.092493607 | LX8: =LJ8/KW8-1 -> 0.072953045 | LY8: =LK8/KX8-1 -> 0.097551864 | MC8: =O8 -> 558326.86 | MD8: =AB8 -> 706330.26 | ME8: =AO8 -> 878180.69 | MF8: =BB8 -> 1193561.3 | MG8: =BO8 -> 1740703.3 | MH8: =CB8 -> 2486077.3 | MI8: =CO8 -> 3216037.4 | MJ8: =DB8 -> 3002075.7 | MK8: =DO8 -> 2889405.9 | ML8: =EB8 -> 3132338 | MM8: =EO8 -> 3401844 | MN8: =FB8 -> 3700194 | MO8: =FO8 -> 4109925 | MP8: =GB8 -> 4524147 | MQ8: =GO8 -> 5121891 | MR8: =HB8 -> 5675049 | MS8: =HO8 -> 6486160 | MT8: =IB8 -> 7164203 | MU8: =IO8 -> 7643278 | MV8: =JB8 -> 8415986 | MW8: =JO8 -> 9795487 | MX8: =KB8 -> 11089302 | MY8: =KO8 -> 13057109 | MZ8: =LB8 -> 14457259
A9: Harju | B9: Kose vald | C9: 143347.5 | D9: 102783.35 | E9: 117734.08 | F9: 106522.5 | G9: 57292.191 | H9: 109594.61 | I9: 161587.05 | J9: 126989.83 | K9: 111582.07 | L9: 132807.51 | M9: 126019.65 | N9: 151515.98 | O9: 1447776.3 | P9: 148501.46 | Q9: 121330.07 | R9: 127306.12 | S9: 90271.88 | T9: 91747.281 | U9: 134182.19 | V9: 188400.1 | W9: 155205.67 | X9: 133636.96 | Y9: 138147.07 | Z9: 146258.16 | AA9: 158989.62 | AB9: 1633976.6 | AC9: 158075.81 | AD9: 128372.55 | AE9: 131906.1 | AF9: 148637.72 | AG9: 141629.87 | AH9: 152716.44 | AI9: 185007.67 | AJ9: 147852.5 | AK9: 136168.69 | AL9: 155232.25 | AM9: 184304.32 | AN9: 161976.66 | AO9: 1831880.6 | AP9: 175557.12 | AQ9: 148837.26 | AR9: 187341.02 | AS9: 172420.01 | AT9: 180940.46 | AU9: 183449.06 | AV9: 209547.7 | AW9: 190425.78 | AX9: 178197.56 | AY9: 196830.81 | AZ9: 175488.86 | BA9: 197977.9 | BB9: 2197013.5 | BC9: 221884.24 | BD9: 185975.1 | BE9: 219474.77 | BF9: 208686.1 | BG9: 213372.68 | BH9: 236013.19 | BI9: 262765.46 | BJ9: 240136.39 | BK9: 228379.65 | BL9: 227285.42 | BM9: 232866.5 | BN9: 260795.76 | BO9: 2737635.3 | BP9: 293814.25 | BQ9: 261523.59 | BR9: 271295.23 | BS9: 265644.68 | BT9: 271258.93 | BU9: 275685.71 | BV9: 357617.69 | BW9: 291738.21 | BX9: 282234.42 | BY9: 283929.61 | BZ9: 289194.27 | CA9: 316663.05 | CB9: 3460599.6 | CC9: 366156.93 | CD9: 307784.25 | CE9: 310935.35 | CF9: 348632.1 | CG9: 320369.35 | CH9: 351316.2 | CI9: 429354.49 | CJ9: 352496.96 | CK9: 302670.1 | CL9: 326847.11 | CM9: 330173.97 | CN9: 344136.04 | CO9: 4090872.8 | CP9: 345292.97 | CQ9: 298083.93 | CR9: 327224.44 | CS9: 312362.05 | CT9: 280863.13 | CU9: 294593.39 | CV9: 358668.98 | CW9: 285382.83 | CX9: 263371.72 | CY9: 265357.07 | CZ9: 273801.66 | DA9: 279224.82 | DB9: 3584227 | DC9: 291755.4 | DD9: 260640.91 | DE9: 258451.93 | DF9: 266954.55 | DG9: 267435.74 | DH9: 276285.9 | DI9: 306298.17 | DJ9: 295973.63 | DK9: 254700.89 | DL9: 267186.93 | DM9: 279599.98 | DN9: 285982.77 | DO9: 3311266.8 | DP9: 321781 | DQ9: 262985 | DR9: 295350 | DS9: 277555 | DT9: 292371 | DU9: 297785 | DV9: 335868 | DW9: 303788 | DX9: 272538 | DY9: 293657 | DZ9: 289903 | EA9: 301899 | EB9: 3545480 | EC9: 338257 | ED9: 288817 | EE9: 305960 | EF9: 302662 | EG9: 306008 | EH9: 313040 | EI9: 363746 | EJ9: 324791 | EK9: 292297 | EL9: 317666 | EM9: 323285 | EN9: 332437 | EO9: 3808966 | EP9: 364670 | EQ9: 315033 | ER9: 327158 | ES9: 329869 | ET9: 333322 | EU9: 336576 | EV9: 387320 | EW9: 350420 | EX9: 325994 | EY9: 349091 | EZ9: 337493 | FA9: 342474 | FB9: 4099420 | FC9: 397014 | FD9: 318547 | FE9: 345477 | FF9: 335433 | FG9: 358502 | FH9: 352626 | FI9: 404080 | FJ9: 383221 | FK9: 341427 | FL9: 360234 | FM9: 366309 | FN9: 367458 | FO9: 4330328 | FP9: 397098 | FQ9: 331731 | FR9: 412495 | FS9: 374962 | FT9: 384271 | FU9: 392626 | FV9: 428133 | FW9: 409058 | FX9: 383419 | FY9: 393858 | FZ9: 397957 | GA9: 405800 | GB9: 4711408 | GC9: 463848 | GD9: 393510 | GE9: 393966 | GF9: 406310 | GG9: 423929 | GH9: 423461 | GI9: 457065 | GJ9: 444305 | GK9: 399929 | GL9: 425594 | GM9: 423822 | GN9: 431804 | GO9: 5087543 | GP9: 486929 | GQ9: 414067 | GR9: 428505 | GS9: 424381 | GT9: 468487 | GU9: 470276 | GV9: 494758 | GW9: 484481 | GX9: 451155 | GY9: 471712 | GZ9: 463972 | HA9: 480854 | HB9: 5539577 | HC9: 542663 | HD9: 457532 | HE9: 499397 | HF9: 486574 | HG9: 506256 | HH9: 506291 | HI9: 561588 | HJ9: 520371 | HK9: 518951 | HL9: 541191 | HM9: 504582 | HN9: 547366 | HO9: =SUM(HC9:HN9) -> 6192762 | HP9: 600510 | HQ9: 521911 | HR9: 540285 | HS9: 570005 | HT9: 563930 | HU9: 550119 | HV9: 613122 | HW9: 589356 | HX9: 580947 | HY9: 583699 | HZ9: 579204 | IA9: 585856 | IB9: =SUM(HP9:IA9) -> 6878944 | IC9: 656792 | ID9: 585332 | IE9: 607604 | IF9: 546951 | IG9: 594930 | IH9: 575322 | II9: 602802 | IJ9: 608526 | IK9: 599295 | IL9: 616663 | IM9: 602706 | IN9: 595345 | IO9: =SUM(IC9:IN9) -> 7192268 | IP9: 666082 | IQ9: 597820 | IR9: 600512 | IS9: 598685 | IT9: 633824 | IU9: 605274 | IV9: 643590 | IW9: 659442 | IX9: 654370 | IY9: 675153 | IZ9: 638243 | JA9: 659105 | JB9: =SUM(IP9:JA9) -> 7632100 | JC9: 736451 | JD9: 677623 | JE9: 696288 | JF9: 712648 | JG9: 733272 | JH9: 702771 | JI9: 747912 | JJ9: 727255 | JK9: 717977 | JL9: 740445 | JM9: 735963 | JN9: 747509 | JO9: =SUM(JC9:JN9) -> 8676114 | JP9: 823775 | JQ9: 772806 | JR9: 814502 | JS9: 785888 | JT9: 838352 | JU9: 814348 | JV9: 856979 | JW9: 818378 | JX9: 809264 | JY9: 843829 | JZ9: 821953 | KA9: 830926 | KB9: =SUM(JP9:KA9) -> 9831000 | KC9: 906965 | KD9: 871009 | KE9: 893240 | KF9: 912141 | KG9: 932573 | KH9: 915897 | KI9: 938205 | KJ9: 923120 | KK9: 926956 | KL9: 933606 | KM9: 916526 | KN9: 937275 | KO9: =SUM(KC9:KN9) -> 11007513 | KP9: 1028030 | KQ9: 899770 | KR9: 949155 | KS9: 942270 | KT9: 991292 | KU9: 948232 | KV9: 988544 | KW9: 963915 | KX9: 983829 | KY9: 968452 | KZ9: 964513 | LA9: 981958 | LB9: =SUM(KP9:LA9) -> 11609960 | LC9: =VLOOKUP($B9,andmed!$B$4:$C$81,2,FALSE) -> 1027825 | LD9: =VLOOKUP($B9,andmed!$B$4:$AA$81,3,FALSE) -> 964150 | LE9: =VLOOKUP($B9,andmed!$B$4:$AA$81,4,FALSE) -> 985093 | LF9: 969790 | LG9: 1013892 | LH9: 1002412 | LI9: 1037261 | LJ9: 1019546 | LK9: 1026458 | LP9: =SUM(LC9:LN9)/SUM(KP9:KX9)-1 -> 0.040412709 | LQ9: =LC9/KP9-1 -> -0.00019941052 | LR9: =LD9/KQ9-1 -> 0.071551619 | LS9: =LE9/KR9-1 -> 0.037863152 | LT9: =LF9/KS9-1 -> 0.029206066 | LU9: =LG9/KT9-1 -> 0.02279853 | LV9: =LH9/KU9-1 -> 0.057137916 | LW9: =LI9/KV9-1 -> 0.04928157 | LX9: =LJ9/KW9-1 -> 0.057713595 | LY9: =LK9/KX9-1 -> 0.043329684 | MC9: =O9 -> 1447776.3 | MD9: =AB9 -> 1633976.6 | ME9: =AO9 -> 1831880.6 | MF9: =BB9 -> 2197013.5 | MG9: =BO9 -> 2737635.3 | MH9: =CB9 -> 3460599.6 | MI9: =CO9 -> 4090872.8 | MJ9: =DB9 -> 3584227 | MK9: =DO9 -> 3311266.8 | ML9: =EB9 -> 3545480 | MM9: =EO9 -> 3808966 | MN9: =FB9 -> 4099420 | MO9: =FO9 -> 4330328 | MP9: =GB9 -> 4711408 | MQ9: =GO9 -> 5087543 | MR9: =HB9 -> 5539577 | MS9: =HO9 -> 6192762 | MT9: =IB9 -> 6878944 | MU9: =IO9 -> 7192268 | MV9: =JB9 -> 7632100 | MW9: =JO9 -> 8676114 | MX9: =KB9 -> 9831000 | MY9: =KO9 -> 11007513 | MZ9: =LB9 -> 11609960
A10: Harju | B10: Kuusalu vald | C10: 144720.71 | D10: 94425.306 | E10: 103753.08 | F10: 102611.88 | G10: 56090.461 | H10: 117642.36 | I10: 160551.56 | J10: 118123.11 | K10: 122183.73 | L10: 117368.57 | M10: 120199.53 | N10: 126047.45 | O10: 1383717.7 | P10: 143413.71 | Q10: 108522.87 | R10: 125679.83 | S10: 101201.6 | T10: 140196.46 | U10: 140694.91 | V10: 182187.38 | W10: 139441.86 | X10: 143518.14 | Y10: 138660.22 | Z10: 140383.53 | AA10: 157306.76 | AB10: 1661207.3 | AC10: 176815.15 | AD10: 132816.08 | AE10: 132894.62 | AF10: 133169.83 | AG10: 145215.25 | AH10: 141001.43 | AI10: 177224.89 | AJ10: 160725.78 | AK10: 142400.2 | AL10: 144232.49 | AM10: 194683.38 | AN10: 182290.59 | AO10: 1863469.7 | AP10: 171547.36 | AQ10: 144832.68 | AR10: 176097.11 | AS10: 181124.85 | AT10: 169781.93 | AU10: 203225.88 | AV10: 202938.79 | AW10: 172099.95 | AX10: 205333.81 | AY10: 189189.03 | AZ10: 168755.9 | BA10: 217249.82 | BB10: 2202177.1 | BC10: 202990.75 | BD10: 209378.2 | BE10: 224769.34 | BF10: 205110.57 | BG10: 230349.92 | BH10: 209876.52 | BI10: 300735.3 | BJ10: 215388.39 | BK10: 210873.61 | BL10: 232863.63 | BM10: 231219.24 | BN10: 220824.72 | BO10: 2694380.2 | BP10: 315872.97 | BQ10: 245945.96 | BR10: 271028.34 | BS10: 259766.47 | BT10: 266049.56 | BU10: 243875.47 | BV10: 348983.8 | BW10: 312554.87 | BX10: 264355.07 | BY10: 308217.12 | BZ10: 297348.56 | CA10: 306644.32 | CB10: 3440642.5 | CC10: 381590.12 | CD10: 310637.77 | CE10: 317413.62 | CF10: 326538.1 | CG10: 299787.3 | CH10: 340905.12 | CI10: 413906.34 | CJ10: 344726.01 | CK10: 303220.64 | CL10: 337415.41 | CM10: 316753.61 | CN10: 352410.56 | CO10: 4045304.6 | CP10: 314720.51 | CQ10: 288220.57 | CR10: 305493.85 | CS10: 314509.61 | CT10: 285153.58 | CU10: 286737.76 | CV10: 337100.84 | CW10: 285245.55 | CX10: 257017.5 | CY10: 240842.1 | CZ10: 263753.34 | DA10: 266732.9 | DB10: 3445528.1 | DC10: 289068.23 | DD10: 254032.06 | DE10: 263126.37 | DF10: 267570.08 | DG10: 264777.84 | DH10: 268875.35 | DI10: 327299.16 | DJ10: 273712.5 | DK10: 240602.56 | DL10: 256236.75 | DM10: 270785.15 | DN10: 274341.52 | DO10: 3250427.6 | DP10: 304962 | DQ10: 260632 | DR10: 282602 | DS10: 270678 | DT10: 280866 | DU10: 296048 | DV10: 319041 | DW10: 292918 | DX10: 263846 | DY10: 287780 | DZ10: 283810 | EA10: 293170 | EB10: 3436353 | EC10: 319503 | ED10: 285059 | EE10: 284897 | EF10: 300991 | EG10: 294550 | EH10: 313390 | EI10: 351914 | EJ10: 306205 | EK10: 278084 | EL10: 296200 | EM10: 290850 | EN10: 310351 | EO10: 3631994 | EP10: 336633 | EQ10: 298359 | ER10: 308256 | ES10: 315533 | ET10: 318265 | EU10: 328869 | EV10: 371819 | EW10: 337878 | EX10: 307744 | EY10: 319647 | EZ10: 331190 | FA10: 330267 | FB10: 3904460 | FC10: 380820 | FD10: 315926 | FE10: 328598 | FF10: 329976 | FG10: 359273 | FH10: 361268 | FI10: 381368 | FJ10: 354327 | FK10: 329774 | FL10: 335692 | FM10: 345365 | FN10: 364421 | FO10: 4186808 | FP10: 381871 | FQ10: 329775 | FR10: 375863 | FS10: 365066 | FT10: 369956 | FU10: 372633 | FV10: 405695 | FW10: 388620 | FX10: 348645 | FY10: 367508 | FZ10: 364890 | GA10: 375010 | GB10: 4445532 | GC10: 414703 | GD10: 372088 | GE10: 373756 | GF10: 391760 | GG10: 419761 | GH10: 425802 | GI10: 447451 | GJ10: 408754 | GK10: 379780 | GL10: 418218 | GM10: 394958 | GN10: 410531 | GO10: 4857562 | GP10: 464998 | GQ10: 413178 | GR10: 412510 | GS10: 429829 | GT10: 450496 | GU10: 424547 | GV10: 481860 | GW10: 443291 | GX10: 415459 | GY10: 462003 | GZ10: 425077 | HA10: 446624 | HB10: 5269872 | HC10: 495935 | HD10: 423784 | HE10: 443495 | HF10: 473658 | HG10: 476453 | HH10: 482031 | HI10: 497886 | HJ10: 469201 | HK10: 457444 | HL10: 484012 | HM10: 463443 | HN10: 496515 | HO10: =SUM(HC10:HN10) -> 5663857 | HP10: 541836 | HQ10: 457426 | HR10: 478816 | HS10: 531513 | HT10: 533406 | HU10: 520071 | HV10: 540581 | HW10: 511566 | HX10: 496444 | HY10: 513193 | HZ10: 517786 | IA10: 521345 | IB10: =SUM(HP10:IA10) -> 6163983 | IC10: 565712 | ID10: 516434 | IE10: 529143 | IF10: 498947 | IG10: 518650 | IH10: 500629 | II10: 556609 | IJ10: 533585 | IK10: 520704 | IL10: 551126 | IM10: 517724 | IN10: 529711 | IO10: =SUM(IC10:IN10) -> 6338974 | IP10: 584882 | IQ10: 524090 | IR10: 519519 | IS10: 524169 | IT10: 566420 | IU10: 532852 | IV10: 567522 | IW10: 564290 | IX10: 551904 | IY10: 560522 | IZ10: 599640 | JA10: 557026 | JB10: =SUM(IP10:JA10) -> 6652836 | JC10: 624610 | JD10: 580222 | JE10: 581793 | JF10: 603986 | JG10: 645735 | JH10: 603823 | JI10: 661772 | JJ10: 639646 | JK10: 613761 | JL10: 681945 | JM10: 626992 | JN10: 631000 | JO10: =SUM(JC10:JN10) -> 7495285 | JP10: 717808 | JQ10: 640454 | JR10: 664405 | JS10: 672113 | JT10: 715946 | JU10: 663237 | JV10: 746898 | JW10: 692020 | JX10: 670154 | JY10: 732324 | JZ10: 683123 | KA10: 683656 | KB10: =SUM(JP10:KA10) -> 8282138 | KC10: 752878 | KD10: 713983 | KE10: 724308 | KF10: 739434 | KG10: 785253 | KH10: 736111 | KI10: 783470 | KJ10: 775358 | KK10: 761354 | KL10: 790447 | KM10: 753679 | KN10: 757396 | KO10: =SUM(KC10:KN10) -> 9073671 | KP10: 861532 | KQ10: 726369 | KR10: 760334 | KS10: 799221 | KT10: 813928 | KU10: 789404 | KV10: 819745 | KW10: 781189 | KX10: 777916 | KY10: 877369 | KZ10: 785517 | LA10: 790681 | LB10: =SUM(KP10:LA10) -> 9583205 | LC10: =VLOOKUP($B10,andmed!$B$4:$C$81,2,FALSE) -> 863108 | LD10: =VLOOKUP($B10,andmed!$B$4:$AA$81,3,FALSE) -> 784518 | LE10: =VLOOKUP($B10,andmed!$B$4:$AA$81,4,FALSE) -> 803081 | LF10: 839581 | LG10: 865013 | LH10: 837680 | LI10: 876648 | LJ10: 846103 | LK10: 835635 | LP10: =SUM(LC10:LN10)/SUM(KP10:KX10)-1 -> 0.059151531 | LQ10: =LC10/KP10-1 -> 0.0018292994 | LR10: =LD10/KQ10-1 -> 0.080054353 | LS10: =LE10/KR10-1 -> 0.056221345 | LT10: =LF10/KS10-1 -> 0.050499174 | LU10: =LG10/KT10-1 -> 0.062763537 | LV10: =LH10/KU10-1 -> 0.061154998 | LW10: =LI10/KV10-1 -> 0.069415489 | LX10: =LJ10/KW10-1 -> 0.083096408 | LY10: =LK10/KX10-1 -> 0.074196957 | MC10: =O10 -> 1383717.7 | MD10: =AB10 -> 1661207.3 | ME10: =AO10 -> 1863469.7 | MF10: =BB10 -> 2202177.1 | MG10: =BO10 -> 2694380.2 | MH10: =CB10 -> 3440642.5 | MI10: =CO10 -> 4045304.6 | MJ10: =DB10 -> 3445528.1 | MK10: =DO10 -> 3250427.6 | ML10: =EB10 -> 3436353 | MM10: =EO10 -> 3631994 | MN10: =FB10 -> 3904460 | MO10: =FO10 -> 4186808 | MP10: =GB10 -> 4445532 | MQ10: =GO10 -> 4857562 | MR10: =HB10 -> 5269872 | MS10: =HO10 -> 5663857 | MT10: =IB10 -> 6163983 | MU10: =IO10 -> 6338974 | MV10: =JB10 -> 6652836 | MW10: =JO10 -> 7495285 | MX10: =KB10 -> 8282138 | MY10: =KO10 -> 9073671 | MZ10: =LB10 -> 9583205
A11: Harju | B11: Loksa linn | C11: 89141.794 | D11: 47280.432 | E11: 62627.983 | F11: 72608.618 | G11: 23027.75 | H11: 52525.852 | I11: 70271.433 | J11: 66095.637 | K11: 87815.5 | L11: 51679.854 | M11: 56089.694 | N11: 63461.774 | O11: 742626.32 | P11: 53344.688 | Q11: 82775.044 | R11: 71985.991 | S11: 53096.583 | T11: 20730.063 | U11: 98646.607 | V11: 84613.654 | W11: 71119.157 | X11: 71325.719 | Y11: 60178.186 | Z11: 69036.085 | AA11: 77021.398 | AB11: 813873.17 | AC11: 145270.15 | AD11: 64608.797 | AE11: 60930.106 | AF11: 58390.385 | AG11: 40954.265 | AH11: 79422.43 | AI11: 76966.881 | AJ11: 88051.27 | AK11: 76650.007 | AL11: 70225.992 | AM11: 79524.625 | AN11: 103509.26 | AO11: 944504.17 | AP11: 103654.08 | AQ11: 73895.543 | AR11: 35780.297 | AS11: 84313.142 | AT11: 79910.971 | AU11: 120320.07 | AV11: 77370.867 | AW11: 83293.815 | AX11: 96655.503 | AY11: 131683.62 | AZ11: 83474.94 | BA11: 59279.907 | BB11: 1029632.8 | BC11: 135998.62 | BD11: 83638.107 | BE11: 91543.85 | BF11: 100678.04 | BG11: 81956.591 | BH11: 88275.152 | BI11: 140093.89 | BJ11: 107205.97 | BK11: 96993.98 | BL11: 167539.21 | BM11: 106985.67 | BN11: 100171.67 | BO11: 1301080.7 | BP11: 103668.98 | BQ11: 112972.79 | BR11: 148331.52 | BS11: 104786.6 | BT11: 104771.39 | BU11: 114587.39 | BV11: 182075.98 | BW11: 108732.82 | BX11: 121039.65 | BY11: 144337.56 | BZ11: 109868.85 | CA11: 133895.1 | CB11: 1489068.6 | CC11: 221551.52 | CD11: 127050.8 | CE11: 121513.68 | CF11: 129532.17 | CG11: 119483.4 | CH11: 131518.8 | CI11: 188250.87 | CJ11: 148584.04 | CK11: 128224.85 | CL11: 188702.79 | CM11: 128175 | CN11: 125942.89 | CO11: 1758530.8 | CP11: 150136.71 | CQ11: 132727.43 | CR11: 147753.06 | CS11: 140742.59 | CT11: 159404.22 | CU11: 138989.24 | CV11: 129401.72 | CW11: 120277.57 | CX11: 110775.95 | CY11: 118595.16 | CZ11: 116820.14 | DA11: 126021.05 | DB11: 1591644.8 | DC11: 132909.96 | DD11: 102986.14 | DE11: 120128.14 | DF11: 119870.77 | DG11: 155049.72 | DH11: 115417.53 | DI11: 105734.66 | DJ11: 96999.284 | DK11: 96381.322 | DL11: 80380.21 | DM11: 79488.771 | DN11: 97065.624 | DO11: 1302412.2 | DP11: 102571 | DQ11: 83067 | DR11: 93977 | DS11: 87119 | DT11: 98900 | DU11: 93041 | DV11: 97980 | DW11: 94270 | DX11: 91953 | DY11: 92492 | DZ11: 91230 | EA11: 91694 | EB11: 1118294 | EC11: 98870 | ED11: 83825 | EE11: 87927 | EF11: 93007 | EG11: 93798 | EH11: 105648 | EI11: 115290 | EJ11: 99964 | EK11: 84381 | EL11: 81583 | EM11: 85044 | EN11: 86397 | EO11: 1115734 | EP11: 99227 | EQ11: 84851 | ER11: 93031 | ES11: 104753 | ET11: 116634 | EU11: 105828 | EV11: 119493 | EW11: 99822 | EX11: 109294 | EY11: 98695 | EZ11: 100251 | FA11: 103343 | FB11: 1235222 | FC11: 101065 | FD11: 104569 | FE11: 116392 | FF11: 93756 | FG11: 106018 | FH11: 112097 | FI11: 108185 | FJ11: 110716 | FK11: 100483 | FL11: 96714 | FM11: 105534 | FN11: 112734 | FO11: 1268263 | FP11: 116795 | FQ11: 91089 | FR11: 106849 | FS11: 99783 | FT11: 100244 | FU11: 111335 | FV11: 124975 | FW11: 122466 | FX11: 96015 | FY11: 109872 | FZ11: 107106 | GA11: 105686 | GB11: 1292215 | GC11: 112434 | GD11: 101198 | GE11: 100846 | GF11: 104080 | GG11: 108933 | GH11: 126246 | GI11: 114040 | GJ11: 125322 | GK11: 106466 | GL11: 107335 | GM11: 104628 | GN11: 109013 | GO11: 1320541 | GP11: 120912 | GQ11: 101450 | GR11: 108817 | GS11: 106040 | GT11: 109898 | GU11: 102883 | GV11: 136899 | GW11: 126369 | GX11: 114986 | GY11: 104674 | GZ11: 101035 | HA11: 105069 | HB11: 1339032 | HC11: 122915 | HD11: 110683 | HE11: 113511 | HF11: 128123 | HG11: 117454 | HH11: 122818 | HI11: 129100 | HJ11: 126828 | HK11: 116285 | HL11: 127297 | HM11: 125444 | HN11: 139285 | HO11: =SUM(HC11:HN11) -> 1479743 | HP11: 153433 | HQ11: 177779 | HR11: 118932 | HS11: 98072 | HT11: 140877 | HU11: 138465 | HV11: 167356 | HW11: 184274 | HX11: 167962 | HY11: 156650 | HZ11: 146647 | IA11: 154002 | IB11: =SUM(HP11:IA11) -> 1804449 | IC11: 164743 | ID11: 140275 | IE11: 142335 | IF11: 135713 | IG11: 144299 | IH11: 146431 | II11: 152549 | IJ11: 148863 | IK11: 140732 | IL11: 149230 | IM11: 148603 | IN11: 144042 | IO11: =SUM(IC11:IN11) -> 1757815 | IP11: 154069 | IQ11: 132703 | IR11: 136722 | IS11: 129864 | IT11: 151286 | IU11: 132551 | IV11: 143683 | IW11: 148072 | IX11: 144902 | IY11: 148138 | IZ11: 147408 | JA11: 151684 | JB11: =SUM(IP11:JA11) -> 1721082 | JC11: 167205 | JD11: 138556 | JE11: 150195 | JF11: 192153 | JG11: 134187 | JH11: 133762 | JI11: 167104 | JJ11: 170348 | JK11: 148479 | JL11: 154243 | JM11: 157986 | JN11: 161132 | JO11: =SUM(JC11:JN11) -> 1875350 | JP11: 173896 | JQ11: 158322 | JR11: 166896 | JS11: 156974 | JT11: 169788 | JU11: 163549 | JV11: 186981 | JW11: 174871 | JX11: 163773 | JY11: 173508 | JZ11: 174019 | KA11: 168719 | KB11: =SUM(JP11:KA11) -> 2031296 | KC11: 194706 | KD11: 171768 | KE11: 178607 | KF11: 182970 | KG11: 184145 | KH11: 191460 | KI11: 205098 | KJ11: 192177 | KK11: 182978 | KL11: 186801 | KM11: 186327 | KN11: 196576 | KO11: =SUM(KC11:KN11) -> 2253613 | KP11: 200774 | KQ11: 194412 | KR11: 200410 | KS11: 201438 | KT11: 205548 | KU11: 211141 | KV11: 215646 | KW11: 214608 | KX11: 204839 | KY11: 217735 | KZ11: 209534 | LA11: 211246 | LB11: =SUM(KP11:LA11) -> 2487331 | LC11: =VLOOKUP($B11,andmed!$B$4:$C$81,2,FALSE) -> 219280 | LD11: =VLOOKUP($B11,andmed!$B$4:$AA$81,3,FALSE) -> 215064 | LE11: =VLOOKUP($B11,andmed!$B$4:$AA$81,4,FALSE) -> 221556 | LF11: 223365 | LG11: 227236 | LH11: 225394 | LI11: 238723 | LJ11: 232047 | LK11: 224189 | LP11: =SUM(LC11:LN11)/SUM(KP11:KX11)-1 -> 0.096298388 | LQ11: =LC11/KP11-1 -> 0.092173289 | LR11: =LD11/KQ11-1 -> 0.10622801 | LS11: =LE11/KR11-1 -> 0.1055137 | LT11: =LF11/KS11-1 -> 0.10885235 | LU11: =LG11/KT11-1 -> 0.10551307 | LV11: =LH11/KU11-1 -> 0.067504653 | LW11: =LI11/KV11-1 -> 0.10701335 | LX11: =LJ11/KW11-1 -> 0.081259785 | LY11: =LK11/KX11-1 -> 0.094464433 | MC11: =O11 -> 742626.32 | MD11: =AB11 -> 813873.17 | ME11: =AO11 -> 944504.17 | MF11: =BB11 -> 1029632.8 | MG11: =BO11 -> 1301080.7 | MH11: =CB11 -> 1489068.6 | MI11: =CO11 -> 1758530.8 | MJ11: =DB11 -> 1591644.8 | MK11: =DO11 -> 1302412.2 | ML11: =EB11 -> 1118294 | MM11: =EO11 -> 1115734 | MN11: =FB11 -> 1235222 | MO11: =FO11 -> 1268263 | MP11: =GB11 -> 1292215 | MQ11: =GO11 -> 1320541 | MR11: =HB11 -> 1339032 | MS11: =HO11 -> 1479743 | MT11: =IB11 -> 1804449 | MU11: =IO11 -> 1757815 | MV11: =JB11 -> 1721082 | MW11: =JO11 -> 1875350 | MX11: =KB11 -> 2031296 | MY11: =KO11 -> 2253613 | MZ11: =LB11 -> 2487331
A12: Harju | B12: Lääne-Harju vald | C12: 255654.58 | D12: 189412.65 | E12: 196373.91 | F12: 189664.4 | G12: 108976.26 | H12: 210544.66 | I12: 250353.62 | J12: 222621.78 | K12: 190962.13 | L12: 219026.43 | M12: 199170.68 | N12: 246660.62 | O12: 2479421.7 | P12: 235105.01 | Q12: 206255.99 | R12: 235181.7 | S12: 171115.77 | T12: 189068.1 | U12: 246154.44 | V12: 346762.11 | W12: 293718.12 | X12: 256755.33 | Y12: 269583.81 | Z12: 281885.2 | AA12: 320584.28 | AB12: 3052169.9 | AC12: 292487.31 | AD12: 226508 | AE12: 265535.32 | AF12: 253972.94 | AG12: 286657.04 | AH12: 296308.34 | AI12: 311100.81 | AJ12: 284881.51 | AK12: 257567.52 | AL12: 276315.05 | AM12: 370477.1 | AN12: 319757.52 | AO12: 3441568.5 | AP12: 318769.7 | AQ12: 285824.01 | AR12: 333247.22 | AS12: 356069.43 | AT12: 337834.87 | AU12: 360353.37 | AV12: 363035.04 | AW12: 424799.7 | AX12: 323899.38 | AY12: 344548.21 | AZ12: 321257.01 | BA12: 383461.26 | BB12: 4153099.2 | BC12: 436454.88 | BD12: 347701.67 | BE12: 428255.98 | BF12: 392856.6 | BG12: 412625.81 | BH12: 430650.49 | BI12: 603171.3 | BJ12: 470885.3 | BK12: 418974.09 | BL12: 405480.87 | BM12: 450227.91 | BN12: 439473.37 | BO12: 5236758.3 | BP12: 591455.59 | BQ12: 464773.43 | BR12: 542384.86 | BS12: 545132.62 | BT12: 550654.84 | BU12: 506897.54 | BV12: 745899.43 | BW12: 589283.29 | BX12: 546382.86 | BY12: 566747.73 | BZ12: 537040.83 | CA12: 602644.15 | CB12: 6789297.2 | CC12: 697733.37 | CD12: 624977.25 | CE12: 653248.57 | CF12: 656265.64 | CG12: 677558.26 | CH12: 812621.78 | CI12: 804545.72 | CJ12: 708102.97 | CK12: 631158.65 | CL12: 628642.77 | CM12: 625812 | CN12: 659126.84 | CO12: 8179793.8 | CP12: 643896.31 | CQ12: 562939.81 | CR12: 563022.13 | CS12: 600298.15 | CT12: 550862.81 | CU12: 552540.49 | CV12: 661193.93 | CW12: 547650.35 | CX12: 492372.21 | CY12: 447970.42 | CZ12: 479732.08 | DA12: 504759.12 | DB12: 6607237.8 | DC12: 510299.17 | DD12: 485176.27 | DE12: 506052.62 | DF12: 511439.55 | DG12: 507346.71 | DH12: 524326.31 | DI12: 600211.04 | DJ12: 540324.42 | DK12: 467201.82 | DL12: 487265.48 | DM12: 503798.46 | DN12: 527947.73 | DO12: 6171389.6 | DP12: 587781 | DQ12: 476153 | DR12: 533010 | DS12: 520345 | DT12: 639994 | DU12: 534003 | DV12: 636336 | DW12: 552145 | DX12: 508420 | DY12: 542051 | DZ12: 531586 | EA12: 557761 | EB12: 6619585 | EC12: 644344 | ED12: 511145 | EE12: 544388 | EF12: 539025 | EG12: 634088 | EH12: 573590 | EI12: 653704 | EJ12: 571165 | EK12: 543871 | EL12: 566755 | EM12: 550895 | EN12: 575018 | EO12: 6907988 | EP12: 692513 | EQ12: 554502 | ER12: 591090 | ES12: 576160 | ET12: 688093 | EU12: 624150 | EV12: 692134 | EW12: 635482 | EX12: 584576 | EY12: 631157 | EZ12: 612551 | FA12: 622914 | FB12: 7505322 | FC12: 734774 | FD12: 598068 | FE12: 641992 | FF12: 635178 | FG12: 733936 | FH12: 678807 | FI12: 765693 | FJ12: 683029 | FK12: 621400 | FL12: 652625 | FM12: 668701 | FN12: 688074 | FO12: 8102277 | FP12: 760038 | FQ12: 597361 | FR12: 736958 | FS12: 689538 | FT12: 772772 | FU12: 706832 | FV12: 799797 | FW12: 728338 | FX12: 659775 | FY12: 717049 | FZ12: 696098 | GA12: 712626 | GB12: 8577182 | GC12: 797009 | GD12: 701691 | GE12: 697293 | GF12: 711776 | GG12: 823255 | GH12: 790294 | GI12: 840074 | GJ12: 778843 | GK12: 708488 | GL12: 790256 | GM12: 757434 | GN12: 738174 | GO12: 9134587 | GP12: 856846 | GQ12: 744866 | GR12: 753069 | GS12: 841281 | GT12: 804339 | GU12: 797771 | GV12: 880423 | GW12: 807143 | GX12: 771905 | GY12: 881242 | GZ12: 795842 | HA12: 839099 | HB12: 9773826 | HC12: 958864 | HD12: 760619 | HE12: 847086 | HF12: 859972 | HG12: 967222 | HH12: 880151 | HI12: 966323 | HJ12: 932632 | HK12: 883173 | HL12: 921568 | HM12: 868396 | HN12: 917336 | HO12: =SUM(HC12:HN12) -> 10763342 | HP12: 987810 | HQ12: 850410 | HR12: 869278 | HS12: 981436 | HT12: 1035989 | HU12: 943317 | HV12: 1002994 | HW12: 973727 | HX12: 965503 | HY12: 954644 | HZ12: 933823 | IA12: 963202 | IB12: =SUM(HP12:IA12) -> 11462133 | IC12: 1038966 | ID12: 949134 | IE12: 1011159 | IF12: 891286 | IG12: 1101068 | IH12: 959642 | II12: 1008403 | IJ12: 1000794 | IK12: 985319 | IL12: 993582 | IM12: 950437 | IN12: 973382 | IO12: =SUM(IC12:IN12) -> 11863172 | IP12: 1059810 | IQ12: 978953 | IR12: 996938 | IS12: 1013375 | IT12: 1149653 | IU12: 1009307 | IV12: 1093302 | IW12: 1085162 | IX12: 1039832 | IY12: 1109807 | IZ12: 1051589 | JA12: 1062545 | JB12: =SUM(IP12:JA12) -> 12650273 | JC12: 1192817 | JD12: 1137458 | JE12: 1170042 | JF12: 1179278 | JG12: 1317658 | JH12: 1172127 | JI12: 1236326 | JJ12: 1221818 | JK12: 1183159 | JL12: 1311708 | JM12: 1205681 | JN12: 1211839 | JO12: =SUM(JC12:JN12) -> 14539911 | JP12: 1329761 | JQ12: 1257745 | JR12: 1314870 | JS12: 1341002 | JT12: 1423449 | JU12: 1360467 | JV12: 1398830 | JW12: 1337887 | JX12: 1313821 | JY12: 1409241 | JZ12: 1317743 | KA12: 1336193 | KB12: =SUM(JP12:KA12) -> 16141009 | KC12: 1464848 | KD12: 1399720 | KE12: 1441266 | KF12: 1439689 | KG12: 1520529 | KH12: 1496556 | KI12: 1551521 | KJ12: 1527861 | KK12: 1485102 | KL12: 1587023 | KM12: 1489986 | KN12: 1504353 | KO12: =SUM(KC12:KN12) -> 17908454 | KP12: 1658886 | KQ12: 1482823 | KR12: 1623607 | KS12: 1551800 | KT12: 1653800 | KU12: 1608473 | KV12: 1660512 | KW12: 1607119 | KX12: 1591574 | KY12: 1684602 | KZ12: 1589311 | LA12: 1612420 | LB12: =SUM(KP12:LA12) -> 19324927 | LC12: =VLOOKUP($B12,andmed!$B$4:$C$81,2,FALSE) -> 1720920 | LD12: =VLOOKUP($B12,andmed!$B$4:$AA$81,3,FALSE) -> 1631706 | LE12: =VLOOKUP($B12,andmed!$B$4:$AA$81,4,FALSE) -> 1682909 | LF12: 1686617 | LG12: 1748643 | LH12: 1727635 | LI12: 1797388 | LJ12: 1736005 | LK12: 1730969 | LP12: =SUM(LC12:LN12)/SUM(KP12:KX12)-1 -> 0.070934746 | LQ12: =LC12/KP12-1 -> 0.037394975 | LR12: =LD12/KQ12-1 -> 0.10040511 | LS12: =LE12/KR12-1 -> 0.036524849 | LT12: =LF12/KS12-1 -> 0.086877819 | LU12: =LG12/KT12-1 -> 0.057348531 | LV12: =LH12/KU12-1 -> 0.074083929 | LW12: =LI12/KV12-1 -> 0.082429997 | LX12: =LJ12/KW12-1 -> 0.080196924 | LY12: =LK12/KX12-1 -> 0.08758311 | MC12: =O12 -> 2479421.7 | MD12: =AB12 -> 3052169.9 | ME12: =AO12 -> 3441568.5 | MF12: =BB12 -> 4153099.2 | MG12: =BO12 -> 5236758.3 | MH12: =CB12 -> 6789297.2 | MI12: =CO12 -> 8179793.8 | MJ12: =DB12 -> 6607237.8 | MK12: =DO12 -> 6171389.6 | ML12: =EB12 -> 6619585 | MM12: =EO12 -> 6907988 | MN12: =FB12 -> 7505322 | MO12: =FO12 -> 8102277 | MP12: =GB12 -> 8577182 | MQ12: =GO12 -> 9134587 | MR12: =HB12 -> 9773826 | MS12: =HO12 -> 10763342 | MT12: =IB12 -> 11462133 | MU12: =IO12 -> 11863172 | MV12: =JB12 -> 12650273 | MW12: =JO12 -> 14539911 | MX12: =KB12 -> 16141009 | MY12: =KO12 -> 17908454 | MZ12: =LB12 -> 19324927
A13: Harju | B13: Maardu linn | C13: 328444.13 | D13: 233036.06 | E13: 267352.84 | F13: 245456.46 | G13: 139957.37 | H13: 284115.65 | I13: 312059.3 | J13: 296705.99 | K13: 295324.48 | L13: 312133.12 | M13: 281273.44 | N13: 319848.85 | O13: 3315707.7 | P13: 353542.3 | Q13: 330183.3 | R13: 289432.66 | S13: 243028.65 | T13: 194386.19 | U13: 356811.13 | V13: 378321.81 | W13: 386897.47 | X13: 356487.74 | Y13: 332963.77 | Z13: 357313.99 | AA13: 348251.57 | AB13: 3927620.6 | AC13: 397957.77 | AD13: 294874.03 | AE13: 326459.17 | AF13: 294201.68 | AG13: 338221.08 | AH13: 358897.72 | AI13: 426902.78 | AJ13: 360536.28 | AK13: 357234.54 | AL13: 333870.94 | AM13: 484940.43 | AN13: 386261.87 | AO13: 4360358.3 | AP13: 410792.7 | AQ13: 367185.08 | AR13: 391980.49 | AS13: 405342.63 | AT13: 412159 | AU13: 452040.25 | AV13: 450865.62 | AW13: 465165.21 | AX13: 416034.79 | AY13: 449543.99 | AZ13: 387310.85 | BA13: 470966.6 | BB13: 5079387.2 | BC13: 507758.3 | BD13: 423424.19 | BE13: 512705.19 | BF13: 462772.81 | BG13: 508762.16 | BH13: 514754.64 | BI13: 602746.09 | BJ13: 569508.07 | BK13: 569446.27 | BL13: 502349.71 | BM13: 555151.85 | BN13: 555469.88 | BO13: 6284849.2 | BP13: 674982.3 | BQ13: 586021.5 | BR13: 623930.5 | BS13: 629203.21 | BT13: 618354.15 | BU13: 606801.8 | BV13: 780900.96 | BW13: 690091.59 | BX13: 652228.02 | BY13: 664693.74 | BZ13: 651270.44 | CA13: 699084.79 | CB13: 7877563 | CC13: 796719.86 | CD13: 720584.54 | CE13: 707642.24 | CF13: 731450.35 | CG13: 736037.73 | CH13: 767549.63 | CI13: 863406.04 | CJ13: 800605.69 | CK13: 727523.68 | CL13: 729780.66 | CM13: 715450.7 | CN13: 776096.08 | CO13: 9072847.2 | CP13: 752593.02 | CQ13: 665474.99 | CR13: 696827.17 | CS13: 642287.33 | CT13: 662417.14 | CU13: 619894.8 | CV13: 705712.3 | CW13: 619135.85 | CX13: 559055.58 | CY13: 523731.93 | CZ13: 571383.62 | DA13: 553333.57 | DB13: 7571847.3 | DC13: 607376.55 | DD13: 528185.23 | DE13: 546060.49 | DF13: 529581.7 | DG13: 550962.13 | DH13: 564033.4 | DI13: 634021.45 | DJ13: 558056.26 | DK13: 524548.21 | DL13: 526381.9 | DM13: 546364.26 | DN13: 560624.48 | DO13: 6676196 | DP13: 637167 | DQ13: 523094 | DR13: 602701 | DS13: 551164 | DT13: 595455 | DU13: 617043 | DV13: 684926 | DW13: 618653 | DX13: 592880 | DY13: 592748 | DZ13: 604770 | EA13: 616650 | EB13: 7237251 | EC13: 710914 | ED13: 596124 | EE13: 614847 | EF13: 623600 | EG13: 643715 | EH13: 662113 | EI13: 762074 | EJ13: 681244 | EK13: 627847 | EL13: 652201 | EM13: 643875 | EN13: 665075 | EO13: 7883629 | EP13: 758777 | EQ13: 651931 | ER13: 663005 | ES13: 677653 | ET13: 700467 | EU13: 734253 | EV13: 806004 | EW13: 711434 | EX13: 688870 | EY13: 676940 | EZ13: 707813 | FA13: 714322 | FB13: 8491469 | FC13: 834908 | FD13: 677353 | FE13: 734512 | FF13: 673556 | FG13: 723715 | FH13: 745370 | FI13: 841015 | FJ13: 765724 | FK13: 706569 | FL13: 723822 | FM13: 739226 | FN13: 746057 | FO13: 8911827 | FP13: 845347 | FQ13: 687766 | FR13: 792562 | FS13: 756802 | FT13: 781735 | FU13: 770658 | FV13: 890178 | FW13: 811792 | FX13: 745782 | FY13: 781503 | FZ13: 785852 | GA13: 796253 | GB13: 9446230 | GC13: 888653 | GD13: 761062 | GE13: 772423 | GF13: 811049 | GG13: 825636 | GH13: 844968 | GI13: 943051 | GJ13: 846318 | GK13: 786549 | GL13: 825618 | GM13: 821174 | GN13: 824502 | GO13: 9951003 | GP13: 919767 | GQ13: 831729 | GR13: 864376 | GS13: 847798 | GT13: 887348 | GU13: 882041 | GV13: 1009850 | GW13: 919030 | GX13: 860272 | GY13: 886842 | GZ13: 871829 | HA13: 891797 | HB13: 10672679 | HC13: 1001578 | HD13: 904982 | HE13: 933962 | HF13: 947865 | HG13: 963005 | HH13: 973809 | HI13: 1075490 | HJ13: 998929 | HK13: 962297 | HL13: 975424 | HM13: 958995 | HN13: 1003180 | HO13: =SUM(HC13:HN13) -> 11699516 | HP13: 1128021 | HQ13: 1011606 | HR13: 1010311 | HS13: 1081197 | HT13: 1068167 | HU13: 1076520 | HV13: 1177731 | HW13: 1122021 | HX13: 1088486 | HY13: 1097252 | HZ13: 1090797 | IA13: 1098321 | IB13: =SUM(HP13:IA13) -> 13050430 | IC13: 1206570 | ID13: 1075808 | IE13: 1116498 | IF13: 997248 | IG13: 1116357 | IH13: 1089000 | II13: 1147203 | IJ13: 1129088 | IK13: 1073975 | IL13: 1121642 | IM13: 1101387 | IN13: 1096055 | IO13: =SUM(IC13:IN13) -> 13270831 | IP13: 1192805 | IQ13: 1069138 | IR13: 1088814 | IS13: 1088416 | IT13: 1160028 | IU13: 1107465 | IV13: 1231668 | IW13: 1205681 | IX13: 1144896 | IY13: 1201475 | IZ13: 1166002 | JA13: 1151359 | JB13: =SUM(IP13:JA13) -> 13807747 | JC13: 1325597 | JD13: 1192894 | JE13: 1253195 | JF13: 1242156 | JG13: 1323849 | JH13: 1248855 | JI13: 1339600 | JJ13: 1337914 | JK13: 1279987 | JL13: 1341927 | JM13: 1296928 | JN13: 1310019 | JO13: =SUM(JC13:JN13) -> 15492921 | JP13: 1476996 | JQ13: 1347836 | JR13: 1364520 | JS13: 1309031 | JT13: 1460448 | JU13: 1392585 | JV13: 1493052 | JW13: 1475070 | JX13: 1387715 | JY13: 1446692 | JZ13: 1400459 | KA13: 1409211 | KB13: =SUM(JP13:KA13) -> 16963615 | KC13: 1538576 | KD13: 1471494 | KE13: 1533487 | KF13: 1522278 | KG13: 1573017 | KH13: 1538799 | KI13: 1669121 | KJ13: 1567799 | KK13: 1547249 | KL13: 1573589 | KM13: 1551671 | KN13: 1583645 | KO13: =SUM(KC13:KN13) -> 18670725 | KP13: 1710989 | KQ13: 1571118 | KR13: 1589186 | KS13: 1619565 | KT13: 1686063 | KU13: 1648483 | KV13: 1744922 | KW13: 1698912 | KX13: 1648008 | KY13: 1709103 | KZ13: 1660756 | LA13: 1675380 | LB13: =SUM(KP13:LA13) -> 19962485 | LC13: =VLOOKUP($B13,andmed!$B$4:$C$81,2,FALSE) -> 1767592 | LD13: =VLOOKUP($B13,andmed!$B$4:$AA$81,3,FALSE) -> 1684702 | LE13: =VLOOKUP($B13,andmed!$B$4:$AA$81,4,FALSE) -> 1703931 | LF13: 1700025 | LG13: 1779858 | LH13: 1733974 | LI13: 1854080 | LJ13: 1819657 | LK13: 1757238 | LP13: =SUM(LC13:LN13)/SUM(KP13:KX13)-1 -> 0.059247598 | LQ13: =LC13/KP13-1 -> 0.033082036 | LR13: =LD13/KQ13-1 -> 0.072295015 | LS13: =LE13/KR13-1 -> 0.072203631 | LT13: =LF13/KS13-1 -> 0.049680007 | LU13: =LG13/KT13-1 -> 0.055629594 | LV13: =LH13/KU13-1 -> 0.051860407 | LW13: =LI13/KV13-1 -> 0.062557524 | LX13: =LJ13/KW13-1 -> 0.071071957 | LY13: =LK13/KX13-1 -> 0.066280018 | MC13: =O13 -> 3315707.7 | MD13: =AB13 -> 3927620.6 | ME13: =AO13 -> 4360358.3 | MF13: =BB13 -> 5079387.2 | MG13: =BO13 -> 6284849.2 | MH13: =CB13 -> 7877563 | MI13: =CO13 -> 9072847.2 | MJ13: =DB13 -> 7571847.3 | MK13: =DO13 -> 6676196 | ML13: =EB13 -> 7237251 | MM13: =EO13 -> 7883629 | MN13: =FB13 -> 8491469 | MO13: =FO13 -> 8911827 | MP13: =GB13 -> 9446230 | MQ13: =GO13 -> 9951003 | MR13: =HB13 -> 10672679 | MS13: =HO13 -> 11699516 | MT13: =IB13 -> 13050430 | MU13: =IO13 -> 13270831 | MV13: =JB13 -> 13807747 | MW13: =JO13 -> 15492921 | MX13: =KB13 -> 16963615 | MY13: =KO13 -> 18670725 | MZ13: =LB13 -> 19962485
A14: Harju | B14: Raasiku vald | C14: 104981.85 | D14: 72713.049 | E14: 83699.973 | F14: 77749.223 | G14: 46210.998 | H14: 93460.241 | I14: 119920.69 | J14: 97381.412 | K14: 81151.432 | L14: 95999.131 | M14: 90975.547 | N14: 105592.97 | O14: 1069836.5 | P14: 100004.92 | Q14: 87352.268 | R14: 89850.191 | S14: 88407.833 | T14: 66986.246 | U14: 101043.1 | V14: 131048.21 | W14: 115470.07 | X14: 102004.65 | Y14: 126169.84 | Z14: 105185.28 | AA14: 113860.97 | AB14: 1227383.6 | AC14: 119525.78 | AD14: 96485.946 | AE14: 98556.044 | AF14: 102473.06 | AG14: 107567.78 | AH14: 113210.35 | AI14: 133546.84 | AJ14: 122456.83 | AK14: 98650.506 | AL14: 112355.02 | AM14: 142777.73 | AN14: 122065.94 | AO14: 1369671.8 | AP14: 117878.45 | AQ14: 111736.54 | AR14: 125173.65 | AS14: 122452.61 | AT14: 127922.74 | AU14: 128200.7 | AV14: 126779.81 | AW14: 145796.34 | AX14: 115753.71 | AY14: 122053.74 | AZ14: 128247.03 | BA14: 144371.3 | BB14: 1516366.6 | BC14: 149069.57 | BD14: 129493.56 | BE14: 161415.96 | BF14: 134890.39 | BG14: 145385.71 | BH14: 171273.82 | BI14: 174988.75 | BJ14: 173894.07 | BK14: 157044.15 | BL14: 159409.14 | BM14: 159084.79 | BN14: 164043.88 | BO14: 1879993.8 | BP14: 210511.8 | BQ14: 178723.17 | BR14: 195317.64 | BS14: 173968.53 | BT14: 188676.01 | BU14: 197289.63 | BV14: 244861.76 | BW14: 224641.52 | BX14: 182393.87 | BY14: 193482.55 | BZ14: 203052.23 | CA14: 212726.15 | CB14: 2405644.9 | CC14: 251327.96 | CD14: 222591.11 | CE14: 212083.2 | CF14: 238437.62 | CG14: 224761.29 | CH14: 236755.91 | CI14: 298724.13 | CJ14: 252601.84 | CK14: 207309.89 | CL14: 217191.53 | CM14: 229584.57 | CN14: 232263.81 | CO14: 2823632.9 | CP14: 225627.23 | CQ14: 210482.09 | CR14: 220769.3 | CS14: 216805.25 | CT14: 206073.65 | CU14: 214151.7 | CV14: 232558.58 | CW14: 206367.26 | CX14: 183702.85 | CY14: 156313 | CZ14: 196220.52 | DA14: 189079.48 | DB14: 2458150.9 | DC14: 205350.68 | DD14: 180788.73 | DE14: 180830.4 | DF14: 181395.77 | DG14: 182051.12 | DH14: 189956.6 | DI14: 220401.3 | DJ14: 203889.15 | DK14: 164124.28 | DL14: 169846.42 | DM14: 187138.68 | DN14: 192194.79 | DO14: 2257967.9 | DP14: 219765 | DQ14: 174290 | DR14: 196530 | DS14: 199791 | DT14: 202843 | DU14: 199914 | DV14: 238596 | DW14: 210340 | DX14: 179527 | DY14: 192124 | DZ14: 201824 | EA14: 202473 | EB14: 2418017 | EC14: 228520 | ED14: 207385 | EE14: 218414 | EF14: 207636 | EG14: 221042 | EH14: 213938 | EI14: 266700 | EJ14: 232191 | EK14: 198039 | EL14: 211201 | EM14: 215709 | EN14: 224912 | EO14: 2645687 | EP14: 247391 | EQ14: 225286 | ER14: 242911 | ES14: 234761 | ET14: 240438 | EU14: 244379 | EV14: 292365 | EW14: 257511 | EX14: 219484 | EY14: 228970 | EZ14: 239133 | FA14: 241933 | FB14: 2914562 | FC14: 287180 | FD14: 242246 | FE14: 254159 | FF14: 255582 | FG14: 256508 | FH14: 253882 | FI14: 312709 | FJ14: 274454 | FK14: 237310 | FL14: 254944 | FM14: 269199 | FN14: 271087 | FO14: 3169260 | FP14: 296503 | FQ14: 265639 | FR14: 293543 | FS14: 281828 | FT14: 281962 | FU14: 281386 | FV14: 338520 | FW14: 307367 | FX14: 264684 | FY14: 362817 | FZ14: 293871 | GA14: 291053 | GB14: 3559173 | GC14: 330913 | GD14: 291349 | GE14: 287466 | GF14: 298441 | GG14: 308820 | GH14: 325372 | GI14: 343238 | GJ14: 328668 | GK14: 282425 | GL14: 473997 | GM14: 300315 | GN14: 317905 | GO14: 3888909 | GP14: 358325 | GQ14: 339595 | GR14: 346004 | GS14: 336766 | GT14: 375959 | GU14: 352592 | GV14: 414348 | GW14: 383447 | GX14: 326471 | GY14: 668876 | GZ14: 361199 | HA14: 368224 | HB14: 4631806 | HC14: 432051 | HD14: 359872 | HE14: 362907 | HF14: 381907 | HG14: 382305 | HH14: 392628 | HI14: 445868 | HJ14: 415648 | HK14: 376101 | HL14: 774751 | HM14: 394868 | HN14: 413546 | HO14: =SUM(HC14:HN14) -> 5132452 | HP14: 455188 | HQ14: 403906 | HR14: 419112 | HS14: 435650 | HT14: 451139 | HU14: 434849 | HV14: 476547 | HW14: 469093 | HX14: 418976 | HY14: 431150 | HZ14: 444452 | IA14: 451526 | IB14: =SUM(HP14:IA14) -> 5291588 | IC14: 501301 | ID14: 452273 | IE14: 471560 | IF14: 412826 | IG14: 466945 | IH14: 437031 | II14: 473090 | IJ14: 484021 | IK14: 450537 | IL14: 474329 | IM14: 464252 | IN14: 472170 | IO14: =SUM(IC14:IN14) -> 5560335 | IP14: 513467 | IQ14: 468089 | IR14: 484293 | IS14: 477833 | IT14: 508760 | IU14: 477555 | IV14: 523666 | IW14: 526227 | IX14: 480599 | IY14: 531593 | IZ14: 497413 | JA14: 504906 | JB14: =SUM(IP14:JA14) -> 5994401 | JC14: 569223 | JD14: 521292 | JE14: 531356 | JF14: 536329 | JG14: 580339 | JH14: 545824 | JI14: 582498 | JJ14: 593926 | JK14: 539352 | JL14: 629544 | JM14: 567915 | JN14: 580472 | JO14: =SUM(JC14:JN14) -> 6778070 | JP14: 648771 | JQ14: 600143 | JR14: 605135 | JS14: 607538 | JT14: 646362 | JU14: 607995 | JV14: 658286 | JW14: 652706 | JX14: 632807 | JY14: 639733 | JZ14: 632558 | KA14: 641158 | KB14: =SUM(JP14:KA14) -> 7573192 | KC14: 703549 | KD14: 652105 | KE14: 659465 | KF14: 674278 | KG14: 687218 | KH14: 687336 | KI14: 712182 | KJ14: 704112 | KK14: 699263 | KL14: 704754 | KM14: 683707 | KN14: 730964 | KO14: =SUM(KC14:KN14) -> 8298933 | KP14: 778694 | KQ14: 670300 | KR14: 707938 | KS14: 713582 | KT14: 749278 | KU14: 700430 | KV14: 740509 | KW14: 739852 | KX14: 718561 | KY14: 739834 | KZ14: 721678 | LA14: 727499 | LB14: =SUM(KP14:LA14) -> 8708155 | LC14: =VLOOKUP($B14,andmed!$B$4:$C$81,2,FALSE) -> 780575 | LD14: =VLOOKUP($B14,andmed!$B$4:$AA$81,3,FALSE) -> 731538 | LE14: =VLOOKUP($B14,andmed!$B$4:$AA$81,4,FALSE) -> 747032 | LF14: 743542 | LG14: 785511 | LH14: 750506 | LI14: 789995 | LJ14: 781548 | LK14: 760916 | LP14: =SUM(LC14:LN14)/SUM(KP14:KX14)-1 -> 0.053997733 | LQ14: =LC14/KP14-1 -> 0.002415583 | LR14: =LD14/KQ14-1 -> 0.091359093 | LS14: =LE14/KR14-1 -> 0.05522235 | LT14: =LF14/KS14-1 -> 0.041985364 | LU14: =LG14/KT14-1 -> 0.048357219 | LV14: =LH14/KU14-1 -> 0.071493226 | LW14: =LI14/KV14-1 -> 0.066827007 | LX14: =LJ14/KW14-1 -> 0.056357217 | LY14: =LK14/KX14-1 -> 0.058944195 | MC14: =O14 -> 1069836.5 | MD14: =AB14 -> 1227383.6 | ME14: =AO14 -> 1369671.8 | MF14: =BB14 -> 1516366.6 | MG14: =BO14 -> 1879993.8 | MH14: =CB14 -> 2405644.9 | MI14: =CO14 -> 2823632.9 | MJ14: =DB14 -> 2458150.9 | MK14: =DO14 -> 2257967.9 | ML14: =EB14 -> 2418017 | MM14: =EO14 -> 2645687 | MN14: =FB14 -> 2914562 | MO14: =FO14 -> 3169260 | MP14: =GB14 -> 3559173 | MQ14: =GO14 -> 3888909 | MR14: =HB14 -> 4631806 | MS14: =HO14 -> 5132452 | MT14: =IB14 -> 5291588 | MU14: =IO14 -> 5560335 | MV14: =JB14 -> 5994401 | MW14: =JO14 -> 6778070 | MX14: =KB14 -> 7573192 | MY14: =KO14 -> 8298933 | MZ14: =LB14 -> 8708155
A15: Harju | B15: Rae vald | C15: 249192.16 | D15: 160967.56 | E15: 182393.11 | F15: 179297.1 | G15: 97347.411 | H15: 263238.21 | I15: 293476.79 | J15: 210933.3 | K15: 191417.82 | L15: 244453.81 | M15: 204529.23 | N15: 240966.22 | O15: 2518212.7 | P15: 237744.17 | Q15: 196744.21 | R15: 191274.33 | S15: 181739.29 | T15: 176421.4 | U15: 232987.1 | V15: 281875.1 | W15: 248212.46 | X15: 228736.79 | Y15: 253722.28 | Z15: 247396.3 | AA15: 284882.21 | AB15: 2761735.6 | AC15: 333250.93 | AD15: 213365.52 | AE15: 220254.75 | AF15: 194109.01 | AG15: 181467.79 | AH15: 252104.99 | AI15: 279582.27 | AJ15: 267763.99 | AK15: 232028.04 | AL15: 246107.91 | AM15: 323767.34 | AN15: 287961.22 | AO15: 3031763.8 | AP15: 273941.69 | AQ15: 253140.11 | AR15: 277495.81 | AS15: 344263.35 | AT15: 270267.6 | AU15: 287086.72 | AV15: 328284.23 | AW15: 288120.42 | AX15: 299481.55 | AY15: 294848.59 | AZ15: 290334.45 | BA15: 318607.49 | BB15: 3525872 | BC15: 349893.08 | BD15: 319715.72 | BE15: 432397.33 | BF15: 346705.1 | BG15: 342692.6 | BH15: 409457.2 | BI15: 472875.32 | BJ15: 399563.36 | BK15: 370428.4 | BL15: 359348.36 | BM15: 408845.18 | BN15: 391206.2 | BO15: 4603127.8 | BP15: 485002.24 | BQ15: 450434.73 | BR15: 503161.84 | BS15: 487276.34 | BT15: 493855.92 | BU15: 525313.93 | BV15: 634773.88 | BW15: 545761.64 | BX15: 479038.58 | BY15: 516504.03 | BZ15: 537791.02 | CA15: 543041.62 | CB15: 6201955.8 | CC15: 651953.27 | CD15: 666245.45 | CE15: 645515.64 | CF15: 678640.22 | CG15: 675431.47 | CH15: 664869.05 | CI15: 824910.27 | CJ15: 705560.31 | CK15: 596634.6 | CL15: 648097.8 | CM15: 641013.26 | CN15: 657792.11 | CO15: 8056663.4 | CP15: 690295.34 | CQ15: 690939.18 | CR15: 726204.99 | CS15: 712920.44 | CT15: 641478.72 | CU15: 634223.73 | CV15: 740219.47 | CW15: 641410.34 | CX15: 580331.51 | CY15: 524493.56 | CZ15: 584922.6 | DA15: 604172.34 | DB15: 7771612.2 | DC15: 641052.88 | DD15: 637632.2 | DE15: 660499.47 | DF15: 673869.21 | DG15: 644700.57 | DH15: 657425.83 | DI15: 771688.42 | DJ15: 673641.24 | DK15: 593906.98 | DL15: 638829.78 | DM15: 665431.53 | DN15: 689375.52 | DO15: 7948053.6 | DP15: 763601 | DQ15: 650786 | DR15: 733649 | DS15: 714117 | DT15: 745446 | DU15: 733769 | DV15: 846022 | DW15: 758621 | DX15: 674703 | DY15: 709629 | DZ15: 729739 | EA15: 738299 | EB15: 8798381 | EC15: 835955 | ED15: 796377 | EE15: 823613 | EF15: 838281 | EG15: 824145 | EH15: 847311 | EI15: 1015675 | EJ15: 850344 | EK15: 797022 | EL15: 804933 | EM15: 816120 | EN15: 856198 | EO15: 10105974 | EP15: 952142 | EQ15: 890200 | ER15: 921281 | ES15: 922540 | ET15: 943345 | EU15: 944026 | EV15: 1075462 | EW15: 971934 | EX15: 892697 | EY15: 910967 | EZ15: 946226 | FA15: 942923 | FB15: 11313743 | FC15: 1110138 | FD15: 1008747 | FE15: 1068938 | FF15: 1082940 | FG15: 1087221 | FH15: 1060055 | FI15: 1213204 | FJ15: 1108988 | FK15: 998363 | FL15: 1039513 | FM15: 1038647 | FN15: 1084062 | FO15: 12900816 | FP15: 1193181 | FQ15: 1034427 | FR15: 1312699 | FS15: 1209075 | FT15: 1242062 | FU15: 1232775 | FV15: 1340987 | FW15: 1277631 | FX15: 1143331 | FY15: 1214286 | FZ15: 1206356 | GA15: 1247801 | GB15: 14654611 | GC15: 1367754 | GD15: 1323773 | GE15: 1335447 | GF15: 1377372 | GG15: 1425961 | GH15: 1455283 | GI15: 1505891 | GJ15: 1421287 | GK15: 1321798 | GL15: 1380040 | GM15: 1365982 | GN15: 1412222 | GO15: 16692810 | GP15: 1554011 | GQ15: 1486377 | GR15: 1538114 | GS15: 1535597 | GT15: 1680755 | GU15: 1578257 | GV15: 1703524 | GW15: 1605165 | GX15: 1482130 | GY15: 1605583 | GZ15: 1583411 | HA15: 1610296 | HB15: 18963220 | HC15: 1821255 | HD15: 1736838 | HE15: 1784834 | HF15: 1883169 | HG15: 1892059 | HH15: 1830854 | HI15: 1964642 | HJ15: 1868048 | HK15: 1803545 | HL15: 1869618 | HM15: 1831045 | HN15: 1918804 | HO15: =SUM(HC15:HN15) -> 22204711 | HP15: 2129717 | HQ15: 1983736 | HR15: 2041349 | HS15: 2230451 | HT15: 2262258 | HU15: 2126305 | HV15: 2252965 | HW15: 2177323 | HX15: 2118242 | HY15: 2213353 | HZ15: 2095822 | IA15: 2173797 | IB15: =SUM(HP15:IA15) -> 25805318 | IC15: 2382197 | ID15: 2326776 | IE15: 2448861 | IF15: 2182141 | IG15: 2453297 | IH15: 2243452 | II15: 2331798 | IJ15: 2385771 | IK15: 2282726 | IL15: 2583146 | IM15: 2324519 | IN15: 2381965 | IO15: =SUM(IC15:IN15) -> 28326649 | IP15: 2557530 | IQ15: 2485004 | IR15: 2630041 | IS15: 2596523 | IT15: 2762034 | IU15: 2569897 | IV15: 2714389 | IW15: 2751061 | IX15: 2629347 | IY15: 2948650 | IZ15: 2686010 | JA15: 2709516 | JB15: =SUM(IP15:JA15) -> 32040002 | JC15: 2969466 | JD15: 2885543 | JE15: 2978998 | JF15: 3172827 | JG15: 3286088 | JH15: 2953214 | JI15: 3148346 | JJ15: 3107470 | JK15: 3079189 | JL15: 3534959 | JM15: 3107107 | JN15: 3272571 | JO15: =SUM(JC15:JN15) -> 37495778 | JP15: 3465283 | JQ15: 3346039 | JR15: 3456517 | JS15: 3530147 | JT15: 3747253 | JU15: 3474049 | JV15: 3565341 | JW15: 3546117 | JX15: 3473010 | JY15: 3749731 | JZ15: 3475250 | KA15: 3548093 | KB15: =SUM(JP15:KA15) -> 42376830 | KC15: 3827179 | KD15: 3750916 | KE15: 3797669 | KF15: 3920381 | KG15: 4045564 | KH15: 3763379 | KI15: 3900444 | KJ15: 3863021 | KK15: 3858646 | KL15: 4139564 | KM15: 3842962 | KN15: 3884898 | KO15: =SUM(KC15:KN15) -> 46594623 | KP15: 4365408 | KQ15: 3718375 | KR15: 3981060 | KS15: 4067295 | KT15: 4229461 | KU15: 3922194 | KV15: 4034317 | KW15: 4052449 | KX15: 3986819 | KY15: 4284892 | KZ15: 3948675 | LA15: 4061218 | LB15: =SUM(KP15:LA15) -> 48652163 | LC15: =VLOOKUP($B15,andmed!$B$4:$C$81,2,FALSE) -> 4275475 | LD15: =VLOOKUP($B15,andmed!$B$4:$AA$81,3,FALSE) -> 4011720 | LE15: =VLOOKUP($B15,andmed!$B$4:$AA$81,4,FALSE) -> 4080779 | LF15: 4313821 | LG15: 4368018 | LH15: 4080496 | LI15: 4222355 | LJ15: 4181676 | LK15: 4121052 | LP15: =SUM(LC15:LN15)/SUM(KP15:KX15)-1 -> 0.035701529 | LQ15: =LC15/KP15-1 -> -0.020601282 | LR15: =LD15/KQ15-1 -> 0.078890644 | LS15: =LE15/KR15-1 -> 0.025048354 | LT15: =LF15/KS15-1 -> 0.060611783 | LU15: =LG15/KT15-1 -> 0.032759966 | LV15: =LH15/KU15-1 -> 0.040360574 | LW15: =LI15/KV15-1 -> 0.046609624 | LX15: =LJ15/KW15-1 -> 0.031888618 | LY15: =LK15/KX15-1 -> 0.033669198 | MC15: =O15 -> 2518212.7 | MD15: =AB15 -> 2761735.6 | ME15: =AO15 -> 3031763.8 | MF15: =BB15 -> 3525872 | MG15: =BO15 -> 4603127.8 | MH15: =CB15 -> 6201955.8 | MI15: =CO15 -> 8056663.4 | MJ15: =DB15 -> 7771612.2 | MK15: =DO15 -> 7948053.6 | ML15: =EB15 -> 8798381 | MM15: =EO15 -> 10105974 | MN15: =FB15 -> 11313743 | MO15: =FO15 -> 12900816 | MP15: =GB15 -> 14654611 | MQ15: =GO15 -> 16692810 | MR15: =HB15 -> 18963220 | MS15: =HO15 -> 22204711 | MT15: =IB15 -> 25805318 | MU15: =IO15 -> 28326649 | MV15: =JB15 -> 32040002 | MW15: =JO15 -> 37495778 | MX15: =KB15 -> 42376830 | MY15: =KO15 -> 46594623 | MZ15: =LB15 -> 48652163
... A21: Ida-Viru | B21: Alutaguse vald | C21: 58157.363 | D21: 37406.657 | E21: 42047.282 | F21: 37242.404 | G21: 10117.597 | H21: 30901.154 | I21: 65603.006 | J21: 52200.286 | K21: 44116.23 | L21: 44349.699 | M21: 44134.7 | N21: 57608.362 | O21: 523884.74 | P21: 57517.416 | Q21: 43855.215 | R21: 45407.373 | S21: 34694.247 | T21: 16957.358 | U21: 42695.282 | V21: 70068.641 | W21: 56951.159 | X21: 55213.465 | Y21: 50526.632 | Z21: 56073.78 | AA21: 59511.204 | AB21: 589471.77 | AC21: 65618.537 | AD21: 52818.823 | AE21: 48874.516 | AF21: 44933.66 | AG21: 52832.373 | AH21: 60710.058 | AI21: 74671.302 | AJ21: 63269.848 | AK21: 54131.952 | AL21: 59573.39 | AM21: 80779.594 | AN21: 78089.297 | AO21: 736303.35 | AP21: 64640.433 | AQ21: 57219.779 | AR21: 60586.325 | AS21: 70450.449 | AT21: 69548.272 | AU21: 70219.92 | AV21: 89914.614 | AW21: 75884.793 | AX21: 70224.01 | AY21: 73898.674 | AZ21: 69239.579 | BA21: 81887.95 | BB21: 853714.8 | BC21: 94912.952 | BD21: 77810.131 | BE21: 100993.63 | BF21: 84278.693 | BG21: 87797.924 | BH21: 92465.392 | BI21: 115991.91 | BJ21: 104099.68 | BK21: 100726.68 | BL21: 100377.01 | BM21: 102301.46 | BN21: 103459.28 | BO21: 1165214.7 | BP21: 138514.57 | BQ21: 107019.1 | BR21: 113581.74 | BS21: 123936.06 | BT21: 122368.89 | BU21: 137228.6 | BV21: 154434 | BW21: 137828.09 | BX21: 139362.93 | BY21: 137310.66 | BZ21: 133157.55 | CA21: 146342.85 | CB21: 1591085 | CC21: 179527.31 | CD21: 139802.9 | CE21: 146188.31 | CF21: 163313.95 | CG21: 161075.38 | CH21: 171907.51 | CI21: 208658.69 | CJ21: 163630.88 | CK21: 154500.91 | CL21: 209836.71 | CM21: 157686.14 | CN21: 179300.55 | CO21: 2035429.2 | CP21: 169530.76 | CQ21: 145064.04 | CR21: 139866.42 | CS21: 142700.2 | CT21: 134527.31 | CU21: 142985.44 | CV21: 175534.62 | CW21: 136201.99 | CX21: 131167.28 | CY21: 128772.7 | CZ21: 130033.87 | DA21: 140219.92 | DB21: 1716604.6 | DC21: 141030.45 | DD21: 126310.57 | DE21: 132191.02 | DF21: 138389.81 | DG21: 140081.49 | DH21: 144660.88 | DI21: 161148.24 | DJ21: 139164.99 | DK21: 133622.9 | DL21: 131766.9 | DM21: 135042.18 | DN21: 143231.69 | DO21: 1666641.1 | DP21: 167701 | DQ21: 121006 | DR21: 133357 | DS21: 132241 | DT21: 144949 | DU21: 152633 | DV21: 180670 | DW21: 143740 | DX21: 140560 | DY21: 144051 | DZ21: 144443 | EA21: 153929 | EB21: 1759280 | EC21: 165775 | ED21: 145241 | EE21: 154122 | EF21: 151394 | EG21: 160773 | EH21: 166116 | EI21: 186208 | EJ21: 159211 | EK21: 148843 | EL21: 159535 | EM21: 158241 | EN21: 167245 | EO21: 1922704 | EP21: 180418 | EQ21: 159236 | ER21: 171040 | ES21: 173233 | ET21: 183404 | EU21: 188525 | EV21: 209334 | EW21: 184167 | EX21: 175151 | EY21: 184456 | EZ21: 175825 | FA21: 189693 | FB21: 2174482 | FC21: 207452 | FD21: 176277 | FE21: 176538 | FF21: 189202 | FG21: 193247 | FH21: 208473 | FI21: 222799 | FJ21: 199297 | FK21: 189055 | FL21: 202317 | FM21: 197204 | FN21: 210732 | FO21: 2372593 | FP21: 229178 | FQ21: 185237 | FR21: 213790 | FS21: 216494 | FT21: 207201 | FU21: 216768 | FV21: 243696 | FW21: 216913 | FX21: 202716 | FY21: 211066 | FZ21: 209687 | GA21: 228426 | GB21: 2581172 | GC21: 250880 | GD21: 202446 | GE21: 200936 | GF21: 218898 | GG21: 216915 | GH21: 230157 | GI21: 257134 | GJ21: 207195 | GK21: 200936 | GL21: 216082 | GM21: 212758 | GN21: 233077 | GO21: 2647414 | GP21: 268084 | GQ21: 213123 | GR21: 219674 | GS21: 225341 | GT21: 232192 | GU21: 236809 | GV21: 274348 | GW21: 236972 | GX21: 230407 | GY21: 232115 | GZ21: 241983 | HA21: 258801 | HB21: 2869849 | HC21: 313949 | HD21: 223388 | HE21: 248104 | HF21: 253339 | HG21: 253857 | HH21: 266403 | HI21: 288042 | HJ21: 259907 | HK21: 275089 | HL21: 281985 | HM21: 257576 | HN21: 283360 | HO21: =SUM(HC21:HN21) -> 3204999 | HP21: 321714 | HQ21: 255073 | HR21: 256008 | HS21: 288871 | HT21: 284290 | HU21: 292310 | HV21: 305856 | HW21: 284099 | HX21: 274269 | HY21: 320694 | HZ21: 289446 | IA21: 293384 | IB21: =SUM(HP21:IA21) -> 3466014 | IC21: 335159 | ID21: 279826 | IE21: 284919 | IF21: 280395 | IG21: 282649 | IH21: 294154 | II21: 301622 | IJ21: 307239 | IK21: 291579 | IL21: 304134 | IM21: 288245 | IN21: 297666 | IO21: =SUM(IC21:IN21) -> 3547587 | IP21: 344612 | IQ21: 284149 | IR21: 294160 | IS21: 300648 | IT21: 311476 | IU21: 298998 | IV21: 316309 | IW21: 327239 | IX21: 310497 | IY21: 322089 | IZ21: 311733 | JA21: 324181 | JB21: =SUM(IP21:JA21) -> 3746091 | JC21: 380689 | JD21: 315625 | JE21: 311240 | JF21: 346940 | JG21: 349715 | JH21: 329646 | JI21: 350845 | JJ21: 339862 | JK21: 333608 | JL21: 386206 | JM21: 339441 | JN21: 361723 | JO21: =SUM(JC21:JN21) -> 4145540 | JP21: 407137 | JQ21: 348933 | JR21: 361375 | JS21: 362306 | JT21: 413795 | JU21: 389904 | JV21: 401561 | JW21: 386355 | JX21: 386162 | JY21: 403148 | JZ21: 389189 | KA21: 401511 | KB21: =SUM(JP21:KA21) -> 4651376 | KC21: 465178 | KD21: 418775 | KE21: 413782 | KF21: 448945 | KG21: 463632 | KH21: 427135 | KI21: 456721 | KJ21: 424596 | KK21: 435617 | KL21: 444253 | KM21: 434864 | KN21: 444200 | KO21: =SUM(KC21:KN21) -> 5277698 | KP21: 498464 | KQ21: 449949 | KR21: 453740 | KS21: 472190 | KT21: 508225 | KU21: 470579 | KV21: 482316 | KW21: 443733 | KX21: 515814 | KY21: 487084 | KZ21: 470712 | LA21: 475192 | LB21: =SUM(KP21:LA21) -> 5727998 | LC21: =VLOOKUP($B21,andmed!$B$4:$C$81,2,FALSE) -> 511398 | LD21: =VLOOKUP($B21,andmed!$B$4:$AA$81,3,FALSE) -> 490564 | LE21: =VLOOKUP($B21,andmed!$B$4:$AA$81,4,FALSE) -> 488237 | LF21: 498607 | LG21: 530016 | LH21: 511528 | LI21: 536015 | LJ21: 520148 | LK21: 519773 | LP21: =SUM(LC21:LN21)/SUM(KP21:KX21)-1 -> 0.072473871 | LQ21: =LC21/KP21-1 -> 0.025947711 | LR21: =LD21/KQ21-1 -> 0.090265786 | LS21: =LE21/KR21-1 -> 0.076028122 | LT21: =LF21/KS21-1 -> 0.0559457 | LU21: =LG21/KT21-1 -> 0.042876679 | LV21: =LH21/KU21-1 -> 0.087018333 | LW21: =LI21/KV21-1 -> 0.11133572 | LX21: =LJ21/KW21-1 -> 0.17220941 | LY21: =LK21/KX21-1 -> 0.0076752473 | MC21: =O21 -> 523884.74 | MD21: =AB21 -> 589471.77 | ME21: =AO21 -> 736303.35 | MF21: =BB21 -> 853714.8 | MG21: =BO21 -> 1165214.7 | MH21: =CB21 -> 1591085 | MI21: =CO21 -> 2035429.2 | MJ21: =DB21 -> 1716604.6 | MK21: =DO21 -> 1666641.1 | ML21: =EB21 -> 1759280 | MM21: =EO21 -> 1922704 | MN21: =FB21 -> 2174482 | MO21: =FO21 -> 2372593 | MP21: =GB21 -> 2581172 | MQ21: =GO21 -> 2647414 | MR21: =HB21 -> 2869849 | MS21: =HO21 -> 3204999 | MT21: =IB21 -> 3466014 | MU21: =IO21 -> 3547587 | MV21: =JB21 -> 3746091 | MW21: =JO21 -> 4145540 | MX21: =KB21 -> 4651376 | MY21: =KO21 -> 5277698 | MZ21: =LB21 -> 5727998
A22: Ida-Viru | B22: Jõhvi vald | C22: 369045.22 | D22: 244522.52 | E22: 266948.6 | F22: 253270.61 | G22: 72800.608 | H22: 261343.74 | I22: 368577.39 | J22: 289467.62 | K22: 270797.55 | L22: 282840.23 | M22: 260804.26 | N22: 330016.3 | O22: 3270434.7 | P22: 325934 | Q22: 266666.56 | R22: 280866.77 | S22: 231026.8 | T22: 119955.77 | U22: 290093.82 | V22: 376032.94 | W22: 336037.73 | X22: 286818.29 | Y22: 297010.72 | Z22: 310723.54 | AA22: 345248.3 | AB22: 3466415.3 | AC22: 390508.74 | AD22: 281174.7 | AE22: 297142.13 | AF22: 278005.51 | AG22: 324649.19 | AH22: 336639.4 | AI22: 395247.53 | AJ22: 363911.2 | AK22: 295788.48 | AL22: 328813.74 | AM22: 393736.91 | AN22: 357105.38 | AO22: 4042722.9 | AP22: 404603.94 | AQ22: 341497.45 | AR22: 366523.97 | AS22: 381878.62 | AT22: 385717.54 | AU22: 373226.39 | AV22: 438505.62 | AW22: 400663.66 | AX22: 373089.81 | AY22: 386038.18 | AZ22: 385138.11 | BA22: 416827.62 | BB22: 4653710.9 | BC22: 497523.23 | BD22: 413645.78 | BE22: 471437.37 | BF22: 433160.88 | BG22: 436962.02 | BH22: 460090.43 | BI22: 582402.18 | BJ22: 463581.86 | BK22: 446304.31 | BL22: 465884.47 | BM22: 477119.5 | BN22: 482306.32 | BO22: 5630418.4 | BP22: 628902.13 | BQ22: 515168.09 | BR22: 549520.79 | BS22: 535192.69 | BT22: 593201.01 | BU22: 634179.37 | BV22: 705714.79 | BW22: 628503.7 | BX22: 571947.64 | BY22: 589575.05 | BZ22: 602765.71 | CA22: 623261.54 | CB22: 7177932.5 | CC22: 801551.39 | CD22: 665382.38 | CE22: 683949.8 | CF22: 699843.8 | CG22: 716163.58 | CH22: 767598.2 | CI22: 897051.69 | CJ22: 764085.04 | CK22: 670638.35 | CL22: 675800.43 | CM22: 702156.89 | CN22: 780370.56 | CO22: 8824592.1 | CP22: 739167.36 | CQ22: 651600.03 | CR22: 687527.32 | CS22: 705974.97 | CT22: 636368.41 | CU22: 655888.63 | CV22: 738783.12 | CW22: 622163.28 | CX22: 578036.7 | CY22: 556619.2 | CZ22: 591648.98 | DA22: 595366.09 | DB22: 7759144.1 | DC22: 640719.65 | DD22: 565843.95 | DE22: 580764.51 | DF22: 580066.79 | DG22: 595866.39 | DH22: 613902.96 | DI22: 697769.1 | DJ22: 623978.5 | DK22: 531840.46 | DL22: 573580.07 | DM22: 596905.46 | DN22: 611439.48 | DO22: 7212677.3 | DP22: 676574 | DQ22: 570538 | DR22: 614558 | DS22: 594391 | DT22: 656179 | DU22: 645732 | DV22: 741967 | DW22: 640528 | DX22: 592853 | DY22: 624586 | DZ22: 632850 | EA22: 644398 | EB22: 7635154 | EC22: 731848 | ED22: 617059 | EE22: 687058 | EF22: 647563 | EG22: 726605 | EH22: 709338 | EI22: 794315 | EJ22: 676760 | EK22: 650297 | EL22: 675427 | EM22: 676643 | EN22: 707098 | EO22: 8300011 | EP22: 775182 | EQ22: 682712 | ER22: 699400 | ES22: 725597 | ET22: 776878 | EU22: 796931 | EV22: 872858 | EW22: 761116 | EX22: 722538 | EY22: 727718 | EZ22: 739194 | FA22: 776434 | FB22: 9056558 | FC22: 858834 | FD22: 745599 | FE22: 759192 | FF22: 751842 | FG22: 852067 | FH22: 828672 | FI22: 914187 | FJ22: 806910 | FK22: 750583 | FL22: 780077 | FM22: 799111 | FN22: 810134 | FO22: 9657208 | FP22: 894453 | FQ22: 737901 | FR22: 857943 | FS22: 806147 | FT22: 856999 | FU22: 875629 | FV22: 980051 | FW22: 849803 | FX22: 796715 | FY22: 842286 | FZ22: 859004 | GA22: 874004 | GB22: 10230935 | GC22: 939122 | GD22: 813754 | GE22: 812371 | GF22: 851012 | GG22: 850434 | GH22: 912261 | GI22: 989249 | GJ22: 820595 | GK22: 786018 | GL22: 874546 | GM22: 840781 | GN22: 895956 | GO22: 10386099 | GP22: 964865 | GQ22: 848964 | GR22: 865181 | GS22: 868548 | GT22: 954847 | GU22: 920321 | GV22: 1044856 | GW22: 916250 | GX22: 870597 | GY22: 904225 | GZ22: 916357 | HA22: 954390 | HB22: 11029401 | HC22: 1065246 | HD22: 930773 | HE22: 957057 | HF22: 972861 | HG22: 1038070 | HH22: 1015423 | HI22: 1087169 | HJ22: 1028869 | HK22: 1003261 | HL22: 1000903 | HM22: 997036 | HN22: 1049009 | HO22: 12145677 | HP22: 1151242 | HQ22: 1068295 | HR22: 969374 | HS22: 1138166 | HT22: 1141471 | HU22: 1084148 | HV22: 1149643 | HW22: 1114555 | HX22: 1050520 | HY22: 1081585 | HZ22: 1094745 | IA22: 1103036 | IB22: 13146780 | IC22: 1192539 | ID22: 1097298 | IE22: 1119939 | IF22: 1053282 | IG22: 1129587 | IH22: 1108184 | II22: 1158585 | IJ22: 1141944 | IK22: 1075210 | IL22: 1113823 | IM22: 1106208 | IN22: 1115821 | IO22: 13412420 | IP22: 1208172 | IQ22: 1105197 | IR22: 1114146 | IS22: 1135406 | IT22: 1170642 | IU22: 1117831 | IV22: 1209064 | IW22: 1199775 | IX22: 1126982 | IY22: 1196491 | IZ22: 1155692 | JA22: 1193058 | JB22: 13932456 | JC22: 1302697 | JD22: 1193947 | JE22: 1194569 | JF22: 1247206 | JG22: 1285619 | JH22: 1242560 | JI22: 1346964 | JJ22: 1292960 | JK22: 1258891 | JL22: 1365212 | JM22: 1299062 | JN22: 1324106 | JO22: 15353793 | JP22: 1467930 | JQ22: 1368304 | JR22: 1351534 | JS22: 1353994 | JT22: 1487488 | JU22: 1447342 | JV22: 1511608 | JW22: 1397291 | JX22: 1388935 | JY22: 1455708 | JZ22: 1441138 | KA22: 1483096 | KB22: 17154368 | KC22: 1608882 | KD22: 1520124 | KE22: 1523198 | KF22: 1587486 | KG22: 1717138 | KH22: 1566714 | KI22: 1731435 | KJ22: 1596037 | KK22: 1593095 | KL22: 1671678 | KM22: 1621822 | KN22: 1647469 | KO22: 19385078 | KP22: 1799906 | KQ22: 1651092 | KR22: 1659237 | KS22: 1680441 | KT22: 1815579 | KU22: 1713315 | KV22: 1791168 | KW22: 1720766 | KX22: 1707146 | KY22: 1762508 | KZ22: 1747006 | LA22: 1748321 | LB22: =SUM(KP22:LA22) -> 20796485 | LC22: =VLOOKUP($B22,andmed!$B$4:$C$81,2,FALSE) -> 1850782 | LD22: =VLOOKUP($B22,andmed!$B$4:$AA$81,3,FALSE) -> 1743044 | LE22: =VLOOKUP($B22,andmed!$B$4:$AA$81,4,FALSE) -> 1763038 | LF22: 1763146 | LG22: 1878035 | LH22: 1821798 | LI22: 1903348 | LJ22: 1836970 | LK22: 1822535 | LP22: =SUM(LC22:LN22)/SUM(KP22:KX22)-1 -> 0.054319133 | LQ22: =LC22/KP22-1 -> 0.028265921 | LR22: =LD22/KQ22-1 -> 0.055691627 | LS22: =LE22/KR22-1 -> 0.062559478 | LT22: =LF22/KS22-1 -> 0.049216247 | LU22: =LG22/KT22-1 -> 0.034400045 | LV22: =LH22/KU22-1 -> 0.063317604 | LW22: =LI22/KV22-1 -> 0.062629524 | LX22: =LJ22/KW22-1 -> 0.067530391 | LY22: =LK22/KX22-1 -> 0.067591758 | MC22: =O22 -> 3270434.7 | MD22: =AB22 -> 3466415.3 | ME22: =AO22 -> 4042722.9 | MF22: =BB22 -> 4653710.9 | MG22: =BO22 -> 5630418.4 | MH22: =CB22 -> 7177932.5 | MI22: =CO22 -> 8824592.1 | MJ22: =DB22 -> 7759144.1 | MK22: =DO22 -> 7212677.3 | ML22: =EB22 -> 7635154 | MM22: =EO22 -> 8300011 | MN22: =FB22 -> 9056558 | MO22: =FO22 -> 9657208 | MP22: =GB22 -> 10230935 | MQ22: =GO22 -> 10386099 | MR22: =HB22 -> 11029401 | MS22: =HO22 -> 12145677 | MT22: =IB22 -> 13146780 | MU22: =IO22 -> 13412420 | MV22: =JB22 -> 13932456 | MW22: =JO22 -> 15353793 | MX22: =KB22 -> 17154368 | MY22: =KO22 -> 19385078 | MZ22: =LB22 -> 20796485
A23: Ida-Viru | B23: Kohtla-Järve linn | C23: 797066.84 | D23: 481353.39 | E23: 536218.22 | F23: 513378.5 | G23: 103056.57 | H23: 536499.75 | I23: 673115.44 | J23: 749499.7 | K23: 320804.01 | L23: 596892.94 | M23: 502187.5 | N23: 617476.07 | O23: 6427548.9 | P23: 663694.16 | Q23: 557827.58 | R23: 528424.64 | S23: 470168.09 | T23: 144042.6 | U23: 580279.55 | V23: 711676.02 | W23: 618729.56 | X23: 572099.37 | Y23: 554244.69 | Z23: 612743.6 | AA23: 629382.23 | AB23: 6643312.1 | AC23: 734028.99 | AD23: 565610.42 | AE23: 583524.98 | AF23: 569999.42 | AG23: 660678.93 | AH23: 649074.5 | AI23: 751206.84 | AJ23: 712820.61 | AK23: 586624.51 | AL23: 641238.61 | AM23: 700737.09 | AN23: 696257.08 | AO23: 7851802 | AP23: 813034.08 | AQ23: 648792.07 | AR23: 730093.57 | AS23: 722071.18 | AT23: 741052.37 | AU23: 755498.45 | AV23: 784511.4 | AW23: 771189.14 | AX23: 713545.43 | AY23: 726634.48 | AZ23: 696409.06 | BA23: 819349.44 | BB23: 8922180.7 | BC23: 915127.95 | BD23: 805364.94 | BE23: 840301.66 | BF23: 892807.19 | BG23: 852013.66 | BH23: 829329.44 | BI23: 1081538.7 | BJ23: 898339.7 | BK23: 869700.38 | BL23: 869968.3 | BM23: 900604.6 | BN23: 945612.08 | BO23: 10700709 | BP23: 1189611.7 | BQ23: 1011196.3 | BR23: 1073976.9 | BS23: 1024353.6 | BT23: 1166362.7 | BU23: 1223868.1 | BV23: 1325312.1 | BW23: 1243204.5 | BX23: 1125320.5 | BY23: 1119381.8 | BZ23: 1151414.5 | CA23: 1244150 | CB23: 13898153 | CC23: 1520808.2 | CD23: 1318468.5 | CE23: 1252702.6 | CF23: 1427399.6 | CG23: 1376871.5 | CH23: 1544861.6 | CI23: 1674186.6 | CJ23: 1464847.4 | CK23: 1300234.6 | CL23: 1314039.7 | CM23: 1326946.9 | CN23: 1540604.7 | CO23: 17061972 | CP23: 1453746.1 | CQ23: 1249976.7 | CR23: 1346770.1 | CS23: 1290584.9 | CT23: 1214594.1 | CU23: 1239977.2 | CV23: 1398362 | CW23: 1176547.4 | CX23: 1086135.1 | CY23: 994994.31 | CZ23: 1096982.3 | DA23: 1126200.1 | DB23: 14674870 | DC23: 1157494.1 | DD23: 1047648.9 | DE23: 1064115.7 | DF23: 1044657.5 | DG23: 1093974 | DH23: 1108210.3 | DI23: 1262016.1 | DJ23: 1128472.6 | DK23: 959480.14 | DL23: 1023657.9 | DM23: 1065078.9 | DN23: 1098843.5 | DO23: 13053650 | DP23: 1224241 | DQ23: 1013994 | DR23: 1086251 | DS23: 1044984 | DT23: 1176163 | DU23: 1159630 | DV23: 1356674 | DW23: 1159723 | DX23: 1054816 | DY23: 1113238 | DZ23: 1141870 | EA23: 1155574 | EB23: 13687158 | EC23: 1325876 | ED23: 1068177 | EE23: 1231347 | EF23: 1155619 | EG23: 1332379 | EH23: 1268998 | EI23: 1438455 | EJ23: 1257223 | EK23: 1179555 | EL23: 1190729 | EM23: 1203793 | EN23: 1278641 | EO23: 14930792 | EP23: 1440785 | EQ23: 1256152 | ER23: 1275854 | ES23: 1366482 | ET23: 1389957 | EU23: 1487092 | EV23: 1605446 | EW23: 1390082 | EX23: 1316997 | EY23: 1337127 | EZ23: 1366094 | FA23: 1394101 | FB23: 16626169 | FC23: 1581624 | FD23: 1340876 | FE23: 1338512 | FF23: 1348502 | FG23: 1551077 | FH23: 1475367 | FI23: 1632920 | FJ23: 1488246 | FK23: 1345692 | FL23: 1355918 | FM23: 1438474 | FN23: 1461865 | FO23: 17359073 | FP23: 1632130 | FQ23: 1303137 | FR23: 1544701 | FS23: 1373420 | FT23: 1477709 | FU23: 1517674 | FV23: 1781673 | FW23: 1549035 | FX23: 1408129 | FY23: 1411670 | FZ23: 1524041 | GA23: 1520028 | GB23: 18043347 | GC23: 1613489 | GD23: 1394812 | GE23: 1394810 | GF23: 1484417 | GG23: 1456111 | GH23: 1585654 | GI23: 1665462 | GJ23: 1389026 | GK23: 1308245 | GL23: 1425382 | GM23: 1440182 | GN23: 1491225 | GO23: 17648815 | GP23: 1645325 | GQ23: 1436749 | GR23: 1477913 | GS23: 1447571 | GT23: 1581053 | GU23: 1581857 | GV23: 1786932 | GW23: 1576021 | GX23: 1462953 | GY23: 1508357 | GZ23: 1543914 | HA23: 1606131 | HB23: 18654776 | HC23: 1769764 | HD23: 1591168 | HE23: 1620668 | HF23: 1634291 | HG23: 1689703 | HH23: 1713780 | HI23: 1865489 | HJ23: 1750469 | HK23: 1758365 | HL23: 1648902 | HM23: 1710755 | HN23: 1776824 | HO23: =SUM(HC23:HN23) -> 20530178 | HP23: 1927248 | HQ23: 1998175 | HR23: 1532872 | HS23: 1831591 | HT23: 1846557 | HU23: 1854931 | HV23: 1989351 | HW23: 1877930 | HX23: 1830489 | HY23: 1833337 | HZ23: 1923977 | IA23: 1823736 | IB23: =SUM(HP23:IA23) -> 22270194 | IC23: 2005873 | ID23: 1770524 | IE23: 1828480 | IF23: 1761780 | IG23: 1833028 | IH23: 1843299 | II23: 1933528 | IJ23: 1914180 | IK23: 1750541 | IL23: 1830898 | IM23: 1792481 | IN23: 1803238 | IO23: =SUM(IC23:IN23) -> 22067850 | IP23: 1955290 | IQ23: 1769463 | IR23: 1740436 | IS23: 1830625 | IT23: 1866187 | IU23: 1845769 | IV23: 1969154 | IW23: 1937778 | IX23: 1841890 | IY23: 1881564 | IZ23: 1859601 | JA23: 1929377 | JB23: =SUM(IP23:JA23) -> 22427134 | JC23: 2080965 | JD23: 1849390 | JE23: 1934978 | JF23: 1962672 | JG23: 1996173 | JH23: 1962879 | JI23: 2161672 | JJ23: 2070844 | JK23: 2006052 | JL23: 2093775 | JM23: 2033496 | JN23: 2070323 | JO23: =SUM(JC23:JN23) -> 24223219 | JP23: 2287830 | JQ23: 2029710 | JR23: 2103640 | JS23: 2033334 | JT23: 2270403 | JU23: 2186998 | JV23: 2290936 | JW23: 2155646 | JX23: 2160607 | JY23: 2209886 | JZ23: 2190268 | KA23: 2195074 | KB23: =SUM(JP23:KA23) -> 26114332 | KC23: 2341722 | KD23: 2289778 | KE23: 2296121 | KF23: 2319971 | KG23: 2583091 | KH23: 2409049 | KI23: 2560169 | KJ23: 2432628 | KK23: 2436642 | KL23: 2461944 | KM23: 2422322 | KN23: 2427457 | KO23: =SUM(KC23:KN23) -> 28980894 | KP23: 2632784 | KQ23: 2502259 | KR23: 2526330 | KS23: 2507188 | KT23: 2729960 | KU23: 2621334 | KV23: 2684655 | KW23: 2677341 | KX23: 2660176 | KY23: 2672814 | KZ23: 2643382 | LA23: 2647819 | LB23: =SUM(KP23:LA23) -> 31506042 | LC23: =VLOOKUP($B23,andmed!$B$4:$C$81,2,FALSE) -> 2686243 | LD23: =VLOOKUP($B23,andmed!$B$4:$AA$81,3,FALSE) -> 2699454 | LE23: =VLOOKUP($B23,andmed!$B$4:$AA$81,4,FALSE) -> 2705105 | LF23: 2672864 | LG23: 2888785 | LH23: 2837546 | LI23: 2922174 | LJ23: 2868344 | LK23: 2900456 | LP23: =SUM(LC23:LN23)/SUM(KP23:KX23)-1 -> 0.069617795 | LQ23: =LC23/KP23-1 -> 0.020305122 | LR23: =LD23/KQ23-1 -> 0.07880679 | LS23: =LE23/KR23-1 -> 0.070764706 | LT23: =LF23/KS23-1 -> 0.066080406 | LU23: =LG23/KT23-1 -> 0.058178508 | LV23: =LH23/KU23-1 -> 0.082481668 | LW23: =LI23/KV23-1 -> 0.088472821 | LX23: =LJ23/KW23-1 -> 0.071340558 | LY23: =LK23/KX23-1 -> 0.090324851 | MC23: =O23 -> 6427548.9 | MD23: =AB23 -> 6643312.1 | ME23: =AO23 -> 7851802 | MF23: =BB23 -> 8922180.7 | MG23: =BO23 -> 10700709 | MH23: =CB23 -> 13898153 | MI23: =CO23 -> 17061972 | MJ23: =DB23 -> 14674870 | MK23: =DO23 -> 13053650 | ML23: =EB23 -> 13687158 | MM23: =EO23 -> 14930792 | MN23: =FB23 -> 16626169 | MO23: =FO23 -> 17359073 | MP23: =GB23 -> 18043347 | MQ23: =GO23 -> 17648815 | MR23: =HB23 -> 18654776 | MS23: =HO23 -> 20530178 | MT23: =IB23 -> 22270194 | MU23: =IO23 -> 22067850 | MV23: =JB23 -> 22427134 | MW23: =JO23 -> 24223219 | MX23: =KB23 -> 26114332 | MY23: =KO23 -> 28980894 | MZ23: =LB23 -> 31506042
A24: Ida-Viru | B24: Lüganuse vald | C24: 182151.97 | D24: 120748.47 | E24: 168768.1 | F24: 114101.21 | G24: 36996.28 | H24: 131879.07 | I24: 192525.21 | J24: 166226.14 | K24: 138372.3 | L24: 155017.83 | M24: 156635.44 | N24: 171153.29 | O24: 1734575.3 | P24: 177348.37 | Q24: 141710.85 | R24: 144043.88 | S24: 125393.76 | T24: 83984.572 | U24: 153880.59 | V24: 215727.7 | W24: 158277.01 | X24: 165435.37 | Y24: 168295.6 | Z24: 173459.79 | AA24: 184808.52 | AB24: 1892366 | AC24: 199089.39 | AD24: 166479.17 | AE24: 155434.47 | AF24: 148890.11 | AG24: 183910.05 | AH24: 173166.63 | AI24: 222644.34 | AJ24: 174164.67 | AK24: 194843.99 | AL24: 194030.33 | AM24: 260691.91 | AN24: 199134.32 | AO24: 2272479.4 | AP24: 228567.42 | AQ24: 166196.11 | AR24: 214781.87 | AS24: 229466.59 | AT24: 204013.78 | AU24: 223009.66 | AV24: 245760.1 | AW24: 210140.03 | AX24: 200826.63 | AY24: 237032.07 | AZ24: 212435.93 | BA24: 240436.64 | BB24: 2612666.8 | BC24: 254373.35 | BD24: 225010.1 | BE24: 272169.8 | BF24: 278824.92 | BG24: 225781.38 | BH24: 213123.04 | BI24: 311000.09 | BJ24: 286319.9 | BK24: 246746.39 | BL24: 264028.16 | BM24: 258999.27 | BN24: 272194.92 | BO24: 3108571.3 | BP24: 375877.32 | BQ24: 288777.18 | BR24: 296396.21 | BS24: 304208.45 | BT24: 315192.25 | BU24: 353141.45 | BV24: 358627.31 | BW24: 333586.59 | BX24: 303935.17 | BY24: 340741.06 | BZ24: 332475.43 | CA24: 347819.4 | CB24: 3950777.8 | CC24: 436756.42 | CD24: 370219.6 | CE24: 343827.92 | CF24: 369809.42 | CG24: 393369.87 | CH24: 391763.51 | CI24: 472935.21 | CJ24: 403748.1 | CK24: 346705.23 | CL24: 354334.36 | CM24: 361992.57 | CN24: 403866.59 | CO24: 4649328.8 | CP24: 367145.19 | CQ24: 326596.9 | CR24: 378151.16 | CS24: 336606.23 | CT24: 324092.52 | CU24: 331474.57 | CV24: 372464.11 | CW24: 298950.89 | CX24: 289862.46 | CY24: 279308.48 | CZ24: 318857.58 | DA24: 318806.71 | DB24: 3942316.8 | DC24: 330068.77 | DD24: 286703.69 | DE24: 281210.23 | DF24: 294811.14 | DG24: 297142.89 | DH24: 302571.55 | DI24: 361893.57 | DJ24: 309291.03 | DK24: 264615.25 | DL24: 291079.21 | DM24: 295183.87 | DN24: 312430.3 | DO24: 3627001.5 | DP24: 339228 | DQ24: 279853 | DR24: 298060 | DS24: 295680 | DT24: 312977 | DU24: 325497 | DV24: 381479 | DW24: 316506 | DX24: 286785 | DY24: 321553 | DZ24: 325210 | EA24: 328980 | EB24: 3811808 | EC24: 361089 | ED24: 298864 | EE24: 334443 | EF24: 313758 | EG24: 334542 | EH24: 338934 | EI24: 384054 | EJ24: 348588 | EK24: 314781 | EL24: 326421 | EM24: 328935 | EN24: 346119 | EO24: 4030528 | EP24: 396170 | EQ24: 329791 | ER24: 324884 | ES24: 324300 | ET24: 341197 | EU24: 360224 | EV24: 385656 | EW24: 348828 | EX24: 345018 | EY24: 349584 | EZ24: 353473 | FA24: 357156 | FB24: 4216281 | FC24: 401373 | FD24: 369775 | FE24: 354465 | FF24: 342828 | FG24: 356783 | FH24: 363238 | FI24: 420774 | FJ24: 371426 | FK24: 345541 | FL24: 362987 | FM24: 379021 | FN24: 384634 | FO24: 4452845 | FP24: 434209 | FQ24: 334487 | FR24: 388266 | FS24: 366331 | FT24: 383603 | FU24: 391290 | FV24: 441403 | FW24: 378255 | FX24: 379758 | FY24: 386899 | FZ24: 373593 | GA24: 397550 | GB24: 4655644 | GC24: 430027 | GD24: 360958 | GE24: 377306 | GF24: 383243 | GG24: 395206 | GH24: 397962 | GI24: 446624 | GJ24: 389194 | GK24: 361116 | GL24: 393016 | GM24: 392177 | GN24: 404151 | GO24: 4730980 | GP24: 430560 | GQ24: 371335 | GR24: 393303 | GS24: 384193 | GT24: 410850 | GU24: 417331 | GV24: 473513 | GW24: 416755 | GX24: 386589 | GY24: 419958 | GZ24: 416841 | HA24: 428155 | HB24: 4949383 | HC24: 478301 | HD24: 422428 | HE24: 438252 | HF24: 429058 | HG24: 438169 | HH24: 450401 | HI24: 482702 | HJ24: 456941 | HK24: 439567 | HL24: 455634 | HM24: 451866 | HN24: 468288 | HO24: =SUM(HC24:HN24) -> 5411607 | HP24: 512068 | HQ24: 426414 | HR24: 442816 | HS24: 478495 | HT24: 470317 | HU24: 473730 | HV24: 505518 | HW24: 429582 | HX24: 509160 | HY24: 475202 | HZ24: 471222 | IA24: 474197 | IB24: =SUM(HP24:IA24) -> 5668721 | IC24: 514283 | ID24: 415041 | IE24: 505636 | IF24: 405590 | IG24: 456718 | IH24: 445442 | II24: 502406 | IJ24: 475440 | IK24: 453761 | IL24: 475599 | IM24: 464521 | IN24: 465663 | IO24: =SUM(IC24:IN24) -> 5580100 | IP24: 519216 | IQ24: 448522 | IR24: 466266 | IS24: 458943 | IT24: 480642 | IU24: 467169 | IV24: 488429 | IW24: 513441 | IX24: 503372 | IY24: 519380 | IZ24: 482900 | JA24: 501742 | JB24: =SUM(IP24:JA24) -> 5850022 | JC24: 541767 | JD24: 500438 | JE24: 499052 | JF24: 491539 | JG24: 527763 | JH24: 511643 | JI24: 555996 | JJ24: 525131 | JK24: 512619 | JL24: 556618 | JM24: 518668 | JN24: 541194 | JO24: =SUM(JC24:JN24) -> 6282428 | JP24: 626762 | JQ24: 518882 | JR24: 543378 | JS24: 545599 | JT24: 537769 | JU24: 583196 | JV24: 588182 | JW24: 520452 | JX24: 558015 | JY24: 605334 | JZ24: 610369 | KA24: 593238 | KB24: =SUM(JP24:KA24) -> 6831176 | KC24: 645571 | KD24: 604784 | KE24: 631259 | KF24: 634610 | KG24: 704563 | KH24: 637760 | KI24: 687381 | KJ24: 642813 | KK24: 659141 | KL24: 662776 | KM24: 646720 | KN24: 656319 | KO24: =SUM(KC24:KN24) -> 7813697 | KP24: 732827 | KQ24: 683097 | KR24: 687611 | KS24: 684000 | KT24: 722751 | KU24: 715061 | KV24: 727680 | KW24: 712536 | KX24: 712018 | KY24: 712957 | KZ24: 707259 | LA24: 720928 | LB24: =SUM(KP24:LA24) -> 8518725 | LC24: =VLOOKUP($B24,andmed!$B$4:$C$81,2,FALSE) -> 756817 | LD24: =VLOOKUP($B24,andmed!$B$4:$AA$81,3,FALSE) -> 729238 | LE24: =VLOOKUP($B24,andmed!$B$4:$AA$81,4,FALSE) -> 747762 | LF24: 750035 | LG24: 776155 | LH24: 775840 | LI24: 794315 | LJ24: 778415 | LK24: 784316 | LP24: =SUM(LC24:LN24)/SUM(KP24:KX24)-1 -> 0.080800542 | LQ24: =LC24/KP24-1 -> 0.032736239 | LR24: =LD24/KQ24-1 -> 0.067546776 | LS24: =LE24/KR24-1 -> 0.08747824 | LT24: =LF24/KS24-1 -> 0.096542398 | LU24: =LG24/KT24-1 -> 0.073889901 | LV24: =LH24/KU24-1 -> 0.084998343 | LW24: =LI24/KV24-1 -> 0.091571845 | LX24: =LJ24/KW24-1 -> 0.092457083 | LY24: =LK24/KX24-1 -> 0.10153957 | MC24: =O24 -> 1734575.3 | MD24: =AB24 -> 1892366 | ME24: =AO24 -> 2272479.4 | MF24: =BB24 -> 2612666.8 | MG24: =BO24 -> 3108571.3 | MH24: =CB24 -> 3950777.8 | MI24: =CO24 -> 4649328.8 | MJ24: =DB24 -> 3942316.8 | MK24: =DO24 -> 3627001.5 | ML24: =EB24 -> 3811808 | MM24: =EO24 -> 4030528 | MN24: =FB24 -> 4216281 | MO24: =FO24 -> 4452845 | MP24: =GB24 -> 4655644 | MQ24: =GO24 -> 4730980 | MR24: =HB24 -> 4949383 | MS24: =HO24 -> 5411607 | MT24: =IB24 -> 5668721 | MU24: =IO24 -> 5580100 | MV24: =JB24 -> 5850022 | MW24: =JO24 -> 6282428 | MX24: =KB24 -> 6831176 | MY24: =KO24 -> 7813697 | MZ24: =LB24 -> 8518725
A25: Ida-Viru | B25: Narva linn | C25: 1050469.8 | D25: 572632.9 | E25: 866940.93 | F25: 764017.17 | G25: 51214.449 | H25: 729832.68 | I25: 1004902.9 | J25: 730547.47 | K25: 882969.97 | L25: 833910.24 | M25: 805177.16 | N25: 997052.97 | O25: 9289668.7 | P25: 779024.39 | Q25: 879495.29 | R25: 752849.69 | S25: 714704.34 | T25: 235455.05 | U25: 661622.72 | V25: 1152246.4 | W25: 694502.26 | X25: 910038.09 | Y25: 1098868.6 | Z25: 904353.73 | AA25: 1130008.2 | AB25: 9913168.8 | AC25: 849882.85 | AD25: 863476.92 | AE25: 860816.02 | AF25: 930039.63 | AG25: 1071655.8 | AH25: 1085357.3 | AI25: 1300241.9 | AJ25: 953579.95 | AK25: 1026179.9 | AL25: 901999.35 | AM25: 1183129.9 | AN25: 989220.34 | AO25: 12015580 | AP25: 1291539.7 | AQ25: 898966.93 | AR25: 1040656.2 | AS25: 985487.97 | AT25: 1010616.7 | AU25: 1187111 | AV25: 1147657.3 | AW25: 1156258.7 | AX25: 1079000.2 | AY25: 1100043.6 | AZ25: 1017969.4 | BA25: 1154013.3 | BB25: 13069321 | BC25: 1270148.8 | BD25: 1136814.3 | BE25: 1132444.3 | BF25: 1168946 | BG25: 1201964.1 | BH25: 1274247.2 | BI25: 1501680.4 | BJ25: 1108425.6 | BK25: 1419361.9 | BL25: 1278864.7 | BM25: 1274999 | BN25: 1265978.2 | BO25: 15033875 | BP25: 1653775.1 | BQ25: 1478533.9 | BR25: 1476924.1 | BS25: 1439408.9 | BT25: 1551617.5 | BU25: 1680031.9 | BV25: 1886302.2 | BW25: 1839783.1 | BX25: 1493881.2 | BY25: 1700066.1 | BZ25: 1607063.7 | CA25: 1713780.9 | CB25: 19521169 | CC25: 2199376.5 | CD25: 1829120.3 | CE25: 1614044.9 | CF25: 2057932.5 | CG25: 1906533.9 | CH25: 2016627.2 | CI25: 2246100.2 | CJ25: 1962070.9 | CK25: 1901462.6 | CL25: 2015603.5 | CM25: 1781700.1 | CN25: 2024277.3 | CO25: 23554850 | CP25: 2039864.2 | CQ25: 1686499.9 | CR25: 1742239.1 | CS25: 1682130.2 | CT25: 1601731 | CU25: 1577958.8 | CV25: 1856003.3 | CW25: 1477519.9 | CX25: 1407824.2 | CY25: 1391045 | CZ25: 1440274.5 | DA25: 1410187.5 | DB25: 19313278 | DC25: 1457302.9 | DD25: 1216088.5 | DE25: 1407395.5 | DF25: 1503132.3 | DG25: 1374642.9 | DH25: 1435128.8 | DI25: 1619741.5 | DJ25: 1408567 | DK25: 1239386.1 | DL25: 1364410.5 | DM25: 1351727.7 | DN25: 1435454.3 | DO25: 16812978 | DP25: 1676495 | DQ25: 1308932 | DR25: 1422384 | DS25: 1401023 | DT25: 1481806 | DU25: 1586422 | DV25: 1696795 | DW25: 1481420 | DX25: 1395886 | DY25: 1506507 | DZ25: 1539477 | EA25: 1539696 | EB25: 18036843 | EC25: 1688063 | ED25: 1462193 | EE25: 1611312 | EF25: 1506604 | EG25: 1595559 | EH25: 1626336 | EI25: 1817394 | EJ25: 1529733 | EK25: 1461556 | EL25: 1539536 | EM25: 1548155 | EN25: 1608346 | EO25: 18994787 | EP25: 1761245 | EQ25: 1592592 | ER25: 1585896 | ES25: 1735355 | ET25: 1838355 | EU25: 1762587 | EV25: 2026611 | EW25: 1808597 | EX25: 1642012 | EY25: 1705004 | EZ25: 1776773 | FA25: 1751293 | FB25: 20986320 | FC25: 2038519 | FD25: 1723594 | FE25: 1774736 | FF25: 1805885 | FG25: 1975873 | FH25: 1887427 | FI25: 2152638 | FJ25: 1895975 | FK25: 1742240 | FL25: 1823541 | FM25: 1854600 | FN25: 1889324 | FO25: 22564352 | FP25: 2084970 | FQ25: 1599509 | FR25: 2176880 | FS25: 1956169 | FT25: 2018943 | FU25: 2014859 | FV25: 2296370 | FW25: 1995016 | FX25: 1894297 | FY25: 2087794 | FZ25: 1983661 | GA25: 1937733 | GB25: 24046201 | GC25: 2136045 | GD25: 1832532 | GE25: 1885097 | GF25: 2006476 | GG25: 2063427 | GH25: 2184659 | GI25: 2243826 | GJ25: 2026550 | GK25: 1836827 | GL25: 2065365 | GM25: 1967242 | GN25: 2036345 | GO25: 24284391 | GP25: 2194353 | GQ25: 1980831 | GR25: 2080702 | GS25: 2065905 | GT25: 2201431 | GU25: 2177697 | GV25: 2379102 | GW25: 2158822 | GX25: 2004748 | GY25: 2152748 | GZ25: 2135094 | HA25: 2155077 | HB25: 25686510 | HC25: 2433162 | HD25: 2171357 | HE25: 2328345 | HF25: 2220681 | HG25: 2386940 | HH25: 2386719 | HI25: 2683699 | HJ25: 2346905 | HK25: 2262975 | HL25: 2397367 | HM25: 2348104 | HN25: 2401566 | HO25: =SUM(HC25:HN25) -> 28367820 | HP25: 2637309 | HQ25: 2551757 | HR25: 2142196 | HS25: 2636670 | HT25: 2635868 | HU25: 2571832 | HV25: 2807219 | HW25: 2513867 | HX25: 2464061 | HY25: 2541667 | HZ25: 2553321 | IA25: 2522676 | IB25: =SUM(HP25:IA25) -> 30578443 | IC25: 2841173 | ID25: 2529787 | IE25: 2598772 | IF25: 2306088 | IG25: 2607976 | IH25: 2471219 | II25: 2709671 | IJ25: 2535030 | IK25: 2487248 | IL25: 2587456 | IM25: 2594536 | IN25: 2489833 | IO25: =SUM(IC25:IN25) -> 30758789 | IP25: 2753688 | IQ25: 2378455 | IR25: 2455230 | IS25: 2438491 | IT25: 2627283 | IU25: 2542605 | IV25: 2800149 | IW25: 2568270 | IX25: 2530979 | IY25: 2755015 | IZ25: 2748952 | JA25: 2736501 | JB25: =SUM(IP25:JA25) -> 31335618 | JC25: 2938445 | JD25: 2635697 | JE25: 2767497 | JF25: 2703473 | JG25: 2961717 | JH25: 2845965 | JI25: 3103820 | JJ25: 2859433 | JK25: 2817461 | JL25: 3513127 | JM25: 2965414 | JN25: 2923768 | JO25: =SUM(JC25:JN25) -> 35035817 | JP25: 3194231 | JQ25: 2915666 | JR25: 2968426 | JS25: 2889485 | JT25: 3307635 | JU25: 3112012 | JV25: 3423038 | JW25: 3004086 | JX25: 2964336 | JY25: 3275762 | JZ25: 3154675 | KA25: 3131385 | KB25: =SUM(JP25:KA25) -> 37340737 | KC25: 3377157 | KD25: 3361331 | KE25: 3324408 | KF25: 3394689 | KG25: 3649331 | KH25: 3463125 | KI25: 3811908 | KJ25: 3451569 | KK25: 3420247 | KL25: 3605817 | KM25: 3531880 | KN25: 3502006 | KO25: =SUM(KC25:KN25) -> 41893468 | KP25: 3741015 | KQ25: 3656086 | KR25: 3608582 | KS25: 3608035 | KT25: 3882842 | KU25: 3800458 | KV25: 3983592 | KW25: 3788821 | KX25: 3733725 | KY25: 3940750 | KZ25: 3882273 | LA25: 3843808 | LB25: =SUM(KP25:LA25) -> 45469987 | LC25: =VLOOKUP($B25,andmed!$B$4:$C$81,2,FALSE) -> 3951090 | LD25: =VLOOKUP($B25,andmed!$B$4:$AA$81,3,FALSE) -> 3948789 | LE25: =VLOOKUP($B25,andmed!$B$4:$AA$81,4,FALSE) -> 3991884 | LF25: 3900652 | LG25: 4253674 | LH25: 4158733 | LI25: 4427506 | LJ25: 4132462 | LK25: 4177855 | LP25: =SUM(LC25:LN25)/SUM(KP25:KX25)-1 -> 0.092875618 | LQ25: =LC25/KP25-1 -> 0.056154546 | LR25: =LD25/KQ25-1 -> 0.080059112 | LS25: =LE25/KR25-1 -> 0.10621956 | LT25: =LF25/KS25-1 -> 0.081101486 | LU25: =LG25/KT25-1 -> 0.095505303 | LV25: =LH25/KU25-1 -> 0.094271533 | LW25: =LI25/KV25-1 -> 0.11143561 | LX25: =LJ25/KW25-1 -> 0.090698663 | LY25: =LK25/KX25-1 -> 0.11895091 | MC25: =O25 -> 9289668.7 | MD25: =AB25 -> 9913168.8 | ME25: =AO25 -> 12015580 | MF25: =BB25 -> 13069321 | MG25: =BO25 -> 15033875 | MH25: =CB25 -> 19521169 | MI25: =CO25 -> 23554850 | MJ25: =DB25 -> 19313278 | MK25: =DO25 -> 16812978 | ML25: =EB25 -> 18036843 | MM25: =EO25 -> 18994787 | MN25: =FB25 -> 20986320 | MO25: =FO25 -> 22564352 | MP25: =GB25 -> 24046201 | MQ25: =GO25 -> 24284391 | MR25: =HB25 -> 25686510 | MS25: =HO25 -> 28367820 | MT25: =IB25 -> 30578443 | MU25: =IO25 -> 30758789 | MV25: =JB25 -> 31335618 | MW25: =JO25 -> 35035817 | MX25: =KB25 -> 37340737 | MY25: =KO25 -> 41893468 | MZ25: =LB25 -> 45469987
A26: Ida-Viru | B26: Narva-Jõesuu linn | C26: 48049.8 | D26: 29931.678 | E26: 34790.753 | F26: 37207.189 | G26: 5199.4683 | H26: 21129.766 | I26: 51045.722 | J26: 36479.491 | K26: 39472.793 | L26: 38656.13 | M26: 35718.303 | N26: 50326.78 | O26: 428007.87 | P26: 43433.142 | Q26: 35900.963 | R26: 38994.606 | S26: 24198.484 | T26: 27448.711 | U26: 27256.848 | V26: 56541.293 | W26: 49560.416 | X26: 44636.279 | Y26: 49991.18 | Z26: 45968.517 | AA26: 55928.061 | AB26: 499858.5 | AC26: 53539.235 | AD26: 49026.753 | AE26: 46849.411 | AF26: 51435.711 | AG26: 53703.233 | AH26: 58673.897 | AI26: 60570.859 | AJ26: 64767.937 | AK26: 49883.361 | AL26: 54420.96 | AM26: 76905.27 | AN26: 63455.767 | AO26: 683232.4 | AP26: 65489.563 | AQ26: 53114.095 | AR26: 65673.948 | AS26: 68427.326 | AT26: 66444.723 | AU26: 67474.339 | AV26: 72050.797 | AW26: 65881.981 | AX26: 62042.68 | AY26: 74010.392 | AZ26: 60884.537 | BA26: 64491.008 | BB26: 785985.39 | BC26: 78798.269 | BD26: 74642.99 | BE26: 85907.609 | BF26: 79091.752 | BG26: 81039.651 | BH26: 85997.916 | BI26: 97341.851 | BJ26: 86259.635 | BK26: 89203.405 | BL26: 81234.262 | BM26: 87291.488 | BN26: 89072.45 | BO26: 1015881.3 | BP26: 118733.21 | BQ26: 96514.067 | BR26: 106797 | BS26: 108672.81 | BT26: 118759.73 | BU26: 126878.56 | BV26: 135469.18 | BW26: 127603.06 | BX26: 106908.59 | BY26: 119245.52 | BZ26: 117481.63 | CA26: 117047.03 | CB26: 1400110.4 | CC26: 157212.69 | CD26: 133154.04 | CE26: 119514.53 | CF26: 130039.82 | CG26: 144245.71 | CH26: 147815.95 | CI26: 162718.29 | CJ26: 143721.77 | CK26: 131284.94 | CL26: 139399.93 | CM26: 130119.71 | CN26: 151969.12 | CO26: 1691196.5 | CP26: 154713.36 | CQ26: 128333.82 | CR26: 133123.23 | CS26: 131471.76 | CT26: 122394.71 | CU26: 122148.58 | CV26: 135925.89 | CW26: 131790.1 | CX26: 110054.39 | CY26: 128257.07 | CZ26: 108582.06 | DA26: 115162.53 | DB26: 1521957.5 | DC26: 122562.6 | DD26: 104363.95 | DE26: 110629.27 | DF26: 113116.72 | DG26: 113819.87 | DH26: 119621.71 | DI26: 125373.56 | DJ26: 117276.02 | DK26: 102905.55 | DL26: 119136.04 | DM26: 111173.16 | DN26: 118913.5 | DO26: 1378892 | DP26: 136163 | DQ26: 109390 | DR26: 121104 | DS26: 115170 | DT26: 121893 | DU26: 129272 | DV26: 132792 | DW26: 115893 | DX26: 114205 | DY26: 113022 | DZ26: 114985 | EA26: 125533 | EB26: 1449422 | EC26: 143148 | ED26: 121466 | EE26: 129097 | EF26: 121823 | EG26: 136818 | EH26: 139737 | EI26: 144748 | EJ26: 127582 | EK26: 122420 | EL26: 121243 | EM26: 121994 | EN26: 137000 | EO26: 1567076 | EP26: 155213 | EQ26: 134406 | ER26: 134818 | ES26: 135898 | ET26: 152919 | EU26: 148759 | EV26: 157533 | EW26: 143725 | EX26: 137224 | EY26: 137113 | EZ26: 146676 | FA26: 152134 | FB26: 1736418 | FC26: 173639 | FD26: 147709 | FE26: 156403 | FF26: 146308 | FG26: 170364 | FH26: 162516 | FI26: 186125 | FJ26: 155199 | FK26: 148563 | FL26: 167382 | FM26: 150231 | FN26: 159524 | FO26: 1923963 | FP26: 173368 | FQ26: 136492 | FR26: 192688 | FS26: 162697 | FT26: 165141 | FU26: 168832 | FV26: 180442 | FW26: 164800 | FX26: 156959 | FY26: 160536 | FZ26: 174240 | GA26: 161428 | GB26: 1997623 | GC26: 195709 | GD26: 160945 | GE26: 160357 | GF26: 165111 | GG26: 172228 | GH26: 188665 | GI26: 195715 | GJ26: 166948 | GK26: 157931 | GL26: 198721 | GM26: 164608 | GN26: 169564 | GO26: 2096502 | GP26: 204748 | GQ26: 184666 | GR26: 196847 | GS26: 184197 | GT26: 203390 | GU26: 201164 | GV26: 223412 | GW26: 192457 | GX26: 187379 | GY26: 202820 | GZ26: 203795 | HA26: 205058 | HB26: 2389933 | HC26: 233386 | HD26: 207993 | HE26: 225985 | HF26: 209889 | HG26: 225204 | HH26: 228000 | HI26: 258494 | HJ26: 225497 | HK26: 241029 | HL26: 214495 | HM26: 218397 | HN26: 237499 | HO26: =SUM(HC26:HN26) -> 2725868 | HP26: 267036 | HQ26: 218982 | HR26: 232257 | HS26: 246222 | HT26: 242708 | HU26: 235176 | HV26: 249285 | HW26: 231632 | HX26: 226755 | HY26: 230959 | HZ26: 230692 | IA26: 237330 | IB26: =SUM(HP26:IA26) -> 2849034 | IC26: 280738 | ID26: 238716 | IE26: 262303 | IF26: 218979 | IG26: 240207 | IH26: 248119 | II26: 259421 | IJ26: 245332 | IK26: 241599 | IL26: 256266 | IM26: 242454 | IN26: 243367 | IO26: =SUM(IC26:IN26) -> 2977501 | IP26: 276001 | IQ26: 238602 | IR26: 251311 | IS26: 253409 | IT26: 256192 | IU26: 239416 | IV26: 265693 | IW26: 251768 | IX26: 255595 | IY26: 274242 | IZ26: 257309 | JA26: 271766 | JB26: =SUM(IP26:JA26) -> 3091304 | JC26: 294212 | JD26: 269073 | JE26: 273816 | JF26: 277308 | JG26: 296634 | JH26: 285767 | JI26: 300020 | JJ26: 286553 | JK26: 284914 | JL26: 307822 | JM26: 291461 | JN26: 288986 | JO26: =SUM(JC26:JN26) -> 3456566 | JP26: 329524 | JQ26: 304419 | JR26: 309936 | JS26: 301990 | JT26: 330634 | JU26: 321483 | JV26: 337455 | JW26: 313665 | JX26: 315439 | JY26: 342724 | JZ26: 319237 | KA26: 338564 | KB26: =SUM(JP26:KA26) -> 3865070 | KC26: 345970 | KD26: 354822 | KE26: 362170 | KF26: 355675 | KG26: 383130 | KH26: 369102 | KI26: 393640 | KJ26: 364745 | KK26: 371295 | KL26: 428053 | KM26: 373121 | KN26: 372226 | KO26: =SUM(KC26:KN26) -> 4473949 | KP26: 404561 | KQ26: 397662 | KR26: 395717 | KS26: 389562 | KT26: 413357 | KU26: 410958 | KV26: 421620 | KW26: 416632 | KX26: 407593 | KY26: 437632 | KZ26: 418723 | LA26: 410142 | LB26: =SUM(KP26:LA26) -> 4924159 | LC26: =VLOOKUP($B26,andmed!$B$4:$C$81,2,FALSE) -> 436091 | LD26: =VLOOKUP($B26,andmed!$B$4:$AA$81,3,FALSE) -> 450131 | LE26: =VLOOKUP($B26,andmed!$B$4:$AA$81,4,FALSE) -> 439185 | LF26: 427643 | LG26: 502021 | LH26: 461691 | LI26: 483891 | LJ26: 459116 | LK26: 457019 | LP26: =SUM(LC26:LN26)/SUM(KP26:KX26)-1 -> 0.12552445 | LQ26: =LC26/KP26-1 -> 0.077936331 | LR26: =LD26/KQ26-1 -> 0.13194371 | LS26: =LE26/KR26-1 -> 0.10984618 | LT26: =LF26/KS26-1 -> 0.097753374 | LU26: =LG26/KT26-1 -> 0.2144974 | LV26: =LH26/KU26-1 -> 0.12345057 | LW26: =LI26/KV26-1 -> 0.14769461 | LX26: =LJ26/KW26-1 -> 0.10197008 | LY26: =LK26/KX26-1 -> 0.12126312 | MC26: =O26 -> 428007.87 | MD26: =AB26 -> 499858.5 | ME26: =AO26 -> 683232.4 | MF26: =BB26 -> 785985.39 | MG26: =BO26 -> 1015881.3 | MH26: =CB26 -> 1400110.4 | MI26: =CO26 -> 1691196.5 | MJ26: =DB26 -> 1521957.5 | MK26: =DO26 -> 1378892 | ML26: =EB26 -> 1449422 | MM26: =EO26 -> 1567076 | MN26: =FB26 -> 1736418 | MO26: =FO26 -> 1923963 | MP26: =GB26 -> 1997623 | MQ26: =GO26 -> 2096502 | MR26: =HB26 -> 2389933 | MS26: =HO26 -> 2725868 | MT26: =IB26 -> 2849034 | MU26: =IO26 -> 2977501 | MV26: =JB26 -> 3091304 | MW26: =JO26 -> 3456566 | MX26: =KB26 -> 3865070 | MY26: =KO26 -> 4473949 | MZ26: =LB26 -> 4924159
A27: Ida-Viru | B27: Sillamäe linn | C27: 252352.78 | D27: 199624.46 | E27: 194194.14 | F27: 174743.84 | G27: 25862.232 | H27: 201069.18 | I27: 272149.86 | J27: 197384.29 | K27: 196396.28 | L27: 200740.86 | M27: 194526.48 | N27: 222720.59 | O27: 2331765 | P27: 268763.12 | Q27: 168448.61 | R27: 240860.7 | S27: 167420.78 | T27: 85479.785 | U27: 207134.46 | V27: 266266.92 | W27: 224813.44 | X27: 218495.97 | Y27: 216963.88 | Z27: 197201.24 | AA27: 272303.12 | AB27: 2534152 | AC27: 272226.17 | AD27: 237349.2 | AE27: 210306.52 | AF27: 175793.72 | AG27: 267429.79 | AH27: 234469.21 | AI27: 271494.7 | AJ27: 241013.32 | AK27: 241882.39 | AL27: 240669.6 | AM27: 299617.36 | AN27: 228867.68 | AO27: 2921119.7 | AP27: 310542.93 | AQ27: 255905.18 | AR27: 247491.28 | AS27: 253328.71 | AT27: 298888.26 | AU27: 276431.62 | AV27: 304703.77 | AW27: 285096.51 | AX27: 265643.08 | AY27: 263427.07 | AZ27: 278564.16 | BA27: 331241.87 | BB27: 3371264.4 | BC27: 315731.79 | BD27: 286377.36 | BE27: 327967.87 | BF27: 273699.78 | BG27: 357635.01 | BH27: 290543.31 | BI27: 357126.92 | BJ27: 358406.11 | BK27: 360625.44 | BL27: 320251.36 | BM27: 333576.94 | BN27: 338630.25 | BO27: 3920572.1 | BP27: 463916.44 | BQ27: 360164.89 | BR27: 355026.65 | BS27: 375438.88 | BT27: 480761.83 | BU27: 409775.86 | BV27: 450152.37 | BW27: 453840.2 | BX27: 395293.87 | BY27: 413645.33 | BZ27: 417479.77 | CA27: 440602.3 | CB27: 5016098.4 | CC27: 544941.46 | CD27: 455609.21 | CE27: 470178.06 | CF27: 473140.43 | CG27: 528657.41 | CH27: 520424.12 | CI27: 575409.23 | CJ27: 513677.67 | CK27: 458630.44 | CL27: 450761.7 | CM27: 451078.13 | CN27: 493718.89 | CO27: 5936226.7 | CP27: 515692.42 | CQ27: 441567.5 | CR27: 465255.71 | CS27: 444483.02 | CT27: 428862.44 | CU27: 416553.18 | CV27: 459440.52 | CW27: 425587.99 | CX27: 374025.92 | CY27: 336436.67 | CZ27: 380398.81 | DA27: 390960.02 | DB27: 5079264.2 | DC27: 423637.72 | DD27: 369686.07 | DE27: 370911.96 | DF27: 400334.9 | DG27: 395701.81 | DH27: 392653.61 | DI27: 447542.66 | DJ27: 417737.34 | DK27: 345982.9 | DL27: 373370.76 | DM27: 390188.86 | DN27: 397073.55 | DO27: 4724822.1 | DP27: 450865 | DQ27: 383752 | DR27: 424285 | DS27: 397380 | DT27: 458913 | DU27: 442458 | DV27: 492352 | DW27: 467288 | DX27: 400926 | DY27: 421832 | DZ27: 433889 | EA27: 445687 | EB27: 5219627 | EC27: 491000 | ED27: 451430 | EE27: 457508 | EF27: 447460 | EG27: 518158 | EH27: 493721 | EI27: 544809 | EJ27: 502047 | EK27: 450059 | EL27: 466057 | EM27: 475501 | EN27: 481712 | EO27: 5779462 | EP27: 544941 | EQ27: 505519 | ER27: 483025 | ES27: 468750 | ET27: 582764 | EU27: 543082 | EV27: 597158 | EW27: 539991 | EX27: 487043 | EY27: 491999 | EZ27: 516396 | FA27: 520254 | FB27: 6280922 | FC27: 609521 | FD27: 523757 | FE27: 533443 | FF27: 521772 | FG27: 583613 | FH27: 560795 | FI27: 617853 | FJ27: 567848 | FK27: 515315 | FL27: 508402 | FM27: 540979 | FN27: 545009 | FO27: 6628307 | FP27: 613202 | FQ27: 520111 | FR27: 584171 | FS27: 549768 | FT27: 599568 | FU27: 551728 | FV27: 679244 | FW27: 600357 | FX27: 518005 | FY27: 531258 | FZ27: 563735 | GA27: 547808 | GB27: 6858955 | GC27: 641469 | GD27: 589079 | GE27: 573475 | GF27: 557809 | GG27: 570784 | GH27: 571251 | GI27: 632897 | GJ27: 550993 | GK27: 512423 | GL27: 568412 | GM27: 540947 | GN27: 555529 | GO27: 6865068 | GP27: 622172 | GQ27: 566770 | GR27: 551497 | GS27: 560671 | GT27: 619625 | GU27: 608150 | GV27: 663565 | GW27: 601304 | GX27: 544056 | GY27: 574282 | GZ27: 560286 | HA27: 583197 | HB27: 7055575 | HC27: 673162 | HD27: 588397 | HE27: 590496 | HF27: 604485 | HG27: 684120 | HH27: 648779 | HI27: 677878 | HJ27: 667065 | HK27: 665027 | HL27: 621055 | HM27: 632441 | HN27: 647250 | HO27: =SUM(HC27:HN27) -> 7700155 | HP27: 722828 | HQ27: 747086 | HR27: 571723 | HS27: 708625 | HT27: 737669 | HU27: 689225 | HV27: 704142 | HW27: 704182 | HX27: 689494 | HY27: 666480 | HZ27: 651101 | IA27: 645940 | IB27: =SUM(HP27:IA27) -> 8238495 | IC27: 734893 | ID27: 635014 | IE27: 670629 | IF27: 610854 | IG27: 688462 | IH27: 654021 | II27: 683177 | IJ27: 694447 | IK27: 643826 | IL27: 680884 | IM27: 652932 | IN27: 655141 | IO27: =SUM(IC27:IN27) -> 8004280 | IP27: 750834 | IQ27: 640815 | IR27: 636572 | IS27: 650463 | IT27: 711789 | IU27: 654659 | IV27: 683652 | IW27: 677514 | IX27: 679191 | IY27: 699906 | IZ27: 663190 | JA27: 690320 | JB27: =SUM(IP27:JA27) -> 8138905 | JC27: 743606 | JD27: 673097 | JE27: 700646 | JF27: 671096 | JG27: 760647 | JH27: 716657 | JI27: 730010 | JJ27: 719198 | JK27: 716998 | JL27: 745196 | JM27: 720769 | JN27: 712059 | JO27: =SUM(JC27:JN27) -> 8609979 | JP27: 786938 | JQ27: 737881 | JR27: 730581 | JS27: 738218 | JT27: 793290 | JU27: 808431 | JV27: 798011 | JW27: 763870 | JX27: 767186 | JY27: 772092 | JZ27: 750709 | KA27: 760305 | KB27: =SUM(JP27:KA27) -> 9207512 | KC27: 843934 | KD27: 837644 | KE27: 900087 | KF27: 833234 | KG27: 904259 | KH27: 852366 | KI27: 900849 | KJ27: 857069 | KK27: 829933 | KL27: 837492 | KM27: 836608 | KN27: 827194 | KO27: =SUM(KC27:KN27) -> 10260669 | KP27: 925449 | KQ27: 902049 | KR27: 900513 | KS27: 892416 | KT27: 945881 | KU27: 929452 | KV27: 953626 | KW27: 940172 | KX27: 917111 | KY27: 933530 | KZ27: 925035 | LA27: 905222 | LB27: =SUM(KP27:LA27) -> 11070456 | LC27: =VLOOKUP($B27,andmed!$B$4:$C$81,2,FALSE) -> 964296 | LD27: =VLOOKUP($B27,andmed!$B$4:$AA$81,3,FALSE) -> 965238 | LE27: =VLOOKUP($B27,andmed!$B$4:$AA$81,4,FALSE) -> 956505 | LF27: 954184 | LG27: 1042520 | LH27: 1034281 | LI27: 1050391 | LJ27: 1034888 | LK27: 1068612 | LP27: =SUM(LC27:LN27)/SUM(KP27:KX27)-1 -> 0.092003907 | LQ27: =LC27/KP27-1 -> 0.041976381 | LR27: =LD27/KQ27-1 -> 0.070050518 | LS27: =LE27/KR27-1 -> 0.062177892 | LT27: =LF27/KS27-1 -> 0.069214357 | LU27: =LG27/KT27-1 -> 0.10216824 | LV27: =LH27/KU27-1 -> 0.11278581 | LW27: =LI27/KV27-1 -> 0.1014706 | LX27: =LJ27/KW27-1 -> 0.10074327 | LY27: =LK27/KX27-1 -> 0.16519374 | MC27: =O27 -> 2331765 | MD27: =AB27 -> 2534152 | ME27: =AO27 -> 2921119.7 | MF27: =BB27 -> 3371264.4 | MG27: =BO27 -> 3920572.1 | MH27: =CB27 -> 5016098.4 | MI27: =CO27 -> 5936226.7 | MJ27: =DB27 -> 5079264.2 | MK27: =DO27 -> 4724822.1 | ML27: =EB27 -> 5219627 | MM27: =EO27 -> 5779462 | MN27: =FB27 -> 6280922 | MO27: =FO27 -> 6628307 | MP27: =GB27 -> 6858955 | MQ27: =GO27 -> 6865068 | MR27: =HB27 -> 7055575 | MS27: =HO27 -> 7700155 | MT27: =IB27 -> 8238495 | MU27: =IO27 -> 8004280 | MV27: =JB27 -> 8138905 | MW27: =JO27 -> 8609979 | MX27: =KB27 -> 9207512 | MY27: =KO27 -> 10260669 | MZ27: =LB27 -> 11070456
A28: Jõgeva | B28: Jõgeva vald | C28: 237658.28 | D28: 166232.54 | E28: 191500.07 | F28: 165374.84 | G28: 35628.571 | H28: 164476.76 | I28: 279320.87 | J28: 193646.67 | K28: 193323.15 | L28: 223724.26 | M28: 205116.19 | N28: 278714.1 | O28: 2334716.3 | P28: 226923.1 | Q28: 198900.02 | R28: 197976.17 | S28: 140259.48 | T28: 85857.183 | U28: 180930.49 | V28: 302092.6 | W28: 236073.78 | X28: 235235.9 | Y28: 228674.86 | Z28: 233269.66 | AA28: 285259.61 | AB28: 2551452.8 | AC28: 267448.58 | AD28: 215118.11 | AE28: 199799.13 | AF28: 203374.47 | AG28: 261319.65 | AH28: 269023.37 | AI28: 314706.65 | AJ28: 236545.13 | AK28: 237358.4 | AL28: 262255.83 | AM28: 331942.15 | AN28: 326181.53 | AO28: 3125073 | AP28: 271910.19 | AQ28: 233015.16 | AR28: 255250.85 | AS28: 275046.78 | AT28: 286559.83 | AU28: 291457.7 | AV28: 361745.3 | AW28: 287905.55 | AX28: 296613.77 | AY28: 296953.78 | AZ28: 304305.09 | BA28: 358711.54 | BB28: 3519475.5 | BC28: 361246.66 | BD28: 286857.98 | BE28: 357861.32 | BF28: 323048.91 | BG28: 345420.41 | BH28: 361463.39 | BI28: 442607.85 | BJ28: 356894.41 | BK28: 381751.95 | BL28: 366160 | BM28: 399497.14 | BN28: 423648.4 | BO28: 4406458.4 | BP28: 492595.9 | BQ28: 393666.61 | BR28: 397913.48 | BS28: 449221.04 | BT28: 427432.48 | BU28: 423546.9 | BV28: 598424.07 | BW28: 465183.23 | BX28: 450725.72 | BY28: 476532.86 | BZ28: 500098.3 | CA28: 507670.74 | CB28: 5583011.3 | CC28: 615679.7 | CD28: 455231.94 | CE28: 478282.25 | CF28: 536430.53 | CG28: 518651.34 | CH28: 544488.58 | CI28: 700074.71 | CJ28: 527521.44 | CK28: 496651.54 | CL28: 530191.67 | CM28: 529785.45 | CN28: 563869.91 | CO28: 6496859.1 | CP28: 579853.26 | CQ28: 470541.2 | CR28: 457825.66 | CS28: 453581.74 | CT28: 444306.81 | CU28: 441371.74 | CV28: 571055.05 | CW28: 423332.42 | CX28: 404844.63 | CY28: 410753.77 | CZ28: 441297.98 | DA28: 471422.29 | DB28: 5570186.6 | DC28: 465717.02 | DD28: 376987.08 | DE28: 403336.25 | DF28: 429230.5 | DG28: 411924.7 | DH28: 430716.9 | DI28: 522475.55 | DJ28: 416755.91 | DK28: 399492.8 | DL28: 420800.75 | DM28: 431281.75 | DN28: 441182.3 | DO28: 5149901.5 | DP28: 502303 | DQ28: 375210 | DR28: 423249 | DS28: 426208 | DT28: 432784 | DU28: 447060 | DV28: 554677 | DW28: 442807 | DX28: 425529 | DY28: 455381 | DZ28: 447446 | EA28: 477489 | EB28: 5410143 | EC28: 518333 | ED28: 413437 | EE28: 475616 | EF28: 433974 | EG28: 448230 | EH28: 471779 | EI28: 577543 | EJ28: 471900 | EK28: 443804 | EL28: 472302 | EM28: 466889 | EN28: 504464 | EO28: 5698271 | EP28: 532364 | EQ28: 460021 | ER28: 493054 | ES28: 482166 | ET28: 495071 | EU28: 538497 | EV28: 643725 | EW28: 521436 | EX28: 520471 | EY28: 528309 | EZ28: 525701 | FA28: 561087 | FB28: 6301902 | FC28: 612402 | FD28: 485330 | FE28: 545451 | FF28: 521392 | FG28: 532338 | FH28: 570234 | FI28: 663356 | FJ28: 561786 | FK28: 531430 | FL28: 561360 | FM28: 570127 | FN28: 600492 | FO28: 6755698 | FP28: 636970 | FQ28: 490473 | FR28: 591905 | FS28: 583380 | FT28: 579288 | FU28: 601134 | FV28: 692390 | FW28: 597122 | FX28: 570672 | FY28: 608096 | FZ28: 613430 | GA28: 645774 | GB28: 7210634 | GC28: 695185 | GD28: 548596 | GE28: 568359 | GF28: 588732 | GG28: 605324 | GH28: 675507 | GI28: 742528 | GJ28: 613026 | GK28: 600144 | GL28: 658372 | GM28: 630318 | GN28: 678138 | GO28: 7604229 | GP28: 737570 | GQ28: 590281 | GR28: 638010 | GS28: 627523 | GT28: 652312 | GU28: 670482 | GV28: 775041 | GW28: 666934 | GX28: 656359 | GY28: 690465 | GZ28: 696673 | HA28: 730825 | HB28: 8132475 | HC28: 826166 | HD28: 639479 | HE28: 717580 | HF28: 716558 | HG28: 739771 | HH28: 756365 | HI28: 844479 | HJ28: 754710 | HK28: 756439 | HL28: 791204 | HM28: 755369 | HN28: 855666 | HO28: =SUM(HC28:HN28) -> 9153786 | HP28: 888615 | HQ28: 724932 | HR28: 749741 | HS28: 832853 | HT28: 785452 | HU28: 816670 | HV28: 878316 | HW28: 831514 | HX28: 845773 | HY28: 875871 | HZ28: 829228 | IA28: 885370 | IB28: =SUM(HP28:IA28) -> 9944335 | IC28: 937953 | ID28: 802240 | IE28: 852519 | IF28: 742528 | IG28: 790923 | IH28: 833881 | II28: 896881 | IJ28: 874377 | IK28: 875109 | IL28: 940694 | IM28: 864544 | IN28: 887183 | IO28: =SUM(IC28:IN28) -> 10298832 | IP28: 997957 | IQ28: 821587 | IR28: 831063 | IS28: 826947 | IT28: 904436 | IU28: 851186 | IV28: 951869 | IW28: 925523 | IX28: 928245 | IY28: 990574 | IZ28: 921734 | JA28: 933166 | JB28: =SUM(IP28:JA28) -> 10884287 | JC28: 1071865 | JD28: 891997 | JE28: 932266 | JF28: 931386 | JG28: 971729 | JH28: 957772 | JI28: 1061209 | JJ28: 1006793 | JK28: 1029759 | JL28: 1065285 | JM28: 1008234 | JN28: 1043740 | JO28: =SUM(JC28:JN28) -> 11972035 | JP28: 1160016 | JQ28: 972370 | JR28: 1021825 | JS28: 976444 | JT28: 1045604 | JU28: 1017889 | JV28: 1127389 | JW28: 1065998 | JX28: 1069176 | JY28: 1177506 | JZ28: 1083736 | KA28: 1085091 | KB28: =SUM(JP28:KA28) -> 12803044 | KC28: 1215201 | KD28: 1091654 | KE28: 1126325 | KF28: 1123513 | KG28: 1155160 | KH28: 1153108 | KI28: 1242939 | KJ28: 1171005 | KK28: 1224974 | KL28: 1267051 | KM28: 1194262 | KN28: 1222556 | KO28: =SUM(KC28:KN28) -> 14187748 | KP28: 1351249 | KQ28: 1178090 | KR28: 1208216 | KS28: 1195573 | KT28: 1246882 | KU28: 1245648 | KV28: 1309090 | KW28: 1268056 | KX28: 1273250 | KY28: 1297453 | KZ28: 1281271 | LA28: 1289885 | LB28: =SUM(KP28:LA28) -> 15144663 | LC28: =VLOOKUP($B28,andmed!$B$4:$C$81,2,FALSE) -> 1398593 | LD28: =VLOOKUP($B28,andmed!$B$4:$AA$81,3,FALSE) -> 1269453 | LE28: =VLOOKUP($B28,andmed!$B$4:$AA$81,4,FALSE) -> 1286390 | LF28: 1281653 | LG28: 1334611 | LH28: 1327964 | LI28: 1389303 | LJ28: 1348234 | LK28: 1375435 | LP28: =SUM(LC28:LN28)/SUM(KP28:KX28)-1 -> 0.065233991 | LQ28: =LC28/KP28-1 -> 0.035037214 | LR28: =LD28/KQ28-1 -> 0.0775518 | LS28: =LE28/KR28-1 -> 0.064702007 | LT28: =LF28/KS28-1 -> 0.071998949 | LU28: =LG28/KT28-1 -> 0.070358703 | LV28: =LH28/KU28-1 -> 0.066082874 | LW28: =LI28/KV28-1 -> 0.061273862 | LX28: =LJ28/KW28-1 -> 0.063229069 | LY28: =LK28/KX28-1 -> 0.080255252 | MC28: =O28 -> 2334716.3 | MD28: =AB28 -> 2551452.8 | ME28: =AO28 -> 3125073 | MF28: =BB28 -> 3519475.5 | MG28: =BO28 -> 4406458.4 | MH28: =CB28 -> 5583011.3 | MI28: =CO28 -> 6496859.1 | MJ28: =DB28 -> 5570186.6 | MK28: =DO28 -> 5149901.5 | ML28: =EB28 -> 5410143 | MM28: =EO28 -> 5698271 | MN28: =FB28 -> 6301902 | MO28: =FO28 -> 6755698 | MP28: =GB28 -> 7210634 | MQ28: =GO28 -> 7604229 | MR28: =HB28 -> 8132475 | MS28: =HO28 -> 9153786 | MT28: =IB28 -> 9944335 | MU28: =IO28 -> 10298832 | MV28: =JB28 -> 10884287 | MW28: =JO28 -> 11972035 | MX28: =KB28 -> 12803044 | MY28: =KO28 -> 14187748 | MZ28: =LB28 -> 15144663
A29: Jõgeva | B29: Mustvee vald | C29: 55253.538 | D29: 44757.647 | E29: 52360.257 | F29: 45530.978 | G29: 11909.68 | H29: 19246.737 | I29: 79811.844 | J29: 53673.961 | K29: 43911.265 | L29: 53674.153 | M29: 55947.298 | N29: 66159.166 | O29: 582236.52 | P29: 66695.001 | Q29: 54476.5 | R29: 57920.315 | S29: 38168.164 | T29: 29274.986 | U29: 47061.47 | V29: 99107.793 | W29: 67785.206 | X29: 65254.624 | Y29: 57977.452 | Z29: 69364.59 | AA29: 71442.294 | AB29: 724528.4 | AC29: 90628.571 | AD29: 60127.504 | AE29: 54443.777 | AF29: 53139.979 | AG29: 62074.636 | AH29: 77213.069 | AI29: 95459.908 | AJ29: 67138.42 | AK29: 59609.116 | AL29: 70127.887 | AM29: 91319.009 | AN29: 95654.2 | AO29: 876936.08 | AP29: 77515.435 | AQ29: 66879.961 | AR29: 86571.012 | AS29: 81062.915 | AT29: 80137.218 | AU29: 85693.953 | AV29: 109740.84 | AW29: 78488.873 | AX29: 77743.791 | AY29: 83091.343 | AZ29: 83527.731 | BA29: 102591.94 | BB29: 1013045 | BC29: 99108.369 | BD29: 90209.311 | BE29: 110916.81 | BF29: 97681.605 | BG29: 108862.12 | BH29: 113419.78 | BI29: 134455.47 | BJ29: 125669.79 | BK29: 109977.57 | BL29: 122058.66 | BM29: 125163.74 | BN29: 126801.67 | BO29: 1364324.9 | BP29: 163631.2 | BQ29: 128729.44 | BR29: 122914.95 | BS29: 127719.12 | BT29: 135078.8 | BU29: 143572.6 | BV29: 186400.3 | BW29: 171112.51 | BX29: 149030.65 | BY29: 142297.05 | BZ29: 159001.76 | CA29: 154080.18 | CB29: 1783568.6 | CC29: 196821.8 | CD29: 164283.04 | CE29: 170609.72 | CF29: 166010.06 | CG29: 168879.5 | CH29: 181342.98 | CI29: 233318.61 | CJ29: 168189.77 | CK29: 164001.64 | CL29: 159769.09 | CM29: 166660.74 | CN29: 177697.9 | CO29: 2117584.8 | CP29: 183901.61 | CQ29: 152939.17 | CR29: 148574.77 | CS29: 148852.15 | CT29: 148011.2 | CU29: 141561.17 | CV29: 181406.18 | CW29: 146654.1 | CX29: 133628.26 | CY29: 134854.54 | CZ29: 148154.55 | DA29: 140654.39 | DB29: 1809192.1 | DC29: 145493.53 | DD29: 124995.59 | DE29: 135523.5 | DF29: 142303.5 | DG29: 136458.66 | DH29: 138685.02 | DI29: 165880.77 | DJ29: 136593.89 | DK29: 130287.92 | DL29: 134329.12 | DM29: 141258.74 | DN29: 136717.18 | DO29: 1668527.4 | DP29: 183991 | DQ29: 124440 | DR29: 139974 | DS29: 142141 | DT29: 142600 | DU29: 147136 | DV29: 176418 | DW29: 138944 | DX29: 140801 | DY29: 144020 | DZ29: 142421 | EA29: 148703 | EB29: 1771589 | EC29: 168964 | ED29: 139562 | EE29: 164500 | EF29: 148912 | EG29: 155250 | EH29: 149892 | EI29: 176121 | EJ29: 156328 | EK29: 145489 | EL29: 150639 | EM29: 153806 | EN29: 152714 | EO29: 1862177 | EP29: 173194 | EQ29: 154584 | ER29: 172094 | ES29: 160160 | ET29: 161451 | EU29: 169836 | EV29: 200916 | EW29: 152539 | EX29: 159810 | EY29: 163292 | EZ29: 168851 | FA29: 176829 | FB29: 2013556 | FC29: 207324 | FD29: 159538 | FE29: 180076 | FF29: 177025 | FG29: 173859 | FH29: 172284 | FI29: 225880 | FJ29: 179285 | FK29: 167342 | FL29: 184681 | FM29: 179745 | FN29: 184132 | FO29: 2191171 | FP29: 212930 | FQ29: 177133 | FR29: 221998 | FS29: 216946 | FT29: 195434 | FU29: 194408 | FV29: 230084 | FW29: 188132 | FX29: 191324 | FY29: 204198 | FZ29: 194870 | GA29: 206990 | GB29: 2434447 | GC29: 240828 | GD29: 182771 | GE29: 184420 | GF29: 198501 | GG29: 201424 | GH29: 263658 | GI29: 242724 | GJ29: 200880 | GK29: 191324 | GL29: 218459 | GM29: 202739 | GN29: 215995 | GO29: 2543723 | GP29: 245077 | GQ29: 196642 | GR29: 243426 | GS29: 214892 | GT29: 217798 | GU29: 224674 | GV29: 257065 | GW29: 223733 | GX29: 213403 | GY29: 236725 | GZ29: 230533 | HA29: 233413 | HB29: 2737381 | HC29: 271035 | HD29: 212651 | HE29: 238312 | HF29: 229792 | HG29: 250225 | HH29: 246095 | HI29: 285062 | HJ29: 249044 | HK29: 235681 | HL29: 258876 | HM29: 242119 | HN29: 267140 | HO29: =SUM(HC29:HN29) -> 2986032 | HP29: 287771 | HQ29: 248838 | HR29: 241237 | HS29: 291246 | HT29: 271349 | HU29: 267858 | HV29: 306147 | HW29: 273309 | HX29: 283634 | HY29: 293412 | HZ29: 274762 | IA29: 290857 | IB29: =SUM(HP29:IA29) -> 3330420 | IC29: 329579 | ID29: 264468 | IE29: 274761 | IF29: 244777 | IG29: 277228 | IH29: 274735 | II29: 292074 | IJ29: 289126 | IK29: 280389 | IL29: 309205 | IM29: 292733 | IN29: 284372 | IO29: =SUM(IC29:IN29) -> 3413447 | IP29: 341443 | IQ29: 259231 | IR29: 273121 | IS29: 262958 | IT29: 303084 | IU29: 275504 | IV29: 301577 | IW29: 293789 | IX29: 298046 | IY29: 300732 | IZ29: 293518 | JA29: 305013 | JB29: =SUM(IP29:JA29) -> 3508016 | JC29: 376224 | JD29: 287861 | JE29: 303160 | JF29: 304615 | JG29: 309790 | JH29: 304932 | JI29: 334872 | JJ29: 333364 | JK29: 315229 | JL29: 378822 | JM29: 326776 | JN29: 340292 | JO29: =SUM(JC29:JN29) -> 3915937 | JP29: 372357 | JQ29: 319573 | JR29: 334907 | JS29: 334372 | JT29: 368733 | JU29: 350566 | JV29: 377671 | JW29: 355214 | JX29: 342614 | JY29: 371948 | JZ29: 359566 | KA29: 362410 | KB29: =SUM(JP29:KA29) -> 4249931 | KC29: 399482 | KD29: 380230 | KE29: 387436 | KF29: 395164 | KG29: 392051 | KH29: 382837 | KI29: 429035 | KJ29: 408304 | KK29: 401059 | KL29: 432534 | KM29: 402890 | KN29: 412040 | KO29: =SUM(KC29:KN29) -> 4823062 | KP29: 460626 | KQ29: 405505 | KR29: 412357 | KS29: 422643 | KT29: 441598 | KU29: 434174 | KV29: 465596 | KW29: 440479 | KX29: 440930 | KY29: 448089 | KZ29: 445392 | LA29: 452003 | LB29: =SUM(KP29:LA29) -> 5269392 | LC29: =VLOOKUP($B29,andmed!$B$4:$C$81,2,FALSE) -> 484508 | LD29: =VLOOKUP($B29,andmed!$B$4:$AA$81,3,FALSE) -> 455783 | LE29: =VLOOKUP($B29,andmed!$B$4:$AA$81,4,FALSE) -> 453464 | LF29: 456359 | LG29: 471902 | LH29: 470203 | LI29: 506826 | LJ29: 480587 | LK29: 473758 | LP29: =SUM(LC29:LN29)/SUM(KP29:KX29)-1 -> 0.08396782 | LQ29: =LC29/KP29-1 -> 0.051846835 | LR29: =LD29/KQ29-1 -> 0.12398861 | LS29: =LE29/KR29-1 -> 0.099687892 | LT29: =LF29/KS29-1 -> 0.079774183 | LU29: =LG29/KT29-1 -> 0.068623499 | LV29: =LH29/KU29-1 -> 0.082982859 | LW29: =LI29/KV29-1 -> 0.088553166 | LX29: =LJ29/KW29-1 -> 0.091055419 | LY29: =LK29/KX29-1 -> 0.074451727 | MC29: =O29 -> 582236.52 | MD29: =AB29 -> 724528.4 | ME29: =AO29 -> 876936.08 | MF29: =BB29 -> 1013045 | MG29: =BO29 -> 1364324.9 | MH29: =CB29 -> 1783568.6 | MI29: =CO29 -> 2117584.8 | MJ29: =DB29 -> 1809192.1 | MK29: =DO29 -> 1668527.4 | ML29: =EB29 -> 1771589 | MM29: =EO29 -> 1862177 | MN29: =FB29 -> 2013556 | MO29: =FO29 -> 2191171 | MP29: =GB29 -> 2434447 | MQ29: =GO29 -> 2543723 | MR29: =HB29 -> 2737381 | MS29: =HO29 -> 2986032 | MT29: =IB29 -> 3330420 | MU29: =IO29 -> 3413447 | MV29: =JB29 -> 3508016 | MW29: =JO29 -> 3915937 | MX29: =KB29 -> 4249931 | MY29: =KO29 -> 4823062 | MZ29: =LB29 -> 5269392
A30: Jõgeva | B30: Põltsamaa vald | C30: 182798.05 | D30: 106012.74 | E30: 135362.12 | F30: 123020.91 | G30: 21210.934 | H30: 105462.34 | I30: 206923.23 | J30: 144199.25 | K30: 145339.56 | L30: 158869.21 | M30: 151840.02 | N30: 177184.5 | O30: 1658222.9 | P30: 189499.96 | Q30: 143787.79 | R30: 146315.81 | S30: 116301.31 | T30: 60208.608 | U30: 128824.03 | V30: 236307.44 | W30: 178741.64 | X30: 167669.27 | Y30: 163955.68 | Z30: 171506.21 | AA30: 193989.81 | AB30: 1897107.6 | AC30: 199687.28 | AD30: 149174.64 | AE30: 156717.75 | AF30: 157375.4 | AG30: 167638.98 | AH30: 188349.87 | AI30: 230868.5 | AJ30: 188728.99 | AK30: 177356.55 | AL30: 198939.64 | AM30: 241624.89 | AN30: 203612.03 | AO30: 2260074.5 | AP30: 243084.06 | AQ30: 177557.42 | AR30: 199354.94 | AS30: 212783.54 | AT30: 214376.16 | AU30: 211490.68 | AV30: 275908.95 | AW30: 228928.65 | AX30: 227396.05 | AY30: 224165.7 | AZ30: 226615.69 | BA30: 245131.59 | BB30: 2686793.4 | BC30: 303387.45 | BD30: 216029.62 | BE30: 269054.49 | BF30: 256151.18 | BG30: 273788.49 | BH30: 279678.84 | BI30: 348049.29 | BJ30: 280426.8 | BK30: 278793.41 | BL30: 281864.62 | BM30: 301436.41 | BN30: 315419.64 | BO30: 3404080.2 | BP30: 384468.38 | BQ30: 309112.08 | BR30: 315464.06 | BS30: 343319.95 | BT30: 340345.51 | BU30: 345383.92 | BV30: 447941.41 | BW30: 355491.99 | BX30: 339105.3 | BY30: 382502.97 | BZ30: 386978.7 | CA30: 375188.6 | CB30: 4325302.9 | CC30: 482281.77 | CD30: 371357.42 | CE30: 390140.8 | CF30: 412616.67 | CG30: 401126.57 | CH30: 453841.86 | CI30: 515083.21 | CJ30: 422103.59 | CK30: 394318.96 | CL30: 454611.74 | CM30: 422019.61 | CN30: 452981.48 | CO30: 5172483.7 | CP30: 422282.16 | CQ30: 363852.08 | CR30: 359091.88 | CS30: 369637.11 | CT30: 341995.77 | CU30: 345814.3 | CV30: 428404.83 | CW30: 339957.05 | CX30: 316429.32 | CY30: 326833.37 | CZ30: 338136.78 | DA30: 360657.65 | DB30: 4313092.3 | DC30: 363111.67 | DD30: 298294.52 | DE30: 326892.74 | DF30: 315916.3 | DG30: 320920.78 | DH30: 321601.05 | DI30: 399352.06 | DJ30: 340610.23 | DK30: 307971.12 | DL30: 331778.53 | DM30: 346610 | DN30: 334662.67 | DO30: 4007721.7 | DP30: 404816 | DQ30: 293984 | DR30: 347821 | DS30: 327463 | DT30: 351197 | DU30: 355169 | DV30: 422097 | DW30: 356997 | DX30: 328799 | DY30: 359152 | DZ30: 361302 | EA30: 368927 | EB30: 4277724 | EC30: 413815 | ED30: 337387 | EE30: 368004 | EF30: 362626 | EG30: 360451 | EH30: 375892 | EI30: 448429 | EJ30: 387741 | EK30: 356211 | EL30: 385305 | EM30: 376401 | EN30: 391772 | EO30: 4564034 | EP30: 438779 | EQ30: 365589 | ER30: 389186 | ES30: 374700 | ET30: 394840 | EU30: 409710 | EV30: 502476 | EW30: 421523 | EX30: 397616 | EY30: 416045 | EZ30: 434053 | FA30: 424976 | FB30: 4969493 | FC30: 489784 | FD30: 372086 | FE30: 434452 | FF30: 430213 | FG30: 425028 | FH30: 440277 | FI30: 528900 | FJ30: 437415 | FK30: 431542 | FL30: 449918 | FM30: 456927 | FN30: 475597 | FO30: 5372139 | FP30: 525134 | FQ30: 398037 | FR30: 472706 | FS30: 473213 | FT30: 471038 | FU30: 463506 | FV30: 504502 | FW30: 544977 | FX30: 461176 | FY30: 478429 | FZ30: 504561 | GA30: 501971 | GB30: 5799250 | GC30: 586928 | GD30: 441659 | GE30: 478380 | GF30: 477409 | GG30: 484642 | GH30: 538357 | GI30: 579983 | GJ30: 510758 | GK30: 467183 | GL30: 541517 | GM30: 516840 | GN30: 524453 | GO30: 6148109 | GP30: 609524 | GQ30: 477443 | GR30: 510903 | GS30: 502717 | GT30: 520258 | GU30: 524748 | GV30: 610022 | GW30: 542285 | GX30: 516688 | GY30: 554255 | GZ30: 559983 | HA30: 581964 | HB30: 6510790 | HC30: 653343 | HD30: 514826 | HE30: 533710 | HF30: 540707 | HG30: 553753 | HH30: 553472 | HI30: 604130 | HJ30: 589403 | HK30: 582697 | HL30: 603978 | HM30: 583014 | HN30: 608747 | HO30: =SUM(HC30:HN30) -> 6921780 | HP30: 684407 | HQ30: 536285 | HR30: 564597 | HS30: 632197 | HT30: 600501 | HU30: 619915 | HV30: 633303 | HW30: 631879 | HX30: 610394 | HY30: 631525 | HZ30: 599558 | IA30: 625751 | IB30: =SUM(HP30:IA30) -> 7370312 | IC30: 699750 | ID30: 575358 | IE30: 614736 | IF30: 554343 | IG30: 589862 | IH30: 609025 | II30: 642804 | IJ30: 633228 | IK30: 628351 | IL30: 671611 | IM30: 634158 | IN30: 645832 | IO30: =SUM(IC30:IN30) -> 7499058 | IP30: 741799 | IQ30: 560289 | IR30: 611700 | IS30: 663544 | IT30: 641665 | IU30: 654826 | IV30: 674381 | IW30: 678115 | IX30: 678443 | IY30: 711480 | IZ30: 691322 | JA30: 707356 | JB30: =SUM(IP30:JA30) -> 8014920 | JC30: 800273 | JD30: 650324 | JE30: 671236 | JF30: 674113 | JG30: 708286 | JH30: 692745 | JI30: 746279 | JJ30: 791379 | JK30: 702123 | JL30: 776421 | JM30: 732454 | JN30: 731409 | JO30: =SUM(JC30:JN30) -> 8677042 | JP30: 850824 | JQ30: 702695 | JR30: 749262 | JS30: 717579 | JT30: 794712 | JU30: 754857 | JV30: 801687 | JW30: 794565 | JX30: 768341 | JY30: 827484 | JZ30: 802392 | KA30: 785374 | KB30: =SUM(JP30:KA30) -> 9349772 | KC30: 920381 | KD30: 793552 | KE30: 816634 | KF30: 810429 | KG30: 879853 | KH30: 835917 | KI30: 908846 | KJ30: 872861 | KK30: 877226 | KL30: 910661 | KM30: 888567 | KN30: 882832 | KO30: =SUM(KC30:KN30) -> 10397759 | KP30: 1003986 | KQ30: 829137 | KR30: 859100 | KS30: 860663 | KT30: 921533 | KU30: 907539 | KV30: 911128 | KW30: 913043 | KX30: 905103 | KY30: 938841 | KZ30: 941983 | LA30: 926489 | LB30: =SUM(KP30:LA30) -> 10918545 | LC30: =VLOOKUP($B30,andmed!$B$4:$C$81,2,FALSE) -> 1025789 | LD30: =VLOOKUP($B30,andmed!$B$4:$AA$81,3,FALSE) -> 905949 | LE30: =VLOOKUP($B30,andmed!$B$4:$AA$81,4,FALSE) -> 917560 | LF30: 898501 | LG30: 967110 | LH30: 964608 | LI30: 977083 | LJ30: 989617 | LK30: 967659 | LP30: =SUM(LC30:LN30)/SUM(KP30:KX30)-1 -> 0.061968885 | LQ30: =LC30/KP30-1 -> 0.021716438 | LR30: =LD30/KQ30-1 -> 0.092640903 | LS30: =LE30/KR30-1 -> 0.068047957 | LT30: =LF30/KS30-1 -> 0.043963781 | LU30: =LG30/KT30-1 -> 0.049457806 | LV30: =LH30/KU30-1 -> 0.062883248 | LW30: =LI30/KV30-1 -> 0.072388292 | LX30: =LJ30/KW30-1 -> 0.083866806 | LY30: =LK30/KX30-1 -> 0.069114786 | MC30: =O30 -> 1658222.9 | MD30: =AB30 -> 1897107.6 | ME30: =AO30 -> 2260074.5 | MF30: =BB30 -> 2686793.4 | MG30: =BO30 -> 3404080.2 | MH30: =CB30 -> 4325302.9 | MI30: =CO30 -> 5172483.7 | MJ30: =DB30 -> 4313092.3 | MK30: =DO30 -> 4007721.7 | ML30: =EB30 -> 4277724 | MM30: =EO30 -> 4564034 | MN30: =FB30 -> 4969493 | MO30: =FO30 -> 5372139 | MP30: =GB30 -> 5799250 | MQ30: =GO30 -> 6148109 | MR30: =HB30 -> 6510790 | MS30: =HO30 -> 6921780 | MT30: =IB30 -> 7370312 | MU30: =IO30 -> 7499058 | MV30: =JB30 -> 8014920 | MW30: =JO30 -> 8677042 | MX30: =KB30 -> 9349772 | MY30: =KO30 -> 10397759 | MZ30: =LB30 -> 10918545
A31: Järva | B31: Järva vald | C31: 174898.32 | D31: 120648.58 | E31: 131434.05 | F31: 128077.86 | G31: 62927.409 | H31: 91228.829 | I31: 209244.56 | J31: 159079.1 | K31: 151742.3 | L31: 156347.58 | M31: 173717.74 | N31: 194317.74 | O31: 1753664.1 | P31: 223897.08 | Q31: 145855.52 | R31: 146202.63 | S31: 115147.44 | T31: 69901.832 | U31: 163269.14 | V31: 233950.89 | W31: 212722.64 | X31: 163175.58 | Y31: 181729.39 | Z31: 187697.71 | AA31: 242995.35 | AB31: 2086545.2 | AC31: 167497.28 | AD31: 155142.59 | AE31: 165790.52 | AF31: 172960.64 | AG31: 176828.58 | AH31: 190711.91 | AI31: 217025.36 | AJ31: 213007.68 | AK31: 180513.15 | AL31: 188241.66 | AM31: 259626.82 | AN31: 236373.01 | AO31: 2323719.2 | AP31: 220241.33 | AQ31: 185635.67 | AR31: 192247.39 | AS31: 201458.02 | AT31: 215589.2 | AU31: 214305.73 | AV31: 251881.37 | AW31: 241017.47 | AX31: 238937.98 | AY31: 246492.08 | AZ31: 218670.45 | BA31: 247651.5 | BB31: 2674128.2 | BC31: 277170.38 | BD31: 226172.08 | BE31: 284069.13 | BF31: 230335.22 | BG31: 270481.96 | BH31: 275039.11 | BI31: 360552.71 | BJ31: 310026.4 | BK31: 297109.72 | BL31: 288349.48 | BM31: 306568.84 | BN31: 323119.4 | BO31: 3448994.4 | BP31: 377785.78 | BQ31: 305750.83 | BR31: 349125.62 | BS31: 337770.76 | BT31: 338308.71 | BU31: 349895.82 | BV31: 450452.17 | BW31: 426538.99 | BX31: 353725.92 | BY31: 403715.57 | BZ31: 392485.91 | CA31: 378444.13 | CB31: 4464000.2 | CC31: 474264.89 | CD31: 396712.32 | CE31: 397896.6 | CF31: 384610.52 | CG31: 395271.3 | CH31: 440384.17 | CI31: 527354.19 | CJ31: 438382.84 | CK31: 399080.5 | CL31: 402349.46 | CM31: 425418.69 | CN31: 458263.65 | CO31: 5139989.1 | CP31: 410942.57 | CQ31: 352033.41 | CR31: 340779.15 | CS31: 364226.29 | CT31: 343094.99 | CU31: 335431.02 | CV31: 385035.73 | CW31: 332863.43 | CX31: 302563.82 | CY31: 311108.48 | CZ31: 320009.84 | DA31: 346483.9 | DB31: 4144572.6 | DC31: 361459.68 | DD31: 290785.15 | DE31: 303890.94 | DF31: 300513.47 | DG31: 304228.46 | DH31: 330236.03 | DI31: 376666.69 | DJ31: 335409.61 | DK31: 299732.34 | DL31: 308281.16 | DM31: 328519.87 | DN31: 333506.77 | DO31: 3873230.2 | DP31: 386637 | DQ31: 294831 | DR31: 304043 | DS31: 315590 | DT31: 324591 | DU31: 351105 | DV31: 394082 | DW31: 358015 | DX31: 332603 | DY31: 371038 | DZ31: 343162 | EA31: 364529 | EB31: 4140226 | EC31: 408203 | ED31: 330009 | EE31: 346998 | EF31: 358630 | EG31: 358649 | EH31: 371184 | EI31: 429532 | EJ31: 378066 | EK31: 342111 | EL31: 381656 | EM31: 366795 | EN31: 382998 | EO31: 4454831 | EP31: 419336 | EQ31: 352054 | ER31: 364985 | ES31: 372756 | ET31: 382296 | EU31: 402063 | EV31: 460931 | EW31: 409450 | EX31: 385766 | EY31: 400053 | EZ31: 401007 | FA31: 414036 | FB31: 4764733 | FC31: 469926 | FD31: 366011 | FE31: 401262 | FF31: 401038 | FG31: 414063 | FH31: 432848 | FI31: 485443 | FJ31: 450442 | FK31: 408779 | FL31: 432752 | FM31: 430397 | FN31: 454224 | FO31: 5147185 | FP31: 483637 | FQ31: 382169 | FR31: 457858 | FS31: 447167 | FT31: 445270 | FU31: 465063 | FV31: 520991 | FW31: 464096 | FX31: 445438 | FY31: 461337 | FZ31: 472014 | GA31: 496727 | GB31: 5541767 | GC31: 506304 | GD31: 417457 | GE31: 435326 | GF31: 449971 | GG31: 461764 | GH31: 515187 | GI31: 540745 | GJ31: 489916 | GK31: 448630 | GL31: 501840 | GM31: 465235 | GN31: 497816 | GO31: 5730191 | GP31: 554089 | GQ31: 446686 | GR31: 475973 | GS31: 463059 | GT31: 490109 | GU31: 498941 | GV31: 561165 | GW31: 521681 | GX31: 490153 | GY31: 524241 | GZ31: 510018 | HA31: 519103 | HB31: 6055218 | HC31: 628385 | HD31: 481953 | HE31: 509456 | HF31: 495309 | HG31: 509959 | HH31: 548016 | HI31: 566021 | HJ31: 560838 | HK31: 542600 | HL31: 583634 | HM31: 537854 | HN31: 571869 | HO31: =SUM(HC31:HN31) -> 6535894 | HP31: 638250 | HQ31: 515381 | HR31: 531876 | HS31: 575640 | HT31: 562281 | HU31: 590653 | HV31: 599310 | HW31: 590969 | HX31: 603655 | HY31: 620528 | HZ31: 603541 | IA31: 588161 | IB31: =SUM(HP31:IA31) -> 7020245 | IC31: 683081 | ID31: 555842 | IE31: 584527 | IF31: 550110 | IG31: 583057 | IH31: 572473 | II31: 613137 | IJ31: 593578 | IK31: 598905 | IL31: 666853 | IM31: 602164 | IN31: 624651 | IO31: =SUM(IC31:IN31) -> 7228378 | IP31: 712817 | IQ31: 570223 | IR31: 582115 | IS31: 581872 | IT31: 629362 | IU31: 595175 | IV31: 643069 | IW31: 642600 | IX31: 646400 | IY31: 704151 | IZ31: 663251 | JA31: 659795 | JB31: =SUM(IP31:JA31) -> 7630830 | JC31: 765028 | JD31: 626546 | JE31: 645183 | JF31: 641358 | JG31: 678819 | JH31: 655759 | JI31: 709954 | JJ31: 694805 | JK31: 706781 | JL31: 762088 | JM31: 705777 | JN31: 719370 | JO31: =SUM(JC31:JN31) -> 8311468 | JP31: 820781 | JQ31: 690365 | JR31: 699433 | JS31: 679704 | JT31: 733862 | JU31: 703876 | JV31: 758976 | JW31: 745668 | JX31: 737998 | JY31: 820898 | JZ31: 747468 | KA31: 755230 | KB31: =SUM(JP31:KA31) -> 8894259 | KC31: 843844 | KD31: 765480 | KE31: 773873 | KF31: 788365 | KG31: 798517 | KH31: 786614 | KI31: 860909 | KJ31: 833857 | KK31: 842872 | KL31: 867308 | KM31: 821326 | KN31: 848493 | KO31: =SUM(KC31:KN31) -> 9831458 | KP31: 949597 | KQ31: 815300 | KR31: 830418 | KS31: 822167 | KT31: 877758 | KU31: 874229 | KV31: 891191 | KW31: 885349 | KX31: 908413 | KY31: 941494 | KZ31: 886714 | LA31: 920608 | LB31: =SUM(KP31:LA31) -> 10603238 | LC31: =VLOOKUP($B31,andmed!$B$4:$C$81,2,FALSE) -> 960318 | LD31: =VLOOKUP($B31,andmed!$B$4:$AA$81,3,FALSE) -> 871434 | LE31: =VLOOKUP($B31,andmed!$B$4:$AA$81,4,FALSE) -> 872618 | LF31: 849862 | LG31: 921011 | LH31: 908173 | LI31: 944740 | LJ31: 930062 | LK31: 955379 | LP31: =SUM(LC31:LN31)/SUM(KP31:KX31)-1 -> 0.045729017 | LQ31: =LC31/KP31-1 -> 0.011290053 | LR31: =LD31/KQ31-1 -> 0.06885073 | LS31: =LE31/KR31-1 -> 0.050817781 | LT31: =LF31/KS31-1 -> 0.03368537 | LU31: =LG31/KT31-1 -> 0.04927668 | LV31: =LH31/KU31-1 -> 0.038827355 | LW31: =LI31/KV31-1 -> 0.060087007 | LX31: =LJ31/KW31-1 -> 0.050503248 | LY31: =LK31/KX31-1 -> 0.051701154 | MC31: =O31 -> 1753664.1 | MD31: =AB31 -> 2086545.2 | ME31: =AO31 -> 2323719.2 | MF31: =BB31 -> 2674128.2 | MG31: =BO31 -> 3448994.4 | MH31: =CB31 -> 4464000.2 | MI31: =CO31 -> 5139989.1 | MJ31: =DB31 -> 4144572.6 | MK31: =DO31 -> 3873230.2 | ML31: =EB31 -> 4140226 | MM31: =EO31 -> 4454831 | MN31: =FB31 -> 4764733 | MO31: =FO31 -> 5147185 | MP31: =GB31 -> 5541767 | MQ31: =GO31 -> 5730191 | MR31: =HB31 -> 6055218 | MS31: =HO31 -> 6535894 | MT31: =IB31 -> 7020245 | MU31: =IO31 -> 7228378 | MV31: =JB31 -> 7630830 | MW31: =JO31 -> 8311468 | MX31: =KB31 -> 8894259 | MY31: =KO31 -> 9831458 | MZ31: =LB31 -> 10603238
A32: Järva | B32: Paide linn | C32: 268559.3 | D32: 169698.53 | E32: 198509.58 | F32: 185379.57 | G32: 86569.478 | H32: 155363.47 | I32: 287623 | J32: 225009.71 | K32: 209618.38 | L32: 245063.91 | M32: 216914.54 | N32: 266576.38 | O32: 2514885.9 | P32: 277949.46 | Q32: 206659.91 | R32: 217178.11 | S32: 160546.06 | T32: 113508.94 | U32: 230850.66 | V32: 309853.58 | W32: 261429.7 | X32: 246214.7 | Y32: 240706.99 | Z32: 254211.14 | AA32: 295705.27 | AB32: 2814814.5 | AC32: 302558.51 | AD32: 231293.32 | AE32: 224478.67 | AF32: 207316.03 | AG32: 248316.95 | AH32: 265247.02 | AI32: 307116.69 | AJ32: 281332.49 | AK32: 250478.63 | AL32: 269880.61 | AM32: 338213.86 | AN32: 311439.16 | AO32: 3237672 | AP32: 305390.37 | AQ32: 249093.35 | AR32: 274583.81 | AS32: 294303.43 | AT32: 296018.88 | AU32: 288144.45 | AV32: 372761.05 | AW32: 315479.98 | AX32: 295138.75 | AY32: 314358.33 | AZ32: 311865.2 | BA32: 353389.23 | BB32: 3670526.8 | BC32: 379116.49 | BD32: 304579.65 | BE32: 410356.95 | BF32: 333000.91 | BG32: 348029.6 | BH32: 368659.2 | BI32: 459363.44 | BJ32: 377915.59 | BK32: 378605.19 | BL32: 365309.46 | BM32: 410168.85 | BN32: 410351.19 | BO32: 4545456.5 | BP32: 504071.36 | BQ32: 400650.17 | BR32: 448614.84 | BS32: 433386.68 | BT32: 458480.12 | BU32: 447357.64 | BV32: 582007.08 | BW32: 502042.3 | BX32: 461563.85 | BY32: 495378.93 | BZ32: 489011.67 | CA32: 500077.46 | CB32: 5722642.1 | CC32: 660386.73 | CD32: 506165.36 | CE32: 520490.97 | CF32: 510783.94 | CG32: 461887.82 | CH32: 556685.8 | CI32: 633063.67 | CJ32: 542432.99 | CK32: 512121.99 | CL32: 520578.98 | CM32: 510404.94 | CN32: 546133.22 | CO32: 6481136.4 | CP32: 567362.49 | CQ32: 453583.65 | CR32: 480507.71 | CS32: 446802.69 | CT32: 444054.3 | CU32: 442014.37 | CV32: 508102.4 | CW32: 417595.07 | CX32: 390885.69 | CY32: 411065.73 | CZ32: 415759.08 | DA32: 405346.02 | DB32: 5383079.2 | DC32: 440380.08 | DD32: 365340.52 | DE32: 389093.03 | DF32: 379373.09 | DG32: 386801.73 | DH32: 398748.93 | DI32: 445892.21 | DJ32: 407096.56 | DK32: 359378.2 | DL32: 384134.32 | DM32: 403064.76 | DN32: 412428.13 | DO32: 4771731.6 | DP32: 451317 | DQ32: 353659 | DR32: 393695 | DS32: 391238 | DT32: 404349 | DU32: 409588 | DV32: 502756 | DW32: 412759 | DX32: 384789 | DY32: 428395 | DZ32: 423284 | EA32: 432966 | EB32: 4988795 | EC32: 479442 | ED32: 395814 | EE32: 420970 | EF32: 430762 | EG32: 439007 | EH32: 445904 | EI32: 519334 | EJ32: 441149 | EK32: 411769 | EL32: 444728 | EM32: 434735 | EN32: 460315 | EO32: 5323929 | EP32: 511469 | EQ32: 430612 | ER32: 448642 | ES32: 473227 | ET32: 455670 | EU32: 483820 | EV32: 558227 | EW32: 470482 | EX32: 456433 | EY32: 487633 | EZ32: 481325 | FA32: 496980 | FB32: 5754520 | FC32: 560907 | FD32: 446642 | FE32: 478556 | FF32: 518712 | FG32: 495738 | FH32: 509336 | FI32: 577346 | FJ32: 506090 | FK32: 480669 | FL32: 506596 | FM32: 506644 | FN32: 523291 | FO32: 6110527 | FP32: 568507 | FQ32: 458071 | FR32: 559755 | FS32: 533637 | FT32: 543755 | FU32: 535255 | FV32: 605280 | FW32: 557251 | FX32: 521636 | FY32: 541844 | FZ32: 545516 | GA32: 554452 | GB32: 6524959 | GC32: 625589 | GD32: 509830 | GE32: 530663 | GF32: 538681 | GG32: 562191 | GH32: 612825 | GI32: 650148 | GJ32: 555773 | GK32: 553534 | GL32: 585667 | GM32: 566055 | GN32: 595076 | GO32: 6886032 | GP32: 660607 | GQ32: 555574 | GR32: 600820 | GS32: 580855 | GT32: 611422 | GU32: 621450 | GV32: 717070 | GW32: 611698 | GX32: 604471 | GY32: 636622 | GZ32: 646361 | HA32: 662117 | HB32: 7509067 | HC32: 764196 | HD32: 597809 | HE32: 641132 | HF32: 635593 | HG32: 668869 | HH32: 680454 | HI32: 747920 | HJ32: 700255 | HK32: 674406 | HL32: 698960 | HM32: 695277 | HN32: 736093 | HO32: =SUM(HC32:HN32) -> 8240964 | HP32: 825433 | HQ32: 673543 | HR32: 701683 | HS32: 747162 | HT32: 711614 | HU32: 735999 | HV32: 809660 | HW32: 749179 | HX32: 750734 | HY32: 764797 | HZ32: 754624 | IA32: 777947 | IB32: =SUM(HP32:IA32) -> 9002375 | IC32: 852477 | ID32: 718830 | IE32: 734462 | IF32: 697466 | IG32: 754652 | IH32: 724938 | II32: 774276 | IJ32: 776359 | IK32: 755629 | IL32: 779185 | IM32: 739187 | IN32: 811844 | IO32: =SUM(IC32:IN32) -> 9119305 | IP32: 868317 | IQ32: 739619 | IR32: 731716 | IS32: 731555 | IT32: 792870 | IU32: 765145 | IV32: 821576 | IW32: 816644 | IX32: 796316 | IY32: 839537 | IZ32: 831962 | JA32: 820836 | JB32: =SUM(IP32:JA32) -> 9556093 | JC32: 938515 | JD32: 790885 | JE32: 820255 | JF32: 817879 | JG32: 840877 | JH32: 834553 | JI32: 927558 | JJ32: 870051 | JK32: 850181 | JL32: 903432 | JM32: 876536 | JN32: 888691 | JO32: =SUM(JC32:JN32) -> 10359413 | JP32: 1004679 | JQ32: 860947 | JR32: 912351 | JS32: 907704 | JT32: 951126 | JU32: 933118 | JV32: 981935 | JW32: 957333 | JX32: 946241 | JY32: 1009983 | JZ32: 949888 | KA32: 958418 | KB32: =SUM(JP32:KA32) -> 11373723 | KC32: 1051155 | KD32: 979720 | KE32: 1012708 | KF32: 1015324 | KG32: 1036447 | KH32: 1024343 | KI32: 1099854 | KJ32: 1030019 | KK32: 1044582 | KL32: 1115688 | KM32: 1050764 | KN32: 1071878 | KO32: =SUM(KC32:KN32) -> 12532482 | KP32: 1167468 | KQ32: 1014768 | KR32: 1065525 | KS32: 1075922 | KT32: 1112973 | KU32: 1093074 | KV32: 1124975 | KW32: 1105927 | KX32: 1125909 | KY32: 1192919 | KZ32: 1125917 | LA32: 1131057 | LB32: =SUM(KP32:LA32) -> 13336434 | LC32: =VLOOKUP($B32,andmed!$B$4:$C$81,2,FALSE) -> 1177592 | LD32: =VLOOKUP($B32,andmed!$B$4:$AA$81,3,FALSE) -> 1115132 | LE32: =VLOOKUP($B32,andmed!$B$4:$AA$81,4,FALSE) -> 1132640 | LF32: 1109244 | LG32: 1169260 | LH32: 1152751 | LI32: 1190738 | LJ32: 1186770 | LK32: 1194427 | LP32: =SUM(LC32:LN32)/SUM(KP32:KX32)-1 -> 0.05482332 | LQ32: =LC32/KP32-1 -> 0.008671758 | LR32: =LD32/KQ32-1 -> 0.098903395 | LS32: =LE32/KR32-1 -> 0.062987729 | LT32: =LF32/KS32-1 -> 0.030970647 | LU32: =LG32/KT32-1 -> 0.050573554 | LV32: =LH32/KU32-1 -> 0.054595572 | LW32: =LI32/KV32-1 -> 0.058457299 | LX32: =LJ32/KW32-1 -> 0.073099762 | LY32: =LK32/KX32-1 -> 0.060855717 | MC32: =O32 -> 2514885.9 | MD32: =AB32 -> 2814814.5 | ME32: =AO32 -> 3237672 | MF32: =BB32 -> 3670526.8 | MG32: =BO32 -> 4545456.5 | MH32: =CB32 -> 5722642.1 | MI32: =CO32 -> 6481136.4 | MJ32: =DB32 -> 5383079.2 | MK32: =DO32 -> 4771731.6 | ML32: =EB32 -> 4988795 | MM32: =EO32 -> 5323929 | MN32: =FB32 -> 5754520 | MO32: =FO32 -> 6110527 | MP32: =GB32 -> 6524959 | MQ32: =GO32 -> 6886032 | MR32: =HB32 -> 7509067 | MS32: =HO32 -> 8240964 | MT32: =IB32 -> 9002375 | MU32: =IO32 -> 9119305 | MV32: =JB32 -> 9556093 | MW32: =JO32 -> 10359413 | MX32: =KB32 -> 11373723 | MY32: =KO32 -> 12532482 | MZ32: =LB32 -> 13336434
A33: Järva | B33: Türi vald | C33: 234206.03 | D33: 163610.82 | E33: 197660.51 | F33: 174721.86 | G33: 84204.492 | H33: 144607.07 | I33: 276358.38 | J33: 217837.23 | K33: 201917.22 | L33: 233792.96 | M33: 218970.32 | N33: 246932.56 | O33: 2394819.4 | P33: 259282.53 | Q33: 199204.04 | R33: 207643 | S33: 149323.75 | T33: 128655.24 | U33: 210206.75 | V33: 295245.04 | W33: 264120 | X33: 313592.86 | Y33: 162906.38 | Z33: 244092.58 | AA33: 292495.62 | AB33: 2726767.8 | AC33: 275598.09 | AD33: 230573.99 | AE33: 225155.43 | AF33: 211384.52 | AG33: 243517.38 | AH33: 254232.61 | AI33: 304102.62 | AJ33: 273884.74 | AK33: 232816.39 | AL33: 270159.91 | AM33: 336941.51 | AN33: 302915.52 | AO33: 3161282.7 | AP33: 297052.65 | AQ33: 242565.54 | AR33: 269968.68 | AS33: 293348.71 | AT33: 285042.57 | AU33: 273177.11 | AV33: 348334.21 | AW33: 312289.7 | AX33: 299656.09 | AY33: 312192.11 | AZ33: 310651 | BA33: 338427.45 | BB33: 3582705.8 | BC33: 370785.54 | BD33: 308411.41 | BE33: 399705.5 | BF33: 314768.7 | BG33: 348566.46 | BH33: 351658.51 | BI33: 454496.12 | BJ33: 373404.25 | BK33: 381028.47 | BL33: 384173.3 | BM33: 402800.99 | BN33: 406331.02 | BO33: 4496130.3 | BP33: 479447.93 | BQ33: 383990.2 | BR33: 434375.07 | BS33: 421103.82 | BT33: 433062.33 | BU33: 442572.83 | BV33: 566581.94 | BW33: 489361.78 | BX33: 453282.31 | BY33: 498477.37 | BZ33: 472332.78 | CA33: 502103.52 | CB33: 5576691.9 | CC33: 584388.81 | CD33: 462751.46 | CE33: 519490.18 | CF33: 526000.86 | CG33: 468917.53 | CH33: 520989.29 | CI33: 659173.05 | CJ33: 559067.15 | CK33: 506395.96 | CL33: 535307.73 | CM33: 519005.15 | CN33: 552890.98 | CO33: 6414378.1 | CP33: 552136.31 | CQ33: 453014.01 | CR33: 455311.76 | CS33: 454933.34 | CT33: 424608.35 | CU33: 441757.89 | CV33: 508399.65 | CW33: 407319.87 | CX33: 383058.04 | CY33: 422821.76 | CZ33: 436722.36 | DA33: 414245.97 | DB33: 5354329.3 | DC33: 425996.77 | DD33: 358624.24 | DE33: 390620.13 | DF33: 374327.27 | DG33: 378389.43 | DH33: 395240.76 | DI33: 465020.64 | DJ33: 406691.36 | DK33: 374095.07 | DL33: 393490.09 | DM33: 402490.89 | DN33: 413581.23 | DO33: 4778567.9 | DP33: 453782 | DQ33: 355010 | DR33: 398690 | DS33: 403678 | DT33: 396009 | DU33: 415325 | DV33: 478281 | DW33: 432895 | DX33: 409669 | DY33: 436325 | DZ33: 414694 | EA33: 433592 | EB33: 5027950 | EC33: 468167 | ED33: 397696 | EE33: 448729 | EF33: 403350 | EG33: 419114 | EH33: 442633 | EI33: 510632 | EJ33: 442323 | EK33: 407148 | EL33: 457161 | EM33: 424250 | EN33: 460114 | EO33: 5281317 | EP33: 502564 | EQ33: 434577 | ER33: 455005 | ES33: 440716 | ET33: 453991 | EU33: 485626 | EV33: 545802 | EW33: 470761 | EX33: 466841 | EY33: 480387 | EZ33: 490159 | FA33: 495058 | FB33: 5721487 | FC33: 558629 | FD33: 433744 | FE33: 503417 | FF33: 471989 | FG33: 477323 | FH33: 507554 | FI33: 585362 | FJ33: 498784 | FK33: 484676 | FL33: 514887 | FM33: 515885 | FN33: 531266 | FO33: 6083516 | FP33: 579337 | FQ33: 444613 | FR33: 544278 | FS33: 501590 | FT33: 525901 | FU33: 537144 | FV33: 596874 | FW33: 537589 | FX33: 520799 | FY33: 552230 | FZ33: 557165 | GA33: 553069 | GB33: 6450589 | GC33: 619584 | GD33: 493853 | GE33: 507189 | GF33: 533910 | GG33: 550752 | GH33: 583809 | GI33: 649126 | GJ33: 559622 | GK33: 541429 | GL33: 569401 | GM33: 564306 | GN33: 584246 | GO33: 6757227 | GP33: 658068 | GQ33: 517523 | GR33: 577464 | GS33: 544305 | GT33: 570634 | GU33: 589587 | GV33: 671662 | GW33: 579730 | GX33: 573631 | GY33: 622589 | GZ33: 596199 | HA33: 613254 | HB33: 7114646 | HC33: 714719 | HD33: 579193 | HE33: 611425 | HF33: 603136 | HG33: 625996 | HH33: 653060 | HI33: 699546 | HJ33: 677850 | HK33: 659355 | HL33: 706149 | HM33: 649787 | HN33: 700945 | HO33: =SUM(HC33:HN33) -> 7881161 | HP33: 799568 | HQ33: 637811 | HR33: 648429 | HS33: 685895 | HT33: 679237 | HU33: 709718 | HV33: 727084 | HW33: 705443 | HX33: 719162 | HY33: 718137 | HZ33: 691578 | IA33: 740623 | IB33: =SUM(HP33:IA33) -> 8462685 | IC33: 818765 | ID33: 662801 | IE33: 669429 | IF33: 620093 | IG33: 703728 | IH33: 685796 | II33: 727384 | IJ33: 725255 | IK33: 716614 | IL33: 747000 | IM33: 717859 | IN33: 735225 | IO33: =SUM(IC33:IN33) -> 8529949 | IP33: 828206 | IQ33: 666013 | IR33: 686984 | IS33: 697790 | IT33: 738000 | IU33: 724669 | IV33: 779533 | IW33: 780531 | IX33: 761687 | IY33: 790885 | IZ33: 799397 | JA33: 786856 | JB33: =SUM(IP33:JA33) -> 9040551 | JC33: 937930 | JD33: 730526 | JE33: 777792 | JF33: 766774 | JG33: 809363 | JH33: 796286 | JI33: 864181 | JJ33: 862211 | JK33: 833417 | JL33: 915778 | JM33: 848768 | JN33: 861295 | JO33: =SUM(JC33:JN33) -> 10004321 | JP33: 998077 | JQ33: 815669 | JR33: 867130 | JS33: 823997 | JT33: 905875 | JU33: 880534 | JV33: 930659 | JW33: 908989 | JX33: 903399 | JY33: 970189 | JZ33: 911518 | KA33: 914152 | KB33: =SUM(JP33:KA33) -> 10830188 | KC33: 1047104 | KD33: 942339 | KE33: 952862 | KF33: 962164 | KG33: 994141 | KH33: 992049 | KI33: 1069369 | KJ33: 1009891 | KK33: 1017474 | KL33: 1061193 | KM33: 1023739 | KN33: 1040832 | KO33: =SUM(KC33:KN33) -> 12113157 | KP33: 1163429 | KQ33: 980193 | KR33: 1023604 | KS33: 1017617 | KT33: 1084260 | KU33: 1068809 | KV33: 1091488 | KW33: 1074917 | KX33: 1084780 | KY33: 1129052 | KZ33: 1082409 | LA33: 1126099 | LB33: =SUM(KP33:LA33) -> 12926657 | LC33: =VLOOKUP($B33,andmed!$B$4:$C$81,2,FALSE) -> 1178175 | LD33: =VLOOKUP($B33,andmed!$B$4:$AA$81,3,FALSE) -> 1094928 | LE33: =VLOOKUP($B33,andmed!$B$4:$AA$81,4,FALSE) -> 1101978 | LF33: 1097239 | LG33: 1161224 | LH33: 1144673 | LI33: 1179478 | LJ33: 1176475 | LK33: 1154422 | LP33: =SUM(LC33:LN33)/SUM(KP33:KX33)-1 -> 0.07294691 | LQ33: =LC33/KP33-1 -> 0.012674602 | LR33: =LD33/KQ33-1 -> 0.11705348 | LS33: =LE33/KR33-1 -> 0.076566719 | LT33: =LF33/KS33-1 -> 0.078243583 | LU33: =LG33/KT33-1 -> 0.070982975 | LV33: =LH33/KU33-1 -> 0.070979941 | LW33: =LI33/KV33-1 -> 0.08061472 | LX33: =LJ33/KW33-1 -> 0.094479853 | LY33: =LK33/KX33-1 -> 0.064199192 | MC33: =O33 -> 2394819.4 | MD33: =AB33 -> 2726767.8 | ME33: =AO33 -> 3161282.7 | MF33: =BB33 -> 3582705.8 | MG33: =BO33 -> 4496130.3 | MH33: =CB33 -> 5576691.9 | MI33: =CO33 -> 6414378.1 | MJ33: =DB33 -> 5354329.3 | MK33: =DO33 -> 4778567.9 | ML33: =EB33 -> 5027950 | MM33: =EO33 -> 5281317 | MN33: =FB33 -> 5721487 | MO33: =FO33 -> 6083516 | MP33: =GB33 -> 6450589 | MQ33: =GO33 -> 6757227 | MR33: =HB33 -> 7114646 | MS33: =HO33 -> 7881161 | MT33: =IB33 -> 8462685 | MU33: =IO33 -> 8529949 | MV33: =JB33 -> 9040551 | MW33: =JO33 -> 10004321 | MX33: =KB33 -> 10830188 | MY33: =KO33 -> 12113157 | MZ33: =LB33 -> 12926657
A34: Lääne | B34: Haapsalu linn | C34: 322664.73 | D34: 211803.33 | E34: 235860.12 | F34: 225500.94 | G34: 98900.017 | H34: 254029.12 | I34: 327179.13 | J34: 305902.75 | K34: 242745.26 | L34: 277329.58 | M34: 272632.46 | N34: 305214.17 | O34: 3079761.6 | P34: 330699.13 | Q34: 258319.32 | R34: 268992.31 | S34: 219142.05 | T34: 166143.76 | U34: 244734.89 | V34: 369074.81 | W34: 352098.92 | X34: 311654.35 | Y34: 285001.6 | Z34: 319402.49 | AA34: 332754.21 | AB34: 3458017.8 | AC34: 362977.13 | AD34: 247253.08 | AE34: 297438.87 | AF34: 268207.73 | AG34: 333590.68 | AH34: 348499.23 | AI34: 379413.67 | AJ34: 346662.53 | AK34: 297494.41 | AL34: 307112.66 | AM34: 459100 | AN34: 375916.81 | AO34: 4023666.8 | AP34: 369881 | AQ34: 314055.07 | AR34: 334348.55 | AS34: 351574.08 | AT34: 390017.13 | AU34: 361135.01 | AV34: 410953.88 | AW34: 394325.35 | AX34: 355782.53 | AY34: 361096.47 | AZ34: 358373.19 | BA34: 409898.64 | BB34: 4411440.9 | BC34: 429046.63 | BD34: 387942.3 | BE34: 454220.53 | BF34: 416375.7 | BG34: 418489.26 | BH34: 450860.7 | BI34: 533638.36 | BJ34: 476656.97 | BK34: 443318.16 | BL34: 444217.02 | BM34: 483609.79 | BN34: 509092.84 | BO34: 5447468.3 | BP34: 590725.97 | BQ34: 516854.59 | BR34: 521822.12 | BS34: 526450.28 | BT34: 552618.14 | BU34: 555911.83 | BV34: 711875.87 | BW34: 584987.54 | BX34: 519569.68 | BY34: 582211.34 | BZ34: 566935.37 | CA34: 587193.51 | CB34: 6817156.3 | CC34: 721249.34 | CD34: 629036.15 | CE34: 630778.06 | CF34: 629536.96 | CG34: 621651.6 | CH34: 674766.15 | CI34: 807319.29 | CJ34: 679145.44 | CK34: 578096.33 | CL34: 605533.41 | CM34: 614965.23 | CN34: 665819.79 | CO34: 7857897.8 | CP34: 617413.69 | CQ34: 556013.83 | CR34: 578209.52 | CS34: 573712.44 | CT34: 553250.23 | CU34: 539893.65 | CV34: 651880.03 | CW34: 539825.84 | CX34: 486876 | CY34: 488810.48 | CZ34: 516643.1 | DA34: 510229.12 | DB34: 6612757.9 | DC34: 570465.66 | DD34: 461237.07 | DE34: 486833.5 | DF34: 493955.04 | DG34: 481133.35 | DH34: 526221.74 | DI34: 618505.04 | DJ34: 520586.39 | DK34: 463489.26 | DL34: 482667.1 | DM34: 504946.31 | DN34: 519815.49 | DO34: 6129855.9 | DP34: 583456 | DQ34: 458678 | DR34: 513198 | DS34: 501031 | DT34: 521024 | DU34: 526500 | DV34: 675380 | DW34: 537343 | DX34: 496990 | DY34: 510152 | DZ34: 514192 | EA34: 529789 | EB34: 6367733 | EC34: 591339 | ED34: 489470 | EE34: 535541 | EF34: 517955 | EG34: 547042 | EH34: 559396 | EI34: 679733 | EJ34: 558017 | EK34: 519576 | EL34: 533011 | EM34: 536166 | EN34: 566015 | EO34: 6633261 | EP34: 644726 | EQ34: 540033 | ER34: 577971 | ES34: 561679 | ET34: 586829 | EU34: 595246 | EV34: 759657 | EW34: 617857 | EX34: 583058 | EY34: 571713 | EZ34: 578635 | FA34: 622024 | FB34: 7239428 | FC34: 701161 | FD34: 565088 | FE34: 639281 | FF34: 601077 | FG34: 609945 | FH34: 604503 | FI34: 832121 | FJ34: 644411 | FK34: 600578 | FL34: 611622 | FM34: 611243 | FN34: 658652 | FO34: 7679682 | FP34: 708842 | FQ34: 559692 | FR34: 726314 | FS34: 679520 | FT34: 667809 | FU34: 656735 | FV34: 769497 | FW34: 706864 | FX34: 626057 | FY34: 689704 | FZ34: 646167 | GA34: 669840 | GB34: 8107041 | GC34: 763764 | GD34: 630771 | GE34: 657663 | GF34: 643083 | GG34: 690859 | GH34: 771771 | GI34: 792213 | GJ34: 708493 | GK34: 651834 | GL34: 710888 | GM34: 674663 | GN34: 699930 | GO34: 8395932 | GP34: 836880 | GQ34: 648131 | GR34: 720113 | GS34: 665037 | GT34: 718301 | GU34: 725266 | GV34: 834910 | GW34: 719372 | GX34: 694350 | GY34: 746376 | GZ34: 721122 | HA34: 750419 | HB34: 8780277 | HC34: 889000 | HD34: 728135 | HE34: 747802 | HF34: 754212 | HG34: 777923 | HH34: 789129 | HI34: 852270 | HJ34: 819143 | HK34: 787232 | HL34: 854525 | HM34: 775621 | HN34: 872252 | HO34: =SUM(HC34:HN34) -> 9647244 | HP34: 922318 | HQ34: 765673 | HR34: 772299 | HS34: 842230 | HT34: 844990 | HU34: 845062 | HV34: 915263 | HW34: 881312 | HX34: 861329 | HY34: 929458 | HZ34: 837114 | IA34: 878189 | IB34: =SUM(HP34:IA34) -> 10295237 | IC34: 978721 | ID34: 828662 | IE34: 855313 | IF34: 756815 | IG34: 861563 | IH34: 850671 | II34: 912526 | IJ34: 894826 | IK34: 843960 | IL34: 999820 | IM34: 852951 | IN34: 870086 | IO34: =SUM(IC34:IN34) -> 10505914 | IP34: 982980 | IQ34: 826733 | IR34: 840981 | IS34: 826244 | IT34: 885257 | IU34: 874293 | IV34: 931634 | IW34: 926104 | IX34: 904400 | IY34: 1031077 | IZ34: 913581 | JA34: 929244 | JB34: =SUM(IP34:JA34) -> 10872528 | JC34: 1062958 | JD34: 909779 | JE34: 924176 | JF34: 937759 | JG34: 982604 | JH34: 991531 | JI34: 1048004 | JJ34: 1014435 | JK34: 979314 | JL34: 1113139 | JM34: 1025723 | JN34: 1014208 | JO34: =SUM(JC34:JN34) -> 12003630 | JP34: 1166929 | JQ34: 987706 | JR34: 1024071 | JS34: 1024787 | JT34: 1076513 | JU34: 1067479 | JV34: 1164018 | JW34: 1125552 | JX34: 1087830 | JY34: 1312975 | JZ34: 1062274 | KA34: 1021633 | KB34: =SUM(JP34:KA34) -> 13121767 | KC34: 1282032 | KD34: 1148318 | KE34: 1180147 | KF34: 1161632 | KG34: 1211028 | KH34: 1218516 | KI34: 1284805 | KJ34: 1231709 | KK34: 1216286 | KL34: 1286739 | KM34: 1255452 | KN34: 1198583 | KO34: =SUM(KC34:KN34) -> 14675247 | KP34: 1351405 | KQ34: 1254742 | KR34: 1238695 | KS34: 1258954 | KT34: 1304298 | KU34: 1301699 | KV34: 1337236 | KW34: 1326895 | KX34: 1287246 | KY34: 1353296 | KZ34: 1289491 | LA34: 1325516 | LB34: =SUM(KP34:LA34) -> 15629473 | LC34: =VLOOKUP($B34,andmed!$B$4:$C$81,2,FALSE) -> 1402207 | LD34: =VLOOKUP($B34,andmed!$B$4:$AA$81,3,FALSE) -> 1314464 | LE34: =VLOOKUP($B34,andmed!$B$4:$AA$81,4,FALSE) -> 1343924 | LF34: 1336760 | LG34: 1445196 | LH34: 1378156 | LI34: 1425465 | LJ34: 1418638 | LK34: 1395795 | LP34: =SUM(LC34:LN34)/SUM(KP34:KX34)-1 -> 0.068555299 | LQ34: =LC34/KP34-1 -> 0.037591988 | LR34: =LD34/KQ34-1 -> 0.047597036 | LS34: =LE34/KR34-1 -> 0.084951501 | LT34: =LF34/KS34-1 -> 0.061802099 | LU34: =LG34/KT34-1 -> 0.10802593 | LV34: =LH34/KU34-1 -> 0.058736313 | LW34: =LI34/KV34-1 -> 0.065978631 | LX34: =LJ34/KW34-1 -> 0.069141115 | LY34: =LK34/KX34-1 -> 0.084326539 | MC34: =O34 -> 3079761.6 | MD34: =AB34 -> 3458017.8 | ME34: =AO34 -> 4023666.8 | MF34: =BB34 -> 4411440.9 | MG34: =BO34 -> 5447468.3 | MH34: =CB34 -> 6817156.3 | MI34: =CO34 -> 7857897.8 | MJ34: =DB34 -> 6612757.9 | MK34: =DO34 -> 6129855.9 | ML34: =EB34 -> 6367733 | MM34: =EO34 -> 6633261 | MN34: =FB34 -> 7239428 | MO34: =FO34 -> 7679682 | MP34: =GB34 -> 8107041 | MQ34: =GO34 -> 8395932 | MR34: =HB34 -> 8780277 | MS34: =HO34 -> 9647244 | MT34: =IB34 -> 10295237 | MU34: =IO34 -> 10505914 | MV34: =JB34 -> 10872528 | MW34: =JO34 -> 12003630 | MX34: =KB34 -> 13121767 | MY34: =KO34 -> 14675247 | MZ34: =LB34 -> 15629473
... A81: Võru | B81: Võru vald | C81: 134128.5 | D81: 98587.872 | E81: 108551.76 | F81: 101407.97 | G81: 33792.453 | H81: 92470.441 | I81: 182620.63 | J81: 132001.9 | K81: 109317.3 | L81: 133172.77 | M81: 124247.06 | N81: 158542.88 | O81: 1408841.5 | P81: 139802.77 | Q81: 122434.39 | R81: 124404.02 | S81: 103511.69 | T81: 57890.468 | U81: 128473.79 | V81: 204412.14 | W81: 149172.15 | X81: 143283.33 | Y81: 160952.22 | Z81: 156856.89 | AA81: 216839.95 | AB81: 1708033.8 | AC81: 131559.96 | AD81: 142362.88 | AE81: 140234.49 | AF81: 127882.29 | AG81: 149064.4 | AH81: 175009.14 | AI81: 204602.02 | AJ81: 170604.8 | AK81: 138969.49 | AL81: 160917.13 | AM81: 256831.52 | AN81: 259379.61 | AO81: 2057417.7 | AP81: 178435.51 | AQ81: 99857.988 | AR81: 160803.5 | AS81: 182145.39 | AT81: 186179.68 | AU81: 197335.59 | AV81: 242290.27 | AW81: 216509.85 | AX81: 170248.36 | AY81: 180811.61 | AZ81: 190511.68 | BA81: 213634.59 | BB81: 2218764 | BC81: 241383.37 | BD81: 203064.63 | BE81: 297748.26 | BF81: 210484.32 | BG81: 232590.02 | BH81: 269351.36 | BI81: 306153.99 | BJ81: 246588.84 | BK81: 253872.22 | BL81: 250579.81 | BM81: 257324.79 | BN81: 285109.42 | BO81: 3054251 | BP81: 316699.22 | BQ81: 271073.78 | BR81: 286152.9 | BS81: 264678.14 | BT81: 294091.05 | BU81: 310392.42 | BV81: 387345.49 | BW81: 315397.02 | BX81: 304646.31 | BY81: 340496.59 | BZ81: 311310.76 | CA81: 326090.72 | CB81: 3728374.4 | CC81: 391003.41 | CD81: 325016.3 | CE81: 352850.91 | CF81: 353194.37 | CG81: 360975.8 | CH81: 382597.94 | CI81: 473665.59 | CJ81: 385428.59 | CK81: 338716.78 | CL81: 361764.15 | CM81: 371662.21 | CN81: 392675.02 | CO81: 4489551.1 | CP81: 392790.96 | CQ81: 318910.05 | CR81: 323909.8 | CS81: 354058.39 | CT81: 335283 | CU81: 326409.25 | CV81: 400014.7 | CW81: 315736.33 | CX81: 289452.66 | CY81: 292758.43 | CZ81: 297853.85 | DA81: 321321.69 | DB81: 3968499.1 | DC81: 322280.3 | DD81: 282566.63 | DE81: 293336.64 | DF81: 301462.17 | DG81: 295829.45 | DH81: 307132.35 | DI81: 375575.08 | DJ81: 312657.64 | DK81: 273228.5 | DL81: 294726.59 | DM81: 310574.18 | DN81: 324854.03 | DO81: 3694223.5 | DP81: 344414 | DQ81: 275913 | DR81: 311775 | DS81: 314302 | DT81: 321879 | DU81: 335347 | DV81: 399484 | DW81: 323593 | DX81: 292624 | DY81: 324596 | DZ81: 334796 | EA81: 330086 | EB81: 3908809 | EC81: 373416 | ED81: 319145 | EE81: 331694 | EF81: 326348 | EG81: 337420 | EH81: 358871 | EI81: 424680 | EJ81: 342794 | EK81: 314231 | EL81: 340986 | EM81: 340457 | EN81: 378090 | EO81: 4188132 | EP81: 431362 | EQ81: 339377 | ER81: 364949 | ES81: 382083 | ET81: 369756 | EU81: 381020 | EV81: 463292 | EW81: 372529 | EX81: 345398 | EY81: 379346 | EZ81: 374527 | FA81: 392718 | FB81: 4596357 | FC81: 446055 | FD81: 363021 | FE81: 405379 | FF81: 386259 | FG81: 397991 | FH81: 425022 | FI81: 506745 | FJ81: 412079 | FK81: 379349 | FL81: 431427 | FM81: 423203 | FN81: 442391 | FO81: 5018921 | FP81: 473328 | FQ81: 387346 | FR81: 474066 | FS81: 437619 | FT81: 440213 | FU81: 458080 | FV81: 548335 | FW81: 467530 | FX81: 412562 | FY81: 457423 | FZ81: 460278 | GA81: 481753 | GB81: 5498533 | GC81: 540140 | GD81: 436833 | GE81: 457227 | GF81: 459846 | GG81: 488802 | GH81: 498866 | GI81: 586739 | GJ81: 480639 | GK81: 449330 | GL81: 515588 | GM81: 486439 | GN81: 513967 | GO81: 5914416 | GP81: 582155 | GQ81: 469371 | GR81: 507117 | GS81: 497817 | GT81: 516442 | GU81: 506782 | GV81: 622313 | GW81: 523007 | GX81: 484299 | GY81: 544151 | GZ81: 530479 | HA81: 569342 | HB81: 6353275 | HC81: 653907 | HD81: 521564 | HE81: 562625 | HF81: 541895 | HG81: 561582 | HH81: 591363 | HI81: 635379 | HJ81: 584689 | HK81: 567523 | HL81: 617244 | HM81: 579883 | HN81: 620046 | HO81: =SUM(HC81:HN81) -> 7037700 | HP81: 710329 | HQ81: 576936 | HR81: 595934 | HS81: 660465 | HT81: 627816 | HU81: 638625 | HV81: 699072 | HW81: 646725 | HX81: 623747 | HY81: 667253 | HZ81: 645760 | IA81: 681159 | IB81: =SUM(HP81:IA81) -> 7773821 | IC81: 746352 | ID81: 639189 | IE81: 656470 | IF81: 603445 | IG81: 638868 | IH81: 653829 | II81: 707692 | IJ81: 680580 | IK81: 655269 | IL81: 704087 | IM81: 679224 | IN81: 693497 | IO81: =SUM(IC81:IN81) -> 8058502 | IP81: 795516 | IQ81: 638011 | IR81: 664156 | IS81: 657629 | IT81: 706042 | IU81: 692595 | IV81: 759603 | IW81: 720432 | IX81: 702175 | IY81: 742248 | IZ81: 770418 | JA81: 736362 | JB81: =SUM(IP81:JA81) -> 8585187 | JC81: 878355 | JD81: 699902 | JE81: 727569 | JF81: 728229 | JG81: 785398 | JH81: 748480 | JI81: 827109 | JJ81: 759823 | JK81: 749053 | JL81: 824468 | JM81: 761859 | JN81: 795104 | JO81: =SUM(JC81:JN81) -> 9285349 | JP81: 908876 | JQ81: 785839 | JR81: 790852 | JS81: 774232 | JT81: 836955 | JU81: 806848 | JV81: 885590 | JW81: 811306 | JX81: 819116 | JY81: 893340 | JZ81: 858461 | KA81: 850033 | KB81: =SUM(JP81:KA81) -> 10021448 | KC81: 945223 | KD81: 902801 | KE81: 881336 | KF81: 895888 | KG81: 936219 | KH81: 908527 | KI81: 993399 | KJ81: 908735 | KK81: 927320 | KL81: 970104 | KM81: 954148 | KN81: 973568 | KO81: =SUM(KC81:KN81) -> 11197268 | KP81: 1070512 | KQ81: 957982 | KR81: 964596 | KS81: 943957 | KT81: 1008186 | KU81: 991065 | KV81: 1055808 | KW81: 1004102 | KX81: 1014696 | KY81: 1045466 | KZ81: 1012311 | LA81: 1040827 | LB81: =SUM(KP81:LA81) -> 12109508 | LC81: =VLOOKUP($B81,andmed!$B$4:$C$81,2,FALSE) -> 1091696 | LD81: =VLOOKUP($B81,andmed!$B$4:$AA$81,3,FALSE) -> 1008464 | LE81: =VLOOKUP($B81,andmed!$B$4:$AA$81,4,FALSE) -> 1033641 | LF81: 1014343 | LG81: 1079258 | LH81: 1067897 | LI81: 1141819 | LJ81: 1078565 | LK81: 1081769 | LP81: =SUM(LC81:LN81)/SUM(KP81:KX81)-1 -> 0.065093136 | LQ81: =LC81/KP81-1 -> 0.019788662 | LR81: =LD81/KQ81-1 -> 0.052696188 | LS81: =LE81/KR81-1 -> 0.07157919 | LT81: =LF81/KS81-1 -> 0.074564837 | LU81: =LG81/KT81-1 -> 0.070494929 | LV81: =LH81/KU81-1 -> 0.077524683 | LW81: =LI81/KV81-1 -> 0.081464622 | LX81: =LJ81/KW81-1 -> 0.074158801 | LY81: =LK81/KX81-1 -> 0.066101571 | MC81: =O81 -> 1408841.5 | MD81: =AB81 -> 1708033.8 | ME81: =AO81 -> 2057417.7 | MF81: =BB81 -> 2218764 | MG81: =BO81 -> 3054251 | MH81: =CB81 -> 3728374.4 | MI81: =CO81 -> 4489551.1 | MJ81: =DB81 -> 3968499.1 | MK81: =DO81 -> 3694223.5 | ML81: =EB81 -> 3908809 | MM81: =EO81 -> 4188132 | MN81: =FB81 -> 4596357 | MO81: =FO81 -> 5018921 | MP81: =GB81 -> 5498533 | MQ81: =GO81 -> 5914416 | MR81: =HB81 -> 6353275 | MS81: =HO81 -> 7037700 | MT81: =IB81 -> 7773821 | MU81: =IO81 -> 8058502 | MV81: =JB81 -> 8585187 | MW81: =JO81 -> 9285349 | MX81: =KB81 -> 10021448 | MY81: =KO81 -> 11197268 | MZ81: =LB81 -> 12109508
B82: KOKKU | C82: =SUM(C4:C81) -> 28725118 | D82: =SUM(D4:D81) -> 19375391 | E82: =SUM(E4:E81) -> 22523894 | F82: =SUM(F4:F81) -> 19496723 | G82: =SUM(G4:G81) -> 10152129 | H82: =SUM(H4:H81) -> 20370677 | I82: =SUM(I4:I81) -> 31466918 | J82: =SUM(J4:J81) -> 25164303 | ... HN82: =SUM(HN4:HN81) -> 96088109 | HO82: =SUM(HC82:HN82) -> 1100061801 | HP82: =SUM(HP4:HP81) -> 105422072 | HQ82: =SUM(HQ4:HQ81) -> 93492366 | HR82: =SUM(HR4:HR81) -> 92425550 | HS82: =SUM(HS4:HS81) -> 103917178 | HT82: =SUM(HT4:HT81) -> 101108553 | HU82: =SUM(HU4:HU81) -> 99968200 | HV82: =SUM(HV4:HV81) -> 108370601 | HW82: =SUM(HW4:HW81) -> 102368402 | ... LK82: =SUM(LK4:LK81) -> 170984197 | LP82: =SUM(LC82:LN82)/SUM(KP82:KX82)-1 -> 0.047172834 | LQ82: =LC82/KP82-1 -> 0.0064644445 | LR82: =LD82/KQ82-1 -> 0.069260545 | LS82: =LE82/KR82-1 -> 0.04916488 | LT82: =LF82/KS82-1 -> 0.043054957 | LU82: =LG82/KT82-1 -> 0.047137632 | LV82: =LH82/KU82-1 -> 0.043846001 | LW82: =LI82/KV82-1 -> 0.053508072 | LX82: =LJ82/KW82-1 -> 0.058385591 | LY82: =LK82/KX82-1 -> 0.05797394 | MC82: =SUM(MC4:MC81) -> 2.7793071e+08 | MD82: =SUM(MD4:MD81) -> 3.1363101e+08 | ME82: =SUM(ME4:ME81) -> 3.5441811e+08 | MF82: =SUM(MF4:MF81) -> 4.0573055e+08 | MG82: =SUM(MG4:MG81) -> 5.0298843e+08 | MH82: =SUM(MH4:MH81) -> 6.2802753e+08 | MI82: =SUM(MI4:MI81) -> 7.3422721e+08 | MJ82: =SUM(MJ4:MJ81) -> 6.3410713e+08 | ... MZ82: =SUM(MZ4:MZ81) -> 1981891756
MC91: 2002 | MD91: 2003 | ME91: 2004 | MF91: 2005 | MG91: 2006 | MH91: 2007 | MI91: 2008 | MJ91: 2009 | MK91: 2010 | ML91: 2011 | MM91: 2012 | MN91: 2013 | MO91: 2014 | MP91: 2015 | MQ91: 2016 | MR91: 2017 | MS91: 2018 | MT91: 2019 | MU91: 2020 | MV91: 2021 | MW91: 2022 | MX91: 2023 | MY91: 2024 | MZ91: 2025 | NA91: 2026
MB92: jaanuar | MC92: =C82 -> 28725118 | MD92: =P82 -> 28159091 | ME92: =AC82 -> 33457665 | MF92: =AP82 -> 32705390 | MG92: =BC82 -> 41009661 | MH92: =BP82 -> 53874746 | MI92: =CC82 -> 65816923 | MJ92: =CP82 -> 61351569 | MK92: =DC82 -> 51748273 | ML92: =DP82 -> 55348737 | MM92: =EC82 -> 58160695 | MN92: =EP82 -> 62208352 | MO92: =FC82 -> 70010953 | MP92: =FP82 -> 73253947 | MQ92: =GC82 -> 79804105 | MR92: =GP82 -> 85474780 | MS92: =HC82 -> 95902385 | MT92: =HP82 -> 105422072 | MU92: =IC82 -> 113503896 | MV92: =IP82 -> 117427825 | MW92: =JC82 -> 131151779 | MX92: =JP82 -> 144687558 | MY92: =KC82 -> 155612760 | MZ92: =KP82 -> 175126880 | NA92: =LC82 -> 176258978
MB93: veebruar | MC93: =D82 -> 19375391 | MD93: =Q82 -> 23585661 | ME93: =AD82 -> 24880250 | MF93: =AQ82 -> 28450166 | MG93: =BD82 -> 35421543 | MH93: =BQ82 -> 45753957 | MI93: =CD82 -> 56322883 | MJ93: =CQ82 -> 53340172 | MK93: =DD82 -> 44914097 | ML93: =DQ82 -> 44594882 | MM93: =ED82 -> 50559699 | MN93: =EQ82 -> 54965693 | MO93: =FD82 -> 59378917 | MP93: =FQ82 -> 60351712 | MQ93: =GD82 -> 68929993 | MR93: =GQ82 -> 74936125 | MS93: =HD82 -> 82909657 | MT93: =HQ82 -> 93492366 | MU93: =ID82 -> 101964643 | MV93: =IQ82 -> 104085525 | MW93: =JD82 -> 117011556 | MX93: =JQ82 -> 130013920 | MY93: =KD82 -> 147009069 | MZ93: =KQ82 -> 152894840 | NA93: =LD82 -> 163484420
MB94: märts | MC94: =E82 -> 22523894 | MD94: =R82 -> 23499624 | ME94: =AE82 -> 25747689 | MF94: =AR82 -> 32004603 | MG94: =BE82 -> 43105180 | MH94: =BR82 -> 49243089 | MI94: =CE82 -> 58639483 | MJ94: =CR82 -> 57361004 | MK94: =DE82 -> 47829758 | ML94: =DR82 -> 50722787 | MM94: =EE82 -> 54343234 | MN94: =ER82 -> 58231760 | MO94: =FE82 -> 64507808 | MP94: =FR82 -> 74770414 | MQ94: =GE82 -> 70544966 | MR94: =GR82 -> 79102160 | MS94: =HE82 -> 87444434 | MT94: =HR82 -> 92425550 | MU94: =IE82 -> 104889078 | MV94: =IR82 -> 107562136 | MW94: =JE82 -> 120236421 | MX94: =JR82 -> 136304671 | MY94: =KE82 -> 149529751 | MZ94: =KR82 -> 158283047 | NA94: =LE82 -> 166065014
MB95: aprill | MC95: =F82 -> 19496723 | MD95: =S82 -> 19212770 | ME95: =AF82 -> 23642789 | MF95: =AS82 -> 33942320 | MG95: =BF82 -> 38454482 | MH95: =BS82 -> 49621688 | MI95: =CF82 -> 61011789 | MJ95: =CS82 -> 55853111 | MK95: =DF82 -> 47999619 | ML95: =DS82 -> 49895664 | MM95: =EF82 -> 54317397 | MN95: =ES82 -> 59002474 | MO95: =FF82 -> 63726137 | MP95: =FS82 -> 69823581 | MQ95: =GF82 -> 73156279 | MR95: =GS82 -> 78468159 | MS95: =HF82 -> 88750067 | MT95: =HS82 -> 103917178 | MU95: =IF82 -> 95108066 | MV95: =IS82 -> 107303610 | MW95: =JF82 -> 122514411 | MX95: =JS82 -> 135414819 | MY95: =KF82 -> 153033956 | MZ95: =KS82 -> 161749693 | NA95: =LF82 -> 168713819
MB96: mai | MC96: =G82 -> 10152129 | MD96: =T82 -> 16157711 | ME96: =AG82 -> 27600400 | MF96: =AT82 -> 33577661 | MG96: =BG82 -> 39461633 | MH96: =BT82 -> 50185315 | MI96: =CG82 -> 59465862 | MJ96: =CT82 -> 52441936 | MK96: =DG82 -> 47639814 | ML96: =DT82 -> 51279343 | MM96: =EG82 -> 54959509 | MN96: =ET82 -> 60846175 | MO96: =FG82 -> 65335091 | MP96: =FT82 -> 71164000 | MQ96: =GG82 -> 75717641 | MR96: =GT82 -> 81813968 | MS96: =HG82 -> 90502185 | MT96: =HT82 -> 101108553 | MU96: =IG82 -> 104453068 | MV96: =IT82 -> 114256683 | MW96: =JG82 -> 128754362 | MX96: =JT82 -> 144670399 | MY96: =KG82 -> 158598178 | MZ96: =KT82 -> 167952774 | NA96: =LG82 -> 175869670
MB97: juuni | MC97: =H82 -> 20370677 | MD97: =U82 -> 23872848 | ME97: =AH82 -> 29294956 | MF97: =AU82 -> 34110511 | MG97: =BH82 -> 42210553 | MH97: =BU82 -> 50323804 | MI97: =CH82 -> 63116762 | MJ97: =CU82 -> 52279865 | MK97: =DH82 -> 48684550 | ML97: =DU82 -> 51461000 | MM97: =EH82 -> 55523834 | MN97: =EU82 -> 61136035 | MO97: =FH82 -> 65339107 | MP97: =FU82 -> 70284543 | MQ97: =GH82 -> 81614240 | MR97: =GU82 -> 81479940 | MS97: =HH82 -> 90838287 | MT97: =HU82 -> 99968200 | MU97: =IH82 -> 101838190 | MV97: =IU82 -> 108590421 | MW97: =JH82 -> 122276525 | MX97: =JU82 -> 137646812 | MY97: =KH82 -> 152070645 | MZ97: =KU82 -> 162181496 | NA97: =LH82 -> 169292506
MB98: juuli | MC98: =I82 -> 31466918 | MD98: =V82 -> 35529119 | ME98: =AI82 -> 34265791 | MF98: =AV82 -> 39054133 | MG98: =BI82 -> 50180937 | MH98: =BV82 -> 66545824 | MI98: =CI82 -> 75258253 | MJ98: =CV82 -> 61846658 | MK98: =DI82 -> 59030661 | ML98: =DV82 -> 60631446 | MM98: =EI82 -> 65430478 | MN98: =EV82 -> 70516099 | MO98: =FI82 -> 75772878 | MP98: =FV82 -> 79419716 | MQ98: =GI82 -> 84854381 | MR98: =GV82 -> 90886778 | MS98: =HI82 -> 99325555 | MT98: =HV82 -> 108370601 | MU98: =II82 -> 107556837 | MV98: =IV82 -> 116420748 | MW98: =JI82 -> 131731271 | MX98: =JV82 -> 145844163 | MY98: =KI82 -> 161212337 | MZ98: =KV82 -> 168057465 | NA98: =LI82 -> 177049896
MB99: august | MC99: =J82 -> 25164303 | MD99: =W82 -> 28235906 | ME99: =AJ82 -> 30360146 | MF99: =AW82 -> 35410338 | MG99: =BJ82 -> 43003885 | MH99: =BW82 -> 54622085 | MI99: =CJ82 -> 63290548 | MJ99: =CW82 -> 51601567 | MK99: =DJ82 -> 49618824 | ML99: =DW82 -> 52145668 | MM99: =EJ82 -> 55671742 | MN99: =EW82 -> 61051262 | MO99: =FJ82 -> 66875142 | MP99: =FW82 -> 72661909 | MQ99: =GJ82 -> 76072562 | MR99: =GW82 -> 82618844 | MS99: =HJ82 -> 92639687 | MT99: =HW82 -> 102368402 | MU99: =IJ82 -> 106276671 | MV99: =IW82 -> 114649775 | MW99: =JJ82 -> 127057539 | MX99: =JW82 -> 140672849 | MY99: =KJ82 -> 155546786 | MZ99: =KW82 -> 163916487 | NA99: =LJ82 -> 173486848
MB100: september | MC100: =K82 -> 21902734 | MD100: =X82 -> 26003944 | ME100: =AK82 -> 25773601 | MF100: =AX82 -> 32371493 | MG100: =BK82 -> 40623924 | MH100: =BX82 -> 48424781 | MI100: =CK82 -> 55149288 | MJ100: =CX82 -> 47075650 | MK100: =DK82 -> 43713059 | ML100: =DX82 -> 47773969 | MM100: =EK82 -> 51245088 | MN100: =EX82 -> 56762578 | MO100: =FK82 -> 61090593 | MP100: =FX82 -> 66752875 | MQ100: =GK82 -> 70517213 | MR100: =GX82 -> 77205535 | MS100: =HK82 -> 89492675 | MT100: =HX82 -> 99627417 | MU100: =IK82 -> 102385939 | MV100: =IX82 -> 111944897 | MW100: =JK82 -> 124926503 | MX100: =JX82 -> 138201482 | MY100: =KK82 -> 153703697 | MZ100: =KX82 -> 161614753 | NA100: =LK82 -> 170984197
MB101: oktoober | MC101: =L82 -> 26408374 | MD101: =Y82 -> 30349107 | ME101: =AL82 -> 28130836 | MF101: =AY82 -> 33917819 | MG101: =BL82 -> 41503973 | MH101: =BY82 -> 52521879 | MI101: =CL82 -> 57180978 | MJ101: =CY82 -> 45297723 | MK101: =DL82 -> 46448859 | ML101: =DY82 -> 51094490 | MM101: =EL82 -> 54599826 | MN101: =EY82 -> 58801477 | MO101: =FL82 -> 64183974 | MP101: =FY82 -> 71182257 | MQ101: =GL82 -> 77795763 | MR101: =GY82 -> 86490108 | MS101: =HL82 -> 94937491 | MT101: =HY82 -> 104774906 | MU101: =IL82 -> 113150535 | MV101: =IY82 -> 122706879 | MW101: =JL82 -> 141800214 | MX101: =JY82 -> 153447891 | MY101: =KL82 -> 169362885 | MZ101: =KY82 -> 181441123
MB102: november | MC102: =M82 -> 24533827 | MD102: =Z82 -> 27622494 | ME102: =AM82 -> 37807346 | MF102: =AZ82 -> 32850115 | MG102: =BM82 -> 43413884 | MH102: =BZ82 -> 51882525 | MI102: =CM82 -> 57820888 | MJ102: =CZ82 -> 47210393 | MK102: =DM82 -> 47562123 | ML102: =DZ82 -> 51150911 | MM102: =EM82 -> 53889228 | MN102: =EZ82 -> 59554438 | MO102: =FM82 -> 64799813 | MP102: =FZ82 -> 70650264 | MQ102: =GM82 -> 74330827 | MR102: =GZ82 -> 81153389 | MS102: =HM82 -> 91231269 | MT102: =HZ82 -> 100488500 | MU102: =IM82 -> 105007103 | MV102: =IZ82 -> 113960207 | MW102: =JM82 -> 127759725 | MX102: =JZ82 -> 139718306 | MY102: =KM82 -> 154955932 | MZ102: =KZ82 -> 163510392
MB103: detsember | MC103: =N82 -> 27810619 | MD103: =AA82 -> 31402732 | ME103: =AN82 -> 33456638 | MF103: =BA82 -> 37336007 | MG103: =BN82 -> 44598778 | MH103: =CA82 -> 55027837 | MI103: =CN82 -> 61153557 | MJ103: =DA82 -> 48447477 | MK103: =DN82 -> 49500698 | ML103: =EA82 -> 52440493 | MM103: =EN82 -> 56381897 | MN103: =FA82 -> 60633197 | MO103: =FN82 -> 67278964 | MP103: =GA82 -> 72225353 | MQ103: =GN82 -> 77055234 | MR103: =HA82 -> 84214493 | MS103: =HN82 -> 96088109 | MT103: =IA82 -> 103402483 | MU103: =IN82 -> 106196827 | MV103: =JA82 -> 116083367 | MW103: =JN82 -> 130467944 | MX103: =KA82 -> 141898055 | MY103: =KN82 -> 157726952 | MZ103: =LA82 -> 165162806
MB104: KOKKU | MC104: =SUM(MC92:MC103) -> 2.7793071e+08 | MD104: =SUM(MD92:MD103) -> 3.1363101e+08 | ME104: =SUM(ME92:ME103) -> 3.5441811e+08 | MF104: =SUM(MF92:MF103) -> 4.0573055e+08 | MG104: =SUM(MG92:MG103) -> 5.0298843e+08 | MH104: =SUM(MH92:MH103) -> 6.2802753e+08 | MI104: =SUM(MI92:MI103) -> 7.3422721e+08 | MJ104: =SUM(MJ92:MJ103) -> 6.3410713e+08 | ... NA104: =SUM(NA92:NA103) -> 1541205348
MB105: jan-sept (eurot) | MC105: =SUM(MC92:MC100) -> 1.9917789e+08 | MD105: =SUM(MD92:MD100) -> 2.2425667e+08 | ME105: =SUM(ME92:ME100) -> 2.5502329e+08 | MF105: =SUM(MF92:MF100) -> 3.0162661e+08 | MG105: =SUM(MG92:MG100) -> 3.734718e+08 | MH105: =SUM(MH92:MH100) -> 4.6859529e+08 | MI105: =SUM(MI92:MI100) -> 5.5807179e+08 | MJ105: =SUM(MJ92:MJ100) -> 4.9315153e+08 | ... NA105: =SUM(NA92:NA100) -> 1541205348
MB106: jan-sept kasv (parem telg) | MD106: =MD105/MC105-1 -> 0.1259115 | ME106: =ME105/MD105-1 -> 0.13719374 | MF106: =MF105/ME105-1 -> 0.18274146 | MG106: =MG105/MF105-1 -> 0.23819246 | MH106: =MH105/MG105-1 -> 0.25470061 | MI106: =MI105/MH105-1 -> 0.19094622 | MJ106: =MJ105/MI105-1 -> -0.11632958 | MK106: =MK105/MJ105-1 -> -0.10538927 | ... NA106: =NA105/MZ105-1 -> 0.047172834
MB107: aastane kasv (parem telg) | MD107: =MD104/MC104-1 -> 0.12845036 | ME107: =ME104/MD104-1 -> 0.13004804 | MF107: =MF104/ME104-1 -> 0.14477943 | MG107: =MG104/MF104-1 -> 0.23971051 | MH107: =MH104/MG104-1 -> 0.2485924 | MI107: =MI104/MH104-1 -> 0.16910036 | MJ107: =MJ104/MI104-1 -> -0.13636118 | MK107: =MK104/MJ104-1 -> -0.077931299 | ... MZ107: =MZ104/MY104-1 -> 0.060763787
