Workbook

Sheet andmed
A3: KOD | B3: KOMMENTAAR | C3: 01_2026 | D3: 02_2026 | E3: 03_2026
A4: 130 | B4: Alutaguse vald | C4: 511398 | D4: 490564 | E4: 488237
A5: 141 | B5: Anija vald | C5: 773864 | D5: 731456 | E5: 739271
A6: 145 | B6: Antsla vald | C6: 403977 | D6: 369173 | E6: 370641
A7: 171 | B7: Elva vald | C7: 1701322 | D7: 1507855 | E7: 1549753
A8: 184 | B8: Haapsalu linn | C8: 1402207 | D8: 1314464 | E8: 1343924
A9: 191 | B9: Haljala vald | C9: 546301 | D9: 492133 | E9: 507734
A10: 198 | B10: Harku vald | C10: 3205532 | D10: 2933339 | E10: 3023140
A11: 205 | B11: Hiiumaa vald | C11: 1335370 | D11: 1307949 | E11: 1263857
A12: 214 | B12: Häädemeeste vald | C12: 541624 | D12: 494923 | E12: 511016
A13: 245 | B13: Jõelähtme vald | C13: 1173432 | D13: 1147399 | E13: 1136627
A14: 247 | B14: Jõgeva vald | C14: 1398593 | D14: 1269453 | E14: 1286390
A15: 250 | B15: Jõhvi vald | C15: 1850782 | D15: 1743044 | E15: 1763038
... A81: 928 | B81: Väike-Maarja vald | C81: 588266 | D81: 524683 | E81: 535454

Sheet tulumaks
A1: Maakond | B1: Kohalik omavalitsus
C2: 2002 | P2: 2003 | AC2: 2004 | AP2: 2005 | BC2: 2006 | BP2: 2007 | CC2: 2008 | CP2: 2009 | DC2: 2010 | DP2: 2011 | EC2: 2012 | EP2: 2013 | FC2: 2014 | FP2: 2015 | GC2: 2016 | GP2: 2017 | HC2: 2018 | HP2: 2019 | IC2: 2020 | IP2: 2021 | JC2: 2022 | JP2: 2023 | KC2: 2024 | KP2: 2025 | LC2: 2026 | LP2: muutus 2025, % | MC2: Tulumaksu laekumine (ei ole arvestatud 2002-2017 tulumaksu jaotuses külade liikumistega)
C3: jaanuar | D3: veebruar | E3: märts | F3: aprill | G3: mai | H3: juuni | I3: juuli | J3: august | K3: september | L3: oktoober | M3: november | N3: detsember | O3: KOKKU | P3: jaanuar | Q3: veebruar | R3: märts | S3: aprill | T3: mai | U3: juuni | V3: juuli | W3: august | X3: september | Y3: oktoober | Z3: november | AA3: detsember | AB3: KOKKU | AC3: jaanuar | AD3: veebruar | AE3: märts | AF3: aprill | AG3: mai | AH3: juuni | AI3: juuli | AJ3: august | AK3: september | AL3: oktoober | AM3: november | AN3: detsember | AO3: KOKKU | AP3: jaanuar | AQ3: veebruar | AR3: märts | AS3: aprill | AT3: mai | AU3: juuni | AV3: juuli | AW3: august | AX3: september | AY3: oktoober | AZ3: november | BA3: detsember | BB3: KOKKU | BC3: jaanuar | BD3: veebruar | BE3: märts | BF3: aprill | BG3: mai | BH3: juuni | BI3: juuli | BJ3: august | BK3: september | BL3: oktoober | BM3: november | BN3: detsember | BO3: KOKKU | BP3: jaanuar | BQ3: veebruar | BR3: märts | BS3: aprill | BT3: mai | BU3: juuni | BV3: juuli | BW3: august | BX3: september | BY3: oktoober | BZ3: november | CA3: detsember | CB3: KOKKU | CC3: jaanuar | CD3: veebruar | CE3: märts | CF3: aprill | CG3: mai | CH3: juuni | CI3: juuli | CJ3: august | CK3: september | CL3: oktoober | CM3: november | CN3: detsember | CO3: KOKKU | CP3: jaanuar | CQ3: veebruar | CR3: märts | CS3: aprill | CT3: mai | CU3: juuni | CV3: juuli | CW3: august | CX3: september | CY3: oktoober | CZ3: november | DA3: detsember | DB3: KOKKU | DC3: jaanuar | DD3: veebruar | DE3: märts | DF3: aprill | DG3: mai | DH3: juuni | DI3: juuli | DJ3: august | DK3: september | DL3: oktoober | DM3: november | DN3: detsember | DO3: KOKKU | DP3: jaanuar | DQ3: veebruar | DR3: märts | DS3: aprill | DT3: mai | DU3: juuni | DV3: juuli | DW3: august | DX3: september | DY3: oktoober | DZ3: november | EA3: detsember | EB3: KOKKU | EC3: jaanuar | ED3: veebruar | EE3: märts | EF3: aprill | EG3: mai | EH3: juuni | EI3: juuli | EJ3: august | EK3: september | EL3: oktoober | EM3: november | EN3: detsember | EO3: KOKKU | EP3: jaanuar | EQ3: veebruar | ER3: märts | ES3: aprill | ET3: mai | EU3: juuni | EV3: juuli | EW3: august | EX3: september | EY3: oktoober | EZ3: november | FA3: detsember | FB3: KOKKU | FC3: jaanuar | FD3: veebruar | FE3: märts | FF3: aprill | FG3: mai | FH3: juuni | FI3: juuli | FJ3: august | FK3: september | FL3: oktoober | FM3: november | FN3: detsember | FO3: KOKKU | FP3: jaanuar | FQ3: veebruar | FR3: märts | FS3: aprill | FT3: mai | FU3: juuni | FV3: juuli | FW3: august | FX3: september | FY3: oktoober | FZ3: november | GA3: detsember | GB3: KOKKU | GC3: jaanuar | GD3: veebruar | GE3: märts | GF3: aprill | GG3: mai | GH3: juuni | GI3: juuli | GJ3: august | GK3: september | GL3: oktoober | GM3: november | GN3: detsember | GO3: KOKKU | GP3: jaanuar | GQ3: veebruar | GR3: märts | GS3: aprill | GT3: mai | GU3: juuni | GV3: juuli | GW3: august | GX3: september | GY3: oktoober | GZ3: november | HA3: detsember | HB3: KOKKU | HC3: jaanuar | HD3: veebruar | HE3: märts | HF3: aprill | HG3: mai | HH3: juuni | HI3: juuli | HJ3: august | HK3: september | HL3: oktoober | HM3: november | HN3: detsember | HO3: KOKKU | HP3: jaanuar | HQ3: veebruar | HR3: märts | HS3: aprill | HT3: mai | HU3: juuni | HV3: juuli | HW3: august | HX3: september | HY3: oktoober | HZ3: november | IA3: detsember | IB3: KOKKU | IC3: jaanuar | ID3: veebruar | IE3: märts | IF3: aprill | IG3: mai | IH3: juuni | II3: juuli | IJ3: august | IK3: september | IL3: oktoober | IM3: november | IN3: detsember | IO3: KOKKU | IP3: jaanuar | IQ3: veebruar | IR3: märts | IS3: aprill | IT3: mai | IU3: juuni | IV3: juuli | IW3: august | IX3: september | IY3: oktoober | IZ3: november | JA3: detsember | JB3: KOKKU | JC3: jaanuar | JD3: veebruar | JE3: märts | JF3: aprill | JG3: mai | JH3: juuni | JI3: juuli | JJ3: august | JK3: september | JL3: oktoober | JM3: november | JN3: detsember | JO3: KOKKU | JP3: jaanuar | JQ3: veebruar | JR3: märts | JS3: aprill | JT3: mai | JU3: juuni | JV3: juuli | JW3: august | JX3: september | JY3: oktoober | JZ3: november | KA3: detsember | KB3: KOKKU | KC3: jaanuar | KD3: veebruar | KE3: märts | KF3: aprill | KG3: mai | KH3: juuni | KI3: juuli | KJ3: august | KK3: september | KL3: oktoober | KM3: november | KN3: detsember | KO3: KOKKU | KP3: jaanuar | KQ3: veebruar | KR3: märts | KS3: aprill | KT3: mai | KU3: juuni | KV3: juuli | KW3: august | KX3: september | KY3: oktoober | KZ3: november | LA3: detsember | LB3: KOKKU | LC3: jaanuar | LD3: veebruar | LE3: märts | LF3: aprill | LG3: mai | LH3: juuni | LI3: juuli | LJ3: august | LK3: september | LL3: oktoober | LM3: november | LN3: detsember | LO3: KOKKU | LP3: jan-dets | LQ3: jaanuar | LR3: veebruar | LS3: märts | LT3: aprill | LU3: mai | LV3: juuni | LW3: juuli | LX3: august | LY3: september | LZ3: oktoober | MA3: november | MB3: detsember | MC3: 2002 | MD3: 2003 | ME3: 2004 | MF3: 2005 | MG3: 2006 | MH3: 2007 | MI3: 2008 | MJ3: 2009 | MK3: 2010 | ML3: 2011 | MM3: 2012 | MN3: 2013 | MO3: 2014 | MP3: 2015 | MQ3: 2016 | MR3: 2017 | MS3: 2018 | MT3: 2019 | MU3: 2020 | MV3: 2021 | MW3: 2022 | MX3: 2023 | MY3: 2024 | MZ3: 2025
A4: Harju | B4: Anija vald | C4: 167078.98 | D4: 109056.47 | E4: 121988.93 | F4: 112690.11 | G4: 57692.406 | H4: 121919.01 | I4: 159647.34 | J4: 152982.95 | K4: 150595.78 | L4: 141794.32 | M4: 141200.45 | N4: 165767 | O4: 1602413.8 | P4: 156010.25 | Q4: 136602.9 | R4: 124303.94 | S4: 115595.66 | T4: 104915.06 | U4: 165539.93 | V4: 174632.89 | W4: 158789.58 | X4: 156971.67 | Y4: 173238.53 | Z4: 177639.42 | AA4: 147383.27 | AB4: 1791623.1 | AC4: 182419.06 | AD4: 141714.88 | AE4: 144572.3 | AF4: 161793.36 | AG4: 148922.96 | AH4: 154560.22 | AI4: 219403.13 | AJ4: 176874.27 | AK4: 147662.5 | AL4: 165036.88 | AM4: 204526.73 | AN4: 185914.83 | AO4: 2033401.1 | AP4: 177995.79 | AQ4: 145834.11 | AR4: 150532.38 | AS4: 195192.89 | AT4: 162446.92 | AU4: 218075.88 | AV4: 158161.07 | AW4: 248338.74 | AX4: 181309.1 | AY4: 195702.2 | AZ4: 181634.16 | BA4: 206530.49 | BB4: 2221753.7 | BC4: 221442.49 | BD4: 177939.1 | BE4: 209299.14 | BF4: 236354.42 | BG4: 209375.2 | BH4: 228017.91 | BI4: 252650.03 | BJ4: 251189.4 | BK4: 242771.27 | BL4: 244978.33 | BM4: 240532.13 | BN4: 229901.19 | BO4: 2744450.6 | BP4: 284244.88 | BQ4: 246265.45 | BR4: 261994.17 | BS4: 221197.32 | BT4: 292503.42 | BU4: 253750.21 | BV4: 330730.25 | BW4: 304927.84 | BX4: 279553.9 | BY4: 285030.29 | BZ4: 284787.69 | CA4: 250755.82 | CB4: 3295741.2 | CC4: 383524.15 | CD4: 261588.14 | CE4: 321932.3 | CF4: 365868.3 | CG4: 313464.78 | CH4: 275974.84 | CI4: 372924.79 | CJ4: 348222.23 | CK4: 343016.05 | CL4: 286413.15 | CM4: 272740.47 | CN4: 318991.35 | CO4: 3864660.6 | CP4: 298235.53 | CQ4: 264579.33 | CR4: 263809.71 | CS4: 258164.39 | CT4: 252075.15 | CU4: 244231.78 | CV4: 316113.85 | CW4: 249028.29 | CX4: 244968.62 | CY4: 241791 | CZ4: 266911.15 | DA4: 242437.72 | DB4: 3142346.5 | DC4: 226409.64 | DD4: 214816.7 | DE4: 265475.76 | DF4: 222412.6 | DG4: 215734.86 | DH4: 234591.16 | DI4: 343397.42 | DJ4: 247129.79 | DK4: 226613.96 | DL4: 236780.83 | DM4: 232895.65 | DN4: 253503.7 | DO4: 2919762.1 | DP4: 271385 | DQ4: 223018 | DR4: 239927 | DS4: 238610 | DT4: 256371 | DU4: 252927 | DV4: 297699 | DW4: 269212 | DX4: 244012 | DY4: 249322 | DZ4: 262550 | EA4: 266754 | EB4: 3071787 | EC4: 306375 | ED4: 243508 | EE4: 259152 | EF4: 260990 | EG4: 267940 | EH4: 273075 | EI4: 310187 | EJ4: 279176 | EK4: 252029 | EL4: 274244 | EM4: 272409 | EN4: 261971 | EO4: 3261056 | EP4: 334271 | EQ4: 277472 | ER4: 263159 | ES4: 287093 | ET4: 292765 | EU4: 287875 | EV4: 330470 | EW4: 309291 | EX4: 285447 | EY4: 280066 | EZ4: 290838 | FA4: 291122 | FB4: 3529869 | FC4: 348490 | FD4: 283335 | FE4: 307657 | FF4: 295501 | FG4: 309680 | FH4: 302903 | FI4: 350489 | FJ4: 331092 | FK4: 297107 | FL4: 313288 | FM4: 310804 | FN4: 322240 | FO4: 3772586 | FP4: 367132 | FQ4: 278335 | FR4: 354398 | FS4: 352175 | FT4: 323642 | FU4: 325987 | FV4: 382090 | FW4: 351446 | FX4: 320813 | FY4: 333491 | FZ4: 332633 | GA4: 333225 | GB4: 4055367 | GC4: 398884 | GD4: 315157 | GE4: 335482 | GF4: 352087 | GG4: 357730 | GH4: 363902 | GI4: 391057 | GJ4: 365391 | GK4: 326563 | GL4: 343955 | GM4: 345825 | GN4: 353865 | GO4: 4249898 | GP4: 406127 | GQ4: 338983 | GR4: 355161 | GS4: 363461 | GT4: 374709 | GU4: 368008 | GV4: 454002 | GW4: 396336 | GX4: 347978 | GY4: 383928 | GZ4: 379776 | HA4: 385074 | HB4: 4553543 | HC4: 454402 | HD4: 389706 | HE4: 405749 | HF4: 406642 | HG4: 408298 | HH4: 412050 | HI4: 445382 | HJ4: 432993 | HK4: 395698 | HL4: 415422 | HM4: 415949 | HN4: 444074 | HO4: =SUM(HC4:HN4) -> 5026365 | HP4: 500499 | HQ4: 417654 | HR4: 424810 | HS4: 462776 | HT4: 446863 | HU4: 455012 | HV4: 479408 | HW4: 477532 | HX4: 438747 | HY4: 508499 | HZ4: 450589 | IA4: 455234 | IB4: =SUM(HP4:IA4) -> 5517623 | IC4: 514959 | ID4: 454328 | IE4: 466395 | IF4: 443460 | IG4: 470822 | IH4: 444175 | II4: 473471 | IJ4: 487350 | IK4: 447114 | IL4: 489572 | IM4: 469007 | IN4: 474631 | IO4: =SUM(IC4:IN4) -> 5635284 | IP4: 534762 | IQ4: 497431 | IR4: 490525 | IS4: 489926 | IT4: 512729 | IU4: 480304 | IV4: 515762 | IW4: 539466 | IX4: 498277 | IY4: 546680 | IZ4: 505610 | JA4: 525401 | JB4: =SUM(IP4:JA4) -> 6136873 | JC4: 616135 | JD4: 546516 | JE4: 540327 | JF4: 536185 | JG4: 568376 | JH4: 554473 | JI4: 576314 | JJ4: 598157 | JK4: 546113 | JL4: 622364 | JM4: 566135 | JN4: 565222 | JO4: =SUM(JC4:JN4) -> 6836317 | JP4: 634700 | JQ4: 570764 | JR4: 597279 | JS4: 579798 | JT4: 616855 | JU4: 587393 | JV4: 627963 | JW4: 623673 | JX4: 590999 | JY4: 610390 | JZ4: 616313 | KA4: 600679 | KB4: =SUM(JP4:KA4) -> 7256806 | KC4: 658825 | KD4: 636949 | KE4: 631794 | KF4: 657889 | KG4: 668924 | KH4: 660805 | KI4: 699246 | KJ4: 704520 | KK4: 671430 | KL4: 714258 | KM4: 673961 | KN4: 679847 | KO4: =SUM(KC4:KN4) -> 8058448 | KP4: 753017 | KQ4: 669787 | KR4: 685472 | KS4: 701140 | KT4: 734385 | KU4: 701697 | KV4: 730001 | KW4: 769959 | KX4: 700145 | KY4: 742879 | KZ4: 725563 | LA4: 726820 | LB4: =SUM(KP4:LA4) -> 8640865 | LC4: =VLOOKUP($B4,andmed!$B$4:$C$81,2,FALSE) -> 773864 | LD4: =VLOOKUP($B4,andmed!$B$4:$AA$81,3,FALSE) -> 731456 | LE4: =VLOOKUP($B4,andmed!$B$4:$AA$81,4,FALSE) -> 739271 | LF4: 746086 | LG4: 768299 | LH4: 757920 | LI4: 778788 | LJ4: 810813 | LK4: 760021 | LP4: =SUM(LC4:LN4)/SUM(KP4:KX4)-1 -> 0.065302657 | LQ4: =LC4/KP4-1 -> 0.027684634 | LR4: =LD4/KQ4-1 -> 0.092072554 | LS4: =LE4/KR4-1 -> 0.078484606 | LT4: =LF4/KS4-1 -> 0.064104173 | LU4: =LG4/KT4-1 -> 0.046180137 | LV4: =LH4/KU4-1 -> 0.080124327 | LW4: =LI4/KV4-1 -> 0.066831415 | LX4: =LJ4/KW4-1 -> 0.053059968 | LY4: =LK4/KX4-1 -> 0.085519428 | MC4: =O4 -> 1602413.8 | MD4: =AB4 -> 1791623.1 | ME4: =AO4 -> 2033401.1 | MF4: =BB4 -> 2221753.7 | MG4: =BO4 -> 2744450.6 | MH4: =CB4 -> 3295741.2 | MI4: =CO4 -> 3864660.6 | MJ4: =DB4 -> 3142346.5 | MK4: =DO4 -> 2919762.1 | ML4: =EB4 -> 3071787 | MM4: =EO4 -> 3261056 | MN4: =FB4 -> 3529869 | MO4: =FO4 -> 3772586 | MP4: =GB4 -> 4055367 | MQ4: =GO4 -> 4249898 | MR4: =HB4 -> 4553543 | MS4: =HO4 -> 5026365 | MT4: =IB4 -> 5517623 | MU4: =IO4 -> 5635284 | MV4: =JB4 -> 6136873 | MW4: =JO4 -> 6836317 | MX4: =KB4 -> 7256806 | MY4: =KO4 -> 8058448 | MZ4: =LB4 -> 8640865
A5: Harju | B5: Harku vald | C5: 201342.59 | D5: 150121.43 | E5: 192412.54 | F5: 169640.5 | G5: 110312.27 | H5: 187432.48 | I5: 220090.5 | J5: 206968.61 | K5: 185412.61 | L5: 236174.12 | M5: 201596.96 | N5: 212831.29 | O5: 2274335.9 | P5: 223428.67 | Q5: 199711.63 | R5: 236679.98 | S5: 191862.9 | T5: 207746.67 | U5: 233829.27 | V5: 301602.39 | W5: 263741.45 | X5: 252226.81 | Y5: 327109.21 | Z5: 252499.46 | AA5: 261020.35 | AB5: 2951458.8 | AC5: 297935.85 | AD5: 235125.2 | AE5: 260235.26 | AF5: 253729.95 | AG5: 256126.38 | AH5: 295994.66 | AI5: 318545.56 | AJ5: 276972.57 | AK5: 254748.38 | AL5: 262269.06 | AM5: 341212.08 | AN5: 307536.33 | AO5: 3360431.3 | AP5: 302775.56 | AQ5: 302735.74 | AR5: 341298.56 | AS5: 364770.62 | AT5: 361937.67 | AU5: 359793.12 | AV5: 389965.36 | AW5: 395269.96 | AX5: 334194.78 | AY5: 326901.88 | AZ5: 336400.05 | BA5: 396985.86 | BB5: 4213029.2 | BC5: 416277.15 | BD5: 412993.69 | BE5: 471454.18 | BF5: 459762.63 | BG5: 453951.27 | BH5: 490090.75 | BI5: 571033 | BJ5: 490171.92 | BK5: 449136.87 | BL5: 462549.44 | BM5: 489664.66 | BN5: 520647.17 | BO5: 5687732.7 | BP5: 582673.81 | BQ5: 587569.63 | BR5: 610965.96 | BS5: 624724.41 | BT5: 603252.72 | BU5: 596491.25 | BV5: 738084.63 | BW5: 641367.96 | BX5: 577559.09 | BY5: 626820.72 | BZ5: 625958.61 | CA5: 620567.6 | CB5: 7436036.4 | CC5: 759481.42 | CD5: 738045.58 | CE5: 800503.3 | CF5: 831646.11 | CG5: 747265.48 | CH5: 793453.79 | CI5: 947852.31 | CJ5: 792885.67 | CK5: 696094.3 | CL5: 708892.35 | CM5: 697483.1 | CN5: 775720.6 | CO5: 9289324 | CP5: 781104.46 | CQ5: 717264.2 | CR5: 822097.9 | CS5: 783550.8 | CT5: 715150.13 | CU5: 705732.81 | CV5: 834112.46 | CW5: 688471.68 | CX5: 644458.09 | CY5: 605449.11 | CZ5: 665953.69 | DA5: 672595.07 | DB5: 8635940.4 | DC5: 719348.87 | DD5: 656403.37 | DE5: 715235.71 | DF5: 718276.81 | DG5: 701694.43 | DH5: 722927.15 | DI5: 952867.65 | DJ5: 753890.05 | DK5: 646693.02 | DL5: 638041.3 | DM5: 710478.7 | DN5: 704072.26 | DO5: 8639929.3 | DP5: 808955 | DQ5: 697805 | DR5: 793699 | DS5: 808633 | DT5: 804451 | DU5: 783508 | DV5: 896957 | DW5: 843417 | DX5: 735340 | DY5: 780366 | DZ5: 771154 | EA5: 792281 | EB5: 9516566 | EC5: 882689 | ED5: 814487 | EE5: 867685 | EF5: 893937 | EG5: 898647 | EH5: 849795 | EI5: 1146823 | EJ5: 862089 | EK5: 802073 | EL5: 855848 | EM5: 846279 | EN5: 872367 | EO5: 10592719 | EP5: 955768 | EQ5: 873223 | ER5: 930475 | ES5: 957114 | ET5: 971031 | EU5: 1154338 | EV5: 1075628 | EW5: 925359 | EX5: 872650 | EY5: 895834 | EZ5: 901657 | FA5: 913686 | FB5: 11426763 | FC5: 1076610 | FD5: 910375 | FE5: 979760 | FF5: 1019845 | FG5: 1037675 | FH5: 977746 | FI5: 1227662 | FJ5: 1022776 | FK5: 920261 | FL5: 925674 | FM5: 961988 | FN5: 998281 | FO5: 12058653 | FP5: 1068068 | FQ5: 908263 | FR5: 1169383 | FS5: 1068782 | FT5: 1120598 | FU5: 1043607 | FV5: 1189007 | FW5: 1133453 | FX5: 998513 | FY5: 1095303 | FZ5: 1044676 | GA5: 1053936 | GB5: 12893589 | GC5: 1171481 | GD5: 1059652 | GE5: 1101247 | GF5: 1152569 | GG5: 1202610 | GH5: 1220558 | GI5: 1271448 | GJ5: 1167533 | GK5: 1056375 | GL5: 1171043 | GM5: 1257728 | GN5: 1146797 | GO5: 13979041 | GP5: 1287675 | GQ5: 1177400 | GR5: 1212535 | GS5: 1248185 | GT5: 1357868 | GU5: 1434962 | GV5: 1375578 | GW5: 1227092 | GX5: 1188278 | GY5: 1275709 | GZ5: 1244369 | HA5: 1282929 | HB5: 15312580 | HC5: 1472204 | HD5: 1316982 | HE5: 1386471 | HF5: 1414061 | HG5: 1450381 | HH5: 1388141 | HI5: 1486979 | HJ5: 1421802 | HK5: 1374378 | HL5: 1450466 | HM5: 1419445 | HN5: 1477943 | HO5: =SUM(HC5:HN5) -> 17059253 | HP5: 1616677 | HQ5: 1500671 | HR5: 1628300 | HS5: 1691375 | HT5: 1664181 | HU5: 1569956 | HV5: 1751758 | HW5: 1592375 | HX5: 1562894 | HY5: 1630307 | HZ5: 1560669 | IA5: 1594349 | IB5: =SUM(HP5:IA5) -> 19363512 | IC5: 1727075 | ID5: 1649924 | IE5: 1682258 | IF5: 1559308 | IG5: 1742591 | IH5: 1603238 | II5: 1709524 | IJ5: 1640906 | IK5: 1638092 | IL5: 1809936 | IM5: 1653302 | IN5: 1681856 | IO5: =SUM(IC5:IN5) -> 20098010 | IP5: 1803556 | IQ5: 1751220 | IR5: 1822344 | IS5: 1782156 | IT5: 1950515 | IU5: 1809986 | IV5: 1951497 | IW5: 1857112 | IX5: 1778528 | IY5: 2128853 | IZ5: 1837614 | JA5: 1842598 | JB5: =SUM(IP5:JA5) -> 22315979 | JC5: 2071113 | JD5: 1989248 | JE5: 2148176 | JF5: 2171098 | JG5: 2261890 | JH5: 2168031 | JI5: 2542187 | JJ5: 1933637 | JK5: 2139861 | JL5: 2404382 | JM5: 2199570 | JN5: 2222816 | JO5: =SUM(JC5:JN5) -> 26252009 | JP5: 2414936 | JQ5: 2366410 | JR5: 2459815 | JS5: 2511427 | JT5: 2593226 | JU5: 2455521 | JV5: 2619685 | JW5: 2520362 | JX5: 2471564 | JY5: 2723445 | JZ5: 2454393 | KA5: 2542062 | KB5: =SUM(JP5:KA5) -> 30132846 | KC5: 2798225 | KD5: 2654366 | KE5: 2752790 | KF5: 2874467 | KG5: 2881260 | KH5: 2746001 | KI5: 2843065 | KJ5: 2826671 | KK5: 2740179 | KL5: 3228801 | KM5: 2780776 | KN5: 2807828 | KO5: =SUM(KC5:KN5) -> 33934429 | KP5: 3195405 | KQ5: 2707443 | KR5: 2926712 | KS5: 2977465 | KT5: 3021819 | KU5: 2947368 | KV5: 2965414 | KW5: 2946373 | KX5: 2879653 | KY5: 3360460 | KZ5: 2893280 | LA5: 2933878 | LB5: =SUM(KP5:LA5) -> 35755270 | LC5: =VLOOKUP($B5,andmed!$B$4:$C$81,2,FALSE) -> 3205532 | LD5: =VLOOKUP($B5,andmed!$B$4:$AA$81,3,FALSE) -> 2933339 | LE5: =VLOOKUP($B5,andmed!$B$4:$AA$81,4,FALSE) -> 3023140 | LF5: 3127953 | LG5: 3164419 | LH5: 3038831 | LI5: 3171318 | LJ5: 3124107 | LK5: 3025845 | LP5: =SUM(LC5:LN5)/SUM(KP5:KX5)-1 -> 0.046930455 | LQ5: =LC5/KP5-1 -> 0.0031692383 | LR5: =LD5/KQ5-1 -> 0.083435182 | LS5: =LE5/KR5-1 -> 0.032947553 | LT5: =LF5/KS5-1 -> 0.050542324 | LU5: =LG5/KT5-1 -> 0.04719012 | LV5: =LH5/KU5-1 -> 0.031032094 | LW5: =LI5/KV5-1 -> 0.069435161 | LX5: =LJ5/KW5-1 -> 0.06032298 | LY5: =LK5/KX5-1 -> 0.050767228 | MC5: =O5 -> 2274335.9 | MD5: =AB5 -> 2951458.8 | ME5: =AO5 -> 3360431.3 | MF5: =BB5 -> 4213029.2 | MG5: =BO5 -> 5687732.7 | MH5: =CB5 -> 7436036.4 | MI5: =CO5 -> 9289324 | MJ5: =DB5 -> 8635940.4 | MK5: =DO5 -> 8639929.3 | ML5: =EB5 -> 9516566 | MM5: =EO5 -> 10592719 | MN5: =FB5 -> 11426763 | MO5: =FO5 -> 12058653 | MP5: =GB5 -> 12893589 | MQ5: =GO5 -> 13979041 | MR5: =HB5 -> 15312580 | MS5: =HO5 -> 17059253 | MT5: =IB5 -> 19363512 | MU5: =IO5 -> 20098010 | MV5: =JB5 -> 22315979 | MW5: =JO5 -> 26252009 | MX5: =KB5 -> 30132846 | MY5: =KO5 -> 33934429 | MZ5: =LB5 -> 35755270
A6: Harju | B6: Jõelähtme vald | C6: 159926.31 | D6: 111160.83 | E6: 117193.83 | F6: 103896.12 | G6: 77056.805 | H6: 134797.98 | I6: 163276.37 | J6: 143691.09 | K6: 166637.1 | L6: 315549.38 | M6: 143999.46 | N6: 154015.19 | O6: 1791200.5 | P6: 154218.3 | Q6: 136648.73 | R6: 137818.25 | S6: 111116.98 | T6: 107699.5 | U6: 144826.35 | V6: 240439.9 | W6: 134537.73 | X6: 166374.68 | Y6: 182845.79 | Z6: 185298.72 | AA6: 184016.53 | AB6: 1885841.5 | AC6: 261458.78 | AD6: 139316.53 | AE6: 156450.03 | AF6: 138673.26 | AG6: 102488.14 | AH6: 152403.97 | AI6: 196170.03 | AJ6: 158119.14 | AK6: 150410.31 | AL6: 144541.5 | AM6: 210516.73 | AN6: 176229.53 | AO6: 1986778 | AP6: 166704.72 | AQ6: 171071.8 | AR6: 190325.82 | AS6: 181166.45 | AT6: 185000.58 | AU6: 180617.64 | AV6: 208250.48 | AW6: 191143 | AX6: 163444.84 | AY6: 185691.08 | AZ6: 173614.65 | BA6: 202156.06 | BB6: 2199187.1 | BC6: 204270.96 | BD6: 191307.76 | BE6: 222063.13 | BF6: 222170.38 | BG6: 210185.34 | BH6: 242634.69 | BI6: 269528.91 | BJ6: 237359.94 | BK6: 213209.32 | BL6: 225672.54 | BM6: 234749.72 | BN6: 228156.28 | BO6: 2701309 | BP6: 286356.72 | BQ6: 266297.41 | BR6: 274895.12 | BS6: 274875.18 | BT6: 274030.33 | BU6: 268970.58 | BV6: 365158.63 | BW6: 289614.48 | BX6: 287639.55 | BY6: 290408.71 | BZ6: 303857.13 | CA6: 289808.27 | CB6: 3471912.1 | CC6: 375535.84 | CD6: 328923.54 | CE6: 342213.52 | CF6: 350038.16 | CG6: 335128.85 | CH6: 350628.89 | CI6: 425431.66 | CJ6: 353135.31 | CK6: 311622.65 | CL6: 335285.37 | CM6: 338766.7 | CN6: 362168.84 | CO6: 4208879.3 | CP6: 378672.36 | CQ6: 312814.22 | CR6: 391932.69 | CS6: 346564.81 | CT6: 313927.12 | CU6: 312916.48 | CV6: 727806.36 | CW6: 340844.59 | CX6: 309907.52 | CY6: 307781.05 | CZ6: 327700.91 | DA6: 281355.37 | DB6: 4352223.5 | DC6: 287888.3 | DD6: 245029.53 | DE6: 290484.64 | DF6: 296522.18 | DG6: 294467.87 | DH6: 297602.93 | DI6: 447502.78 | DJ6: 297745.26 | DK6: 272612.77 | DL6: 267762.77 | DM6: 296795.73 | DN6: 296207.61 | DO6: 3590622.4 | DP6: 351665 | DQ6: 279261 | DR6: 307061 | DS6: 313876 | DT6: 325513 | DU6: 313972 | DV6: 526658 | DW6: 316061 | DX6: 297945 | DY6: 294907 | DZ6: 308505 | EA6: 303470 | EB6: 3938894 | EC6: 360409 | ED6: 315818 | EE6: 321183 | EF6: 324315 | EG6: 336366 | EH6: 334414 | EI6: 460232 | EJ6: 334041 | EK6: 305805 | EL6: 335070 | EM6: 329099 | EN6: 338776 | EO6: 4095528 | EP6: 369648 | EQ6: 340668 | ER6: 349573 | ES6: 351710 | ET6: 360380 | EU6: 362389 | EV6: 504089 | EW6: 378042 | EX6: 342095 | EY6: 361433 | EZ6: 364917 | FA6: 356899 | FB6: 4441843 | FC6: 419464 | FD6: 357062 | FE6: 378430 | FF6: 369229 | FG6: 396494 | FH6: 390385 | FI6: 481306 | FJ6: 411123 | FK6: 368443 | FL6: 382794 | FM6: 391558 | FN6: 389951 | FO6: 4736239 | FP6: 431597 | FQ6: 349049 | FR6: 441110 | FS6: 407857 | FT6: 428399 | FU6: 410155 | FV6: 464327 | FW6: 448188 | FX6: 392622 | FY6: 419669 | FZ6: 421179 | GA6: 428169 | GB6: 5042321 | GC6: 466896 | GD6: 425624 | GE6: 436167 | GF6: 435491 | GG6: 460807 | GH6: 473069 | GI6: 498917 | GJ6: 464188 | GK6: 421767 | GL6: 457653 | GM6: 457157 | GN6: 463589 | GO6: 5461325 | GP6: 512057 | GQ6: 455395 | GR6: 493402 | GS6: 477242 | GT6: 503758 | GU6: 487153 | GV6: 561266 | GW6: 500276 | GX6: 474081 | GY6: 497286 | GZ6: 482600 | HA6: 511008 | HB6: 5955524 | HC6: 565234 | HD6: 515259 | HE6: 522640 | HF6: 551723 | HG6: 557791 | HH6: 529207 | HI6: 583221 | HJ6: 564530 | HK6: 556072 | HL6: 576127 | HM6: 539604 | HN6: 555282 | HO6: =SUM(HC6:HN6) -> 6616690 | HP6: 624747 | HQ6: 559495 | HR6: 566336 | HS6: 623257 | HT6: 621102 | HU6: 611141 | HV6: 661939 | HW6: 619603 | HX6: 602338 | HY6: 613144 | HZ6: 627571 | IA6: 604683 | IB6: =SUM(HP6:IA6) -> 7335356 | IC6: 682155 | ID6: 635221 | IE6: 646301 | IF6: 595675 | IG6: 646401 | IH6: 612131 | II6: 652398 | IJ6: 653096 | IK6: 621113 | IL6: 659108 | IM6: 637454 | IN6: 639157 | IO6: =SUM(IC6:IN6) -> 7680210 | IP6: 693769 | IQ6: 624898 | IR6: 644833 | IS6: 644294 | IT6: 689878 | IU6: 663936 | IV6: 702402 | IW6: 725414 | IX6: 671223 | IY6: 716964 | IZ6: 697417 | JA6: 700052 | JB6: =SUM(IP6:JA6) -> 8175080 | JC6: 779647 | JD6: 747684 | JE6: 761393 | JF6: 758532 | JG6: 801570 | JH6: 761227 | JI6: 820101 | JJ6: 822630 | JK6: 771380 | JL6: 818538 | JM6: 780250 | JN6: 796974 | JO6: =SUM(JC6:JN6) -> 9419926 | JP6: 880470 | JQ6: 831800 | JR6: 851532 | JS6: 873197 | JT6: 939607 | JU6: 894226 | JV6: 922782 | JW6: 919093 | JX6: 1012426 | JY6: 948331 | JZ6: 888280 | KA6: 906264 | KB6: =SUM(JP6:KA6) -> 10868008 | KC6: 979048 | KD6: 954221 | KE6: 983395 | KF6: 978399 | KG6: 996091 | KH6: 991246 | KI6: 1021489 | KJ6: 1035155 | KK6: 1014684 | KL6: 1034711 | KM6: 992192 | KN6: 1043204 | KO6: =SUM(KC6:KN6) -> 12023835 | KP6: 1119393 | KQ6: 1029814 | KR6: 1049140 | KS6: 1110690 | KT6: 1127381 | KU6: 1085033 | KV6: 1104402 | KW6: 1103846 | KX6: 1074038 | KY6: 1148454 | KZ6: 1090719 | LA6: 1094728 | LB6: =SUM(KP6:LA6) -> 13137638 | LC6: =VLOOKUP($B6,andmed!$B$4:$C$81,2,FALSE) -> 1173432 | LD6: =VLOOKUP($B6,andmed!$B$4:$AA$81,3,FALSE) -> 1147399 | LE6: =VLOOKUP($B6,andmed!$B$4:$AA$81,4,FALSE) -> 1136627 | LF6: 1165916 | LG6: 1222723 | LH6: 1164451 | LI6: 1203549 | LJ6: 1209616 | LK6: 1168728 | LP6: =SUM(LC6:LN6)/SUM(KP6:KX6)-1 -> 0.080449323 | LQ6: =LC6/KP6-1 -> 0.048275271 | LR6: =LD6/KQ6-1 -> 0.11418081 | LS6: =LE6/KR6-1 -> 0.083389252 | LT6: =LF6/KS6-1 -> 0.049722245 | LU6: =LG6/KT6-1 -> 0.084569458 | LV6: =LH6/KU6-1 -> 0.073194087 | LW6: =LI6/KV6-1 -> 0.089774376 | LX6: =LJ6/KW6-1 -> 0.095819526 | LY6: =LK6/KX6-1 -> 0.088162616 | MC6: =O6 -> 1791200.5 | MD6: =AB6 -> 1885841.5 | ME6: =AO6 -> 1986778 | MF6: =BB6 -> 2199187.1 | MG6: =BO6 -> 2701309 | MH6: =CB6 -> 3471912.1 | MI6: =CO6 -> 4208879.3 | MJ6: =DB6 -> 4352223.5 | MK6: =DO6 -> 3590622.4 | ML6: =EB6 -> 3938894 | MM6: =EO6 -> 4095528 | MN6: =FB6 -> 4441843 | MO6: =FO6 -> 4736239 | MP6: =GB6 -> 5042321 | MQ6: =GO6 -> 5461325 | MR6: =HB6 -> 5955524 | MS6: =HO6 -> 6616690 | MT6: =IB6 -> 7335356 | MU6: =IO6 -> 7680210 | MV6: =JB6 -> 8175080 | MW6: =JO6 -> 9419926 | MX6: =KB6 -> 10868008 | MY6: =KO6 -> 12023835 | MZ6: =LB6 -> 13137638
A7: Harju | B7: Keila linn | C7: 281398.07 | D7: 192269.06 | E7: 212888.04 | F7: 213358.49 | G7: 106645.85 | H7: 212183.67 | I7: 281594.79 | J7: 244746.46 | K7: 216142.8 | L7: 245520.56 | M7: 224137.38 | N7: 283247.1 | O7: 2714132.3 | P7: 275318.92 | Q7: 223788.11 | R7: 235657.2 | S7: 173045.26 | T7: 183211.94 | U7: 262208.28 | V7: 332317.63 | W7: 277989.53 | X7: 262733.57 | Y7: 271299.64 | Z7: 271930.83 | AA7: 301178.21 | AB7: 3070679.1 | AC7: 319950.47 | AD7: 232975.41 | AE7: 245835.71 | AF7: 244161.54 | AG7: 264872.18 | AH7: 288134.8 | AI7: 319394.44 | AJ7: 291090.59 | AK7: 247856.02 | AL7: 261974.93 | AM7: 340032.08 | AN7: 318615.55 | AO7: 3374893.7 | AP7: 322448.58 | AQ7: 258835.27 | AR7: 321121.78 | AS7: 289560.54 | AT7: 306874.08 | AU7: 355660.14 | AV7: 321793.42 | AW7: 338606.53 | AX7: 304495.93 | AY7: 311007.31 | AZ7: 305109.16 | BA7: 336253.24 | BB7: 3771766 | BC7: 397851.8 | BD7: 311760.83 | BE7: 388851.51 | BF7: 343653.13 | BG7: 367472.04 | BH7: 369045.93 | BI7: 465000.58 | BJ7: 400204.13 | BK7: 347146.41 | BL7: 348406.55 | BM7: 384728.63 | BN7: 396106.12 | BO7: 4520227.7 | BP7: 497545.73 | BQ7: 389363.25 | BR7: 435042.5 | BS7: 448708.79 | BT7: 448929.1 | BU7: 462898.33 | BV7: 537269.06 | BW7: 500899.36 | BX7: 434492.35 | BY7: 450668.96 | BZ7: 470911 | CA7: 500286.32 | CB7: 5577014.8 | CC7: 591790.29 | CD7: 507519.4 | CE7: 547661.03 | CF7: 545062.12 | CG7: 551242.57 | CH7: 567639.36 | CI7: 669773.56 | CJ7: 598645.39 | CK7: 493003.4 | CL7: 502184.76 | CM7: 524904.52 | CN7: 561980.37 | CO7: 6661406.8 | CP7: 565770.14 | CQ7: 493262.37 | CR7: 523962.07 | CS7: 513030.56 | CT7: 494154.32 | CU7: 483559.75 | CV7: 563371.72 | CW7: 484857.92 | CX7: 433915.99 | CY7: 546603.54 | CZ7: 439713.68 | DA7: 444204.75 | DB7: 5986406.8 | DC7: 475548.23 | DD7: 418917.59 | DE7: 441450.47 | DF7: 461242.25 | DG7: 443280.58 | DH7: 446470.16 | DI7: 531313.13 | DJ7: 490888.44 | DK7: 400630.04 | DL7: 422898.27 | DM7: 455212.76 | DN7: 458398.82 | DO7: 5446250.8 | DP7: 516631 | DQ7: 420041 | DR7: 465264 | DS7: 491633 | DT7: 489486 | DU7: 472082 | DV7: 557128 | DW7: 503536 | DX7: 444832 | DY7: 464204 | DZ7: 479822 | EA7: 489787 | EB7: 5794446 | EC7: 533826 | ED7: 476280 | EE7: 512145 | EF7: 529017 | EG7: 533096 | EH7: 523753 | EI7: 601090 | EJ7: 545493 | EK7: 481320 | EL7: 498239 | EM7: 521325 | EN7: 538232 | EO7: 6293816 | EP7: 588708 | EQ7: 519606 | ER7: 545148 | ES7: 543778 | ET7: 596890 | EU7: 566729 | EV7: 635240 | EW7: 608409 | EX7: 528906 | EY7: 540287 | EZ7: 562050 | FA7: 570201 | FB7: 6805952 | FC7: 658935 | FD7: 546509 | FE7: 602110 | FF7: 573031 | FG7: 637437 | FH7: 602369 | FI7: 669661 | FJ7: 626408 | FK7: 570449 | FL7: 574456 | FM7: 600368 | FN7: 616705 | FO7: 7278438 | FP7: 666905 | FQ7: 550887 | FR7: 671120 | FS7: 710819 | FT7: 683269 | FU7: 637119 | FV7: 713897 | FW7: 693136 | FX7: 603906 | FY7: 631388 | FZ7: 652268 | GA7: 655819 | GB7: 7870533 | GC7: 722720 | GD7: 626247 | GE7: 645934 | GF7: 663022 | GG7: 696240 | GH7: 739595 | GI7: 749263 | GJ7: 710180 | GK7: 656500 | GL7: 676456 | GM7: 712167 | GN7: 660518 | GO7: 8258842 | GP7: 777704 | GQ7: 692321 | GR7: 735693 | GS7: 700748 | GT7: 780862 | GU7: 758612 | GV7: 818581 | GW7: 766619 | GX7: 709123 | GY7: 753581 | GZ7: 731398 | HA7: 778230 | HB7: 9003472 | HC7: 885029 | HD7: 753500 | HE7: 815009 | HF7: 834891 | HG7: 862745 | HH7: 831090 | HI7: 920614 | HJ7: 903048 | HK7: 830865 | HL7: 839297 | HM7: 827503 | HN7: 883703 | HO7: =SUM(HC7:HN7) -> 10187294 | HP7: 966815 | HQ7: 837537 | HR7: 856264 | HS7: 944951 | HT7: 940926 | HU7: 904056 | HV7: 993743 | HW7: 967425 | HX7: 903430 | HY7: 923237 | HZ7: 930484 | IA7: 941608 | IB7: =SUM(HP7:IA7) -> 11110476 | IC7: 1032574 | ID7: 917626 | IE7: 956707 | IF7: 860710 | IG7: 979099 | IH7: 921312 | II7: 957297 | IJ7: 952400 | IK7: 939285 | IL7: 958507 | IM7: 936640 | IN7: 955733 | IO7: =SUM(IC7:IN7) -> 11367890 | IP7: 1035381 | IQ7: 936865 | IR7: 973783 | IS7: 965440 | IT7: 1027221 | IU7: 972986 | IV7: 1042141 | IW7: 1052437 | IX7: 1006650 | IY7: 1030181 | IZ7: 1012613 | JA7: 1019618 | JB7: =SUM(IP7:JA7) -> 12075316 | JC7: 1160052 | JD7: 1020748 | JE7: 1048654 | JF7: 1079764 | JG7: 1109942 | JH7: 1088590 | JI7: 1151194 | JJ7: 1145324 | JK7: 1086494 | JL7: 1154555 | JM7: 1102974 | JN7: 1126836 | JO7: =SUM(JC7:JN7) -> 13275127 | JP7: 1247571 | JQ7: 1152278 | JR7: 1182211 | JS7: 1192470 | JT7: 1268733 | JU7: 1209823 | JV7: 1269239 | JW7: 1223662 | JX7: 1220203 | JY7: 1226703 | JZ7: 1215446 | KA7: 1217437 | KB7: =SUM(JP7:KA7) -> 14625776 | KC7: 1366566 | KD7: 1243882 | KE7: 1272464 | KF7: 1303573 | KG7: 1358432 | KH7: 1323355 | KI7: 1399370 | KJ7: 1338304 | KK7: 1362776 | KL7: 1365040 | KM7: 1350663 | KN7: 1370157 | KO7: =SUM(KC7:KN7) -> 16054582 | KP7: 1535156 | KQ7: 1284336 | KR7: 1365501 | KS7: 1393648 | KT7: 1454794 | KU7: 1387154 | KV7: 1473273 | KW7: 1431022 | KX7: 1402005 | KY7: 1466067 | KZ7: 1434585 | LA7: 1472391 | LB7: =SUM(KP7:LA7) -> 17099932 | LC7: =VLOOKUP($B7,andmed!$B$4:$C$81,2,FALSE) -> 1558500 | LD7: =VLOOKUP($B7,andmed!$B$4:$AA$81,3,FALSE) -> 1400578 | LE7: =VLOOKUP($B7,andmed!$B$4:$AA$81,4,FALSE) -> 1464152 | LF7: 1455208 | LG7: 1518135 | LH7: 1478585 | LI7: 1525234 | LJ7: 1524658 | LK7: 1513208 | LP7: =SUM(LC7:LN7)/SUM(KP7:KX7)-1 -> 0.055894964 | LQ7: =LC7/KP7-1 -> 0.015206272 | LR7: =LD7/KQ7-1 -> 0.090507468 | LS7: =LE7/KR7-1 -> 0.072245278 | LT7: =LF7/KS7-1 -> 0.044171843 | LU7: =LG7/KT7-1 -> 0.043539498 | LV7: =LH7/KU7-1 -> 0.065912653 | LW7: =LI7/KV7-1 -> 0.035269091 | LX7: =LJ7/KW7-1 -> 0.065432956 | LY7: =LK7/KX7-1 -> 0.079317121 | MC7: =O7 -> 2714132.3 | MD7: =AB7 -> 3070679.1 | ME7: =AO7 -> 3374893.7 | MF7: =BB7 -> 3771766 | MG7: =BO7 -> 4520227.7 | MH7: =CB7 -> 5577014.8 | MI7: =CO7 -> 6661406.8 | MJ7: =DB7 -> 5986406.8 | MK7: =DO7 -> 5446250.8 | ML7: =EB7 -> 5794446 | MM7: =EO7 -> 6293816 | MN7: =FB7 -> 6805952 | MO7: =FO7 -> 7278438 | MP7: =GB7 -> 7870533 | MQ7: =GO7 -> 8258842 | MR7: =HB7 -> 9003472 | MS7: =HO7 -> 10187294 | MT7: =IB7 -> 11110476 | MU7: =IO7 -> 11367890 | MV7: =JB7 -> 12075316 | MW7: =JO7 -> 13275127 | MX7: =KB7 -> 14625776 | MY7: =KO7 -> 16054582 | MZ7: =LB7 -> 17099932
A8: Harju | B8: Kiili vald | C8: 53001.291 | D8: 36167.602 | E8: 47758.874 | F8: 43628.903 | G8: 27892.577 | H8: 41957.933 | I8: 58097.606 | J8: 49680.378 | K8: 44377.309 | L8: 52721.038 | M8: 49215.293 | N8: 53828.052 | O8: 558326.86 | P8: 56754.886 | Q8: 48768.359 | R8: 55656.884 | S8: 43626.794 | T8: 43997.865 | U8: 53192.642 | V8: 73969.425 | W8: 64116.294 | X8: 60892.974 | Y8: 73976.071 | Z8: 65896.041 | AA8: 65482.022 | AB8: 706330.26 | AC8: 73362.967 | AD8: 60286.388 | AE8: 65007.35 | AF8: 65385.643 | AG8: 66823.272 | AH8: 72761.814 | AI8: 79318.318 | AJ8: 78234.377 | AK8: 65433.96 | AL8: 73371.979 | AM8: 92886.889 | AN8: 85307.735 | AO8: 878180.69 | AP8: 79877.29 | AQ8: 85654.391 | AR8: 109804.05 | AS8: 102760.41 | AT8: 96465.175 | AU8: 101250.24 | AV8: 114948.04 | AW8: 101431.17 | AX8: 90984.431 | AY8: 101771.06 | AZ8: 99888.282 | BA8: 108726.82 | BB8: 1193561.3 | BC8: 120495.76 | BD8: 127102.18 | BE8: 147233.33 | BF8: 138091.73 | BG8: 134864.76 | BH8: 149319.47 | BI8: 172809.11 | BJ8: 148343.35 | BK8: 138441.19 | BL8: 150664.23 | BM8: 158924.3 | BN8: 154413.93 | BO8: 1740703.3 | BP8: 187433.37 | BQ8: 187636.36 | BR8: 208329.09 | BS8: 199076.92 | BT8: 205208.99 | BU8: 196436.41 | BV8: 243359.07 | BW8: 213439.34 | BX8: 205312.08 | BY8: 211603.03 | BZ8: 214220.34 | CA8: 214022.28 | CB8: 2486077.3 | CC8: 255079.44 | CD8: 252181.11 | CE8: 269436.81 | CF8: 281431.43 | CG8: 267438.42 | CH8: 273949.68 | CI8: 310895.98 | CJ8: 278279.05 | CK8: 239316.02 | CL8: 262381.28 | CM8: 263086.49 | CN8: 262561.71 | CO8: 3216037.4 | CP8: 271270.37 | CQ8: 252866.44 | CR8: 288145.09 | CS8: 264150.29 | CT8: 244748.83 | CU8: 242902.1 | CV8: 301338.82 | CW8: 247692.85 | CX8: 225105.2 | CY8: 208543.45 | CZ8: 227526.94 | DA8: 227785.33 | DB8: 3002075.7 | DC8: 245470.07 | DD8: 226794.19 | DE8: 241726.51 | DF8: 238370.06 | DG8: 240888.37 | DH8: 235997.34 | DI8: 297793.51 | DJ8: 239735.98 | DK8: 221330.51 | DL8: 224547.63 | DM8: 233308.64 | DN8: 243443.11 | DO8: 2889405.9 | DP8: 267511 | DQ8: 231931 | DR8: 249595 | DS8: 255589 | DT8: 267986 | DU8: 250842 | DV8: 318618 | DW8: 255670 | DX8: 246448 | DY8: 265481 | DZ8: 260760 | EA8: 261907 | EB8: 3132338 | EC8: 291225 | ED8: 262316 | EE8: 289860 | EF8: 272881 | EG8: 289724 | EH8: 271449 | EI8: 358953 | EJ8: 278170 | EK8: 266821 | EL8: 270244 | EM8: 268552 | EN8: 281649 | EO8: 3401844 | EP8: 304988 | EQ8: 286487 | ER8: 297705 | ES8: 316276 | ET8: 329943 | EU8: 301812 | EV8: 354434 | EW8: 302671 | EX8: 292548 | EY8: 298876 | EZ8: 307535 | FA8: 306919 | FB8: 3700194 | FC8: 358828 | FD8: 312314 | FE8: 351375 | FF8: 339605 | FG8: 355349 | FH8: 329247 | FI8: 383875 | FJ8: 334486 | FK8: 307993 | FL8: 347196 | FM8: 336041 | FN8: 353616 | FO8: 4109925 | FP8: 388122 | FQ8: 328805 | FR8: 416074 | FS8: 368437 | FT8: 386441 | FU8: 381326 | FV8: 414590 | FW8: 377590 | FX8: 351199 | FY8: 368088 | FZ8: 370449 | GA8: 373026 | GB8: 4524147 | GC8: 408274 | GD8: 398152 | GE8: 408824 | GF8: 405230 | GG8: 432554 | GH8: 491839 | GI8: 466072 | GJ8: 419934 | GK8: 409539 | GL8: 427682 | GM8: 426583 | GN8: 427208 | GO8: 5121891 | GP8: 485490 | GQ8: 435478 | GR8: 484767 | GS8: 470591 | GT8: 484684 | GU8: 464630 | GV8: 504452 | GW8: 470678 | GX8: 456550 | GY8: 471944 | GZ8: 475414 | HA8: 470371 | HB8: 5675049 | HC8: 537903 | HD8: 502983 | HE8: 532028 | HF8: 537858 | HG8: 552344 | HH8: 553393 | HI8: 582298 | HJ8: 535551 | HK8: 523418 | HL8: 547536 | HM8: 528907 | HN8: 551941 | HO8: =SUM(HC8:HN8) -> 6486160 | HP8: 612258 | HQ8: 540020 | HR8: 587365 | HS8: 631292 | HT8: 608565 | HU8: 599185 | HV8: 624768 | HW8: 601068 | HX8: 589061 | HY8: 600010 | HZ8: 574423 | IA8: 596188 | IB8: =SUM(HP8:IA8) -> 7164203 | IC8: 670992 | ID8: 621047 | IE8: 644806 | IF8: 595895 | IG8: 652568 | IH8: 624254 | II8: 641560 | IJ8: 639267 | IK8: 621397 | IL8: 662410 | IM8: 629946 | IN8: 639136 | IO8: =SUM(IC8:IN8) -> 7643278 | IP8: 722608 | IQ8: 657447 | IR8: 691266 | IS8: 685442 | IT8: 737689 | IU8: 664146 | IV8: 719477 | IW8: 715995 | IX8: 684911 | IY8: 738890 | IZ8: 700629 | JA8: 697486 | JB8: =SUM(IP8:JA8) -> 8415986 | JC8: 810315 | JD8: 786078 | JE8: 781657 | JF8: 805600 | JG8: 852679 | JH8: 769856 | JI8: 871145 | JJ8: 822353 | JK8: 807473 | JL8: 853102 | JM8: 814260 | JN8: 820969 | JO8: =SUM(JC8:JN8) -> 9795487 | JP8: 913077 | JQ8: 863227 | JR8: 906526 | JS8: 908301 | JT8: 985288 | JU8: 906796 | JV8: 943408 | JW8: 924227 | JX8: 901198 | JY8: 1016055 | JZ8: 909024 | KA8: 912175 | KB8: =SUM(JP8:KA8) -> 11089302 | KC8: 1027375 | KD8: 1048755 | KE8: 1046728 | KF8: 1104004 | KG8: 1126400 | KH8: 1072431 | KI8: 1111525 | KJ8: 1087500 | KK8: 1090606 | KL8: 1169878 | KM8: 1085546 | KN8: 1086361 | KO8: =SUM(KC8:KN8) -> 13057109 | KP8: 1232106 | KQ8: 1117709 | KR8: 1202962 | KS8: 1242887 | KT8: 1257363 | KU8: 1164761 | KV8: 1220160 | KW8: 1203788 | KX8: 1175180 | KY8: 1282566 | KZ8: 1179232 | LA8: 1178545 | LB8: =SUM(KP8:LA8) -> 14457259 | LC8: =VLOOKUP($B8,andmed!$B$4:$C$81,2,FALSE) -> 1254398 | LD8: =VLOOKUP($B8,andmed!$B$4:$AA$81,3,FALSE) -> 1244294 | LE8: =VLOOKUP($B8,andmed!$B$4:$AA$81,4,FALSE) -> 1302278 | LF8: 1332148 | LG8: 1365911 | LH8: 1269389 | LI8: 1333017 | LJ8: 1291608 | LK8: 1289821 | LP8: =SUM(LC8:LN8)/SUM(KP8:KX8)-1 -> 0.080054981 | LQ8: =LC8/KP8-1 -> 0.018092599 | LR8: =LD8/KQ8-1 -> 0.11325399 | LS8: =LE8/KR8-1 -> 0.082559549 | LT8: =LF8/KS8-1 -> 0.07181747 | LU8: =LG8/KT8-1 -> 0.086329882 | LV8: =LH8/KU8-1 -> 0.08982787 | LW8: =LI8/KV8-1 -> 0.092493607 | LX8: =LJ8/KW8-1 -> 0.072953045 | LY8: =LK8/KX8-1 -> 0.097551864 | MC8: =O8 -> 558326.86 | MD8: =AB8 -> 706330.26 | ME8: =AO8 -> 878180.69 | MF8: =BB8 -> 1193561.3 | MG8: =BO8 -> 1740703.3 | MH8: =CB8 -> 2486077.3 | MI8: =CO8 -> 3216037.4 | MJ8: =DB8 -> 3002075.7 | MK8: =DO8 -> 2889405.9 | ML8: =EB8 -> 3132338 | MM8: =EO8 -> 3401844 | MN8: =FB8 -> 3700194 | MO8: =FO8 -> 4109925 | MP8: =GB8 -> 4524147 | MQ8: =GO8 -> 5121891 | MR8: =HB8 -> 5675049 | MS8: =HO8 -> 6486160 | MT8: =IB8 -> 7164203 | MU8: =IO8 -> 7643278 | MV8: =JB8 -> 8415986 | MW8: =JO8 -> 9795487 | MX8: =KB8 -> 11089302 | MY8: =KO8 -> 13057109 | MZ8: =LB8 -> 14457259
A9: Harju | B9: Kose vald | C9: 143347.5 | D9: 102783.35 | E9: 117734.08 | F9: 106522.5 | G9: 57292.191 | H9: 109594.61 | I9: 161587.05 | J9: 126989.83 | K9: 111582.07 | L9: 132807.51 | M9: 126019.65 | N9: 151515.98 | O9: 1447776.3 | P9: 148501.46 | Q9: 121330.07 | R9: 127306.12 | S9: 90271.88 | T9: 91747.281 | U9: 134182.19 | V9: 188400.1 | W9: 155205.67 | X9: 133636.96 | Y9: 138147.07 | Z9: 146258.16 | AA9: 158989.62 | AB9: 1633976.6 | AC9: 158075.81 | AD9: 128372.55 | AE9: 131906.1 | AF9: 148637.72 | AG9: 141629.87 | AH9: 152716.44 | AI9: 185007.67 | AJ9: 147852.5 | AK9: 136168.69 | AL9: 155232.25 | AM9: 184304.32 | AN9: 161976.66 | AO9: 1831880.6 | AP9: 175557.12 | AQ9: 148837.26 | AR9: 187341.02 | AS9: 172420.01 | AT9: 180940.46 | AU9: 183449.06 | AV9: 209547.7 | AW9: 190425.78 | AX9: 178197.56 | AY9: 196830.81 | AZ9: 175488.86 | BA9: 197977.9 | BB9: 2197013.5 | BC9: 221884.24 | BD9: 185975.1 | BE9: 219474.77 | BF9: 208686.1 | BG9: 213372.68 | BH9: 236013.19 | BI9: 262765.46 | BJ9: 240136.39 | BK9: 228379.65 | BL9: 227285.42 | BM9: 232866.5 | BN9: 260795.76 | BO9: 2737635.3 | BP9: 293814.25 | BQ9: 261523.59 | BR9: 271295.23 | BS9: 265644.68 | BT9: 271258.93 | BU9: 275685.71 | BV9: 357617.69 | BW9: 291738.21 | BX9: 282234.42 | BY9: 283929.61 | BZ9: 289194.27 | CA9: 316663.05 | CB9: 3460599.6 | CC9: 366156.93 | CD9: 307784.25 | CE9: 310935.35 | CF9: 348632.1 | CG9: 320369.35 | CH9: 351316.2 | CI9: 429354.49 | CJ9: 352496.96 | CK9: 302670.1 | CL9: 326847.11 | CM9: 330173.97 | CN9: 344136.04 | CO9: 4090872.8 | CP9: 345292.97 | CQ9: 298083.93 | CR9: 327224.44 | CS9: 312362.05 | CT9: 280863.13 | CU9: 294593.39 | CV9: 358668.98 | CW9: 285382.83 | CX9: 263371.72 | CY9: 265357.07 | CZ9: 273801.66 | DA9: 279224.82 | DB9: 3584227 | DC9: 291755.4 | DD9: 260640.91 | DE9: 258451.93 | DF9: 266954.55 | DG9: 267435.74 | DH9: 276285.9 | DI9: 306298.17 | DJ9: 295973.63 | DK9: 254700.89 | DL9: 267186.93 | DM9: 279599.98 | DN9: 285982.77 | DO9: 3311266.8 | DP9: 321781 | DQ9: 262985 | DR9: 295350 | DS9: 277555 | DT9: 292371 | DU9: 297785 | DV9: 335868 | DW9: 303788 | DX9: 272538 | DY9: 293657 | DZ9: 289903 | EA9: 301899 | EB9: 3545480 | EC9: 338257 | ED9: 288817 | EE9: 305960 | EF9: 302662 | EG9: 306008 | EH9: 313040 | EI9: 363746 | EJ9: 324791 | EK9: 292297 | EL9: 317666 | EM9: 323285 | EN9: 332437 | EO9: 3808966 | EP9: 364670 | EQ9: 315033 | ER9: 327158 | ES9: 329869 | ET9: 333322 | EU9: 336576 | EV9: 387320 | EW9: 350420 | EX9: 325994 | EY9: 349091 | EZ9: 337493 | FA9: 342474 | FB9: 4099420 | FC9: 397014 | FD9: 318547 | FE9: 345477 | FF9: 335433 | FG9: 358502 | FH9: 352626 | FI9: 404080 | FJ9: 383221 | FK9: 341427 | FL9: 360234 | FM9: 366309 | FN9: 367458 | FO9: 4330328 | FP9: 397098 | FQ9: 331731 | FR9: 412495 | FS9: 374962 | FT9: 384271 | FU9: 392626 | FV9: 428133 | FW9: 409058 | FX9: 383419 | FY9: 393858 | FZ9: 397957 | GA9: 405800 | GB9: 4711408 | GC9: 463848 | GD9: 393510 | GE9: 393966 | GF9: 406310 | GG9: 423929 | GH9: 423461 | GI9: 457065 | GJ9: 444305 | GK9: 399929 | GL9: 425594 | GM9: 423822 | GN9: 431804 | GO9: 5087543 | GP9: 486929 | GQ9: 414067 | GR9: 428505 | GS9: 424381 | GT9: 468487 | GU9: 470276 | GV9: 494758 | GW9: 484481 | GX9: 451155 | GY9: 471712 | GZ9: 463972 | HA9: 480854 | HB9: 5539577 | HC9: 542663 | HD9: 457532 | HE9: 499397 | HF9: 486574 | HG9: 506256 | HH9: 506291 | HI9: 561588 | HJ9: 520371 | HK9: 518951 | HL9: 541191 | HM9: 504582 | HN9: 547366 | HO9: =SUM(HC9:HN9) -> 6192762 | HP9: 600510 | HQ9: 521911 | HR9: 540285 | HS9: 570005 | HT9: 563930 | HU9: 550119 | HV9: 613122 | HW9: 589356 | HX9: 580947 | HY9: 583699 | HZ9: 579204 | IA9: 585856 | IB9: =SUM(HP9:IA9) -> 6878944 | IC9: 656792 | ID9: 585332 | IE9: 607604 | IF9: 546951 | IG9: 594930 | IH9: 575322 | II9: 602802 | IJ9: 608526 | IK9: 599295 | IL9: 616663 | IM9: 602706 | IN9: 595345 | IO9: =SUM(IC9:IN9) -> 7192268 | IP9: 666082 | IQ9: 597820 | IR9: 600512 | IS9: 598685 | IT9: 633824 | IU9: 605274 | IV9: 643590 | IW9: 659442 | IX9: 654370 | IY9: 675153 | IZ9: 638243 | JA9: 659105 | JB9: =SUM(IP9:JA9) -> 7632100 | JC9: 736451 | JD9: 677623 | JE9: 696288 | JF9: 712648 | JG9: 733272 | JH9: 702771 | JI9: 747912 | JJ9: 727255 | JK9: 717977 | JL9: 740445 | JM9: 735963 | JN9: 747509 | JO9: =SUM(JC9:JN9) -> 8676114 | JP9: 823775 | JQ9: 772806 | JR9: 814502 | JS9: 785888 | JT9: 838352 | JU9: 814348 | JV9: 856979 | JW9: 818378 | JX9: 809264 | JY9: 843829 | JZ9: 821953 | KA9: 830926 | KB9: =SUM(JP9:KA9) -> 9831000 | KC9: 906965 | KD9: 871009 | KE9: 893240 | KF9: 912141 | KG9: 932573 | KH9: 915897 | KI9: 938205 | KJ9: 923120 | KK9: 926956 | KL9: 933606 | KM9: 916526 | KN9: 937275 | KO9: =SUM(KC9:KN9) -> 11007513 | KP9: 1028030 | KQ9: 899770 | KR9: 949155 | KS9: 942270 | KT9: 991292 | KU9: 948232 | KV9: 988544 | KW9: 963915 | KX9: 983829 | KY9: 968452 | KZ9: 964513 | LA9: 981958 | LB9: =SUM(KP9:LA9) -> 11609960 | LC9: =VLOOKUP($B9,andmed!$B$4:$C$81,2,FALSE) -> 1027825 | LD9: =VLOOKUP($B9,andmed!$B$4:$AA$81,3,FALSE) -> 964150 | LE9: =VLOOKUP($B9,andmed!$B$4:$AA$81,4,FALSE) -> 985093 | LF9: 969790 | LG9: 1013892 | LH9: 1002412 | LI9: 1037261 | LJ9: 1019546 | LK9: 1026458 | LP9: =SUM(LC9:LN9)/SUM(KP9:KX9)-1 -> 0.040412709 | LQ9: =LC9/KP9-1 -> -0.00019941052 | LR9: =LD9/KQ9-1 -> 0.071551619 | LS9: =LE9/KR9-1 -> 0.037863152 | LT9: =LF9/KS9-1 -> 0.029206066 | LU9: =LG9/KT9-1 -> 0.02279853 | LV9: =LH9/KU9-1 -> 0.057137916 | LW9: =LI9/KV9-1 -> 0.04928157 | LX9: =LJ9/KW9-1 -> 0.057713595 | LY9: =LK9/KX9-1 -> 0.043329684 | MC9: =O9 -> 1447776.3 | MD9: =AB9 -> 1633976.6 | ME9: =AO9 -> 1831880.6 | MF9: =BB9 -> 2197013.5 | MG9: =BO9 -> 2737635.3 | MH9: =CB9 -> 3460599.6 | MI9: =CO9 -> 4090872.8 | MJ9: =DB9 -> 3584227 | MK9: =DO9 -> 3311266.8 | ML9: =EB9 -> 3545480 | MM9: =EO9 -> 3808966 | MN9: =FB9 -> 4099420 | MO9: =FO9 -> 4330328 | MP9: =GB9 -> 4711408 | MQ9: =GO9 -> 5087543 | MR9: =HB9 -> 5539577 | MS9: =HO9 -> 6192762 | MT9: =IB9 -> 6878944 | MU9: =IO9 -> 7192268 | MV9: =JB9 -> 7632100 | MW9: =JO9 -> 8676114 | MX9: =KB9 -> 9831000 | MY9: =KO9 -> 11007513 | MZ9: =LB9 -> 11609960
A10: Harju | B10: Kuusalu vald | C10: 144720.71 | D10: 94425.306 | E10: 103753.08 | F10: 102611.88 | G10: 56090.461 | H10: 117642.36 | I10: 160551.56 | J10: 118123.11 | K10: 122183.73 | L10: 117368.57 | M10: 120199.53 | N10: 126047.45 | O10: 1383717.7 | P10: 143413.71 | Q10: 108522.87 | R10: 125679.83 | S10: 101201.6 | T10: 140196.46 | U10: 140694.91 | V10: 182187.38 | W10: 139441.86 | X10: 143518.14 | Y10: 138660.22 | Z10: 140383.53 | AA10: 157306.76 | AB10: 1661207.3 | AC10: 176815.15 | AD10: 132816.08 | AE10: 132894.62 | AF10: 133169.83 | AG10: 145215.25 | AH10: 141001.43 | AI10: 177224.89 | AJ10: 160725.78 | AK10: 142400.2 | AL10: 144232.49 | AM10: 194683.38 | AN10: 182290.59 | AO10: 1863469.7 | AP10: 171547.36 | AQ10: 144832.68 | AR10: 176097.11 | AS10: 181124.85 | AT10: 169781.93 | AU10: 203225.88 | AV10: 202938.79 | AW10: 172099.95 | AX10: 205333.81 | AY10: 189189.03 | AZ10: 168755.9 | BA10: 217249.82 | BB10: 2202177.1 | BC10: 202990.75 | BD10: 209378.2 | BE10: 224769.34 | BF10: 205110.57 | BG10: 230349.92 | BH10: 209876.52 | BI10: 300735.3 | BJ10: 215388.39 | BK10: 210873.61 | BL10: 232863.63 | BM10: 231219.24 | BN10: 220824.72 | BO10: 2694380.2 | BP10: 315872.97 | BQ10: 245945.96 | BR10: 271028.34 | BS10: 259766.47 | BT10: 266049.56 | BU10: 243875.47 | BV10: 348983.8 | BW10: 312554.87 | BX10: 264355.07 | BY10: 308217.12 | BZ10: 297348.56 | CA10: 306644.32 | CB10: 3440642.5 | CC10: 381590.12 | CD10: 310637.77 | CE10: 317413.62 | CF10: 326538.1 | CG10: 299787.3 | CH10: 340905.12 | CI10: 413906.34 | CJ10: 344726.01 | CK10: 303220.64 | CL10: 337415.41 | CM10: 316753.61 | CN10: 352410.56 | CO10: 4045304.6 | CP10: 314720.51 | CQ10: 288220.57 | CR10: 305493.85 | CS10: 314509.61 | CT10: 285153.58 | CU10: 286737.76 | CV10: 337100.84 | CW10: 285245.55 | CX10: 257017.5 | CY10: 240842.1 | CZ10: 263753.34 | DA10: 266732.9 | DB10: 3445528.1 | DC10: 289068.23 | DD10: 254032.06 | DE10: 263126.37 | DF10: 267570.08 | DG10: 264777.84 | DH10: 268875.35 | DI10: 327299.16 | DJ10: 273712.5 | DK10: 240602.56 | DL10: 256236.75 | DM10: 270785.15 | DN10: 274341.52 | DO10: 3250427.6 | DP10: 304962 | DQ10: 260632 | DR10: 282602 | DS10: 270678 | DT10: 280866 | DU10: 296048 | DV10: 319041 | DW10: 292918 | DX10: 263846 | DY10: 287780 | DZ10: 283810 | EA10: 293170 | EB10: 3436353 | EC10: 319503 | ED10: 285059 | EE10: 284897 | EF10: 300991 | EG10: 294550 | EH10: 313390 | EI10: 351914 | EJ10: 306205 | EK10: 278084 | EL10: 296200 | EM10: 290850 | EN10: 310351 | EO10: 3631994 | EP10: 336633 | EQ10: 298359 | ER10: 308256 | ES10: 315533 | ET10: 318265 | EU10: 328869 | EV10: 371819 | EW10: 337878 | EX10: 307744 | EY10: 319647 | EZ10: 331190 | FA10: 330267 | FB10: 3904460 | FC10: 380820 | FD10: 315926 | FE10: 328598 | FF10: 329976 | FG10: 359273 | FH10: 361268 | FI10: 381368 | FJ10: 354327 | FK10: 329774 | FL10: 335692 | FM10: 345365 | FN10: 364421 | FO10: 4186808 | FP10: 381871 | FQ10: 329775 | FR10: 375863 | FS10: 365066 | FT10: 369956 | FU10: 372633 | FV10: 405695 | FW10: 388620 | FX10: 348645 | FY10: 367508 | FZ10: 364890 | GA10: 375010 | GB10: 4445532 | GC10: 414703 | GD10: 372088 | GE10: 373756 | GF10: 391760 | GG10: 419761 | GH10: 425802 | GI10: 447451 | GJ10: 408754 | GK10: 379780 | GL10: 418218 | GM10: 394958 | GN10: 410531 | GO10: 4857562 | GP10: 464998 | GQ10: 413178 | GR10: 412510 | GS10: 429829 | GT10: 450496 | GU10: 424547 | GV10: 481860 | GW10: 443291 | GX10: 415459 | GY10: 462003 | GZ10: 425077 | HA10: 446624 | HB10: 5269872 | HC10: 495935 | HD10: 423784 | HE10: 443495 | HF10: 473658 | HG10: 476453 | HH10: 482031 | HI10: 497886 | HJ10: 469201 | HK10: 457444 | HL10: 484012 | HM10: 463443 | HN10: 496515 | HO10: =SUM(HC10:HN10) -> 5663857 | HP10: 541836 | HQ10: 457426 | HR10: 478816 | HS10: 531513 | HT10: 533406 | HU10: 520071 | HV10: 540581 | HW10: 511566 | HX10: 496444 | HY10: 513193 | HZ10: 517786 | IA10: 521345 | IB10: =SUM(HP10:IA10) -> 6163983 | IC10: 565712 | ID10: 516434 | IE10: 529143 | IF10: 498947 | IG10: 518650 | IH10: 500629 | II10: 556609 | IJ10: 533585 | IK10: 520704 | IL10: 551126 | IM10: 517724 | IN10: 529711 | IO10: =SUM(IC10:IN10) -> 6338974 | IP10: 584882 | IQ10: 524090 | IR10: 519519 | IS10: 524169 | IT10: 566420 | IU10: 532852 | IV10: 567522 | IW10: 564290 | IX10: 551904 | IY10: 560522 | IZ10: 599640 | JA10: 557026 | JB10: =SUM(IP10:JA10) -> 6652836 | JC10: 624610 | JD10: 580222 | JE10: 581793 | JF10: 603986 | JG10: 645735 | JH10: 603823 | JI10: 661772 | JJ10: 639646 | JK10: 613761 | JL10: 681945 | JM10: 626992 | JN10: 631000 | JO10: =SUM(JC10:JN10) -> 7495285 | JP10: 717808 | JQ10: 640454 | JR10: 664405 | JS10: 672113 | JT10: 715946 | JU10: 663237 | JV10: 746898 | JW10: 692020 | JX10: 670154 | JY10: 732324 | JZ10: 683123 | KA10: 683656 | KB10: =SUM(JP10:KA10) -> 8282138 | KC10: 752878 | KD10: 713983 | KE10: 724308 | KF10: 739434 | KG10: 785253 | KH10: 736111 | KI10: 783470 | KJ10: 775358 | KK10: 761354 | KL10: 790447 | KM10: 753679 | KN10: 757396 | KO10: =SUM(KC10:KN10) -> 9073671 | KP10: 861532 | KQ10: 726369 | KR10: 760334 | KS10: 799221 | KT10: 813928 | KU10: 789404 | KV10: 819745 | KW10: 781189 | KX10: 777916 | KY10: 877369 | KZ10: 785517 | LA10: 790681 | LB10: =SUM(KP10:LA10) -> 9583205 | LC10: =VLOOKUP($B10,andmed!$B$4:$C$81,2,FALSE) -> 863108 | LD10: =VLOOKUP($B10,andmed!$B$4:$AA$81,3,FALSE) -> 784518 | LE10: =VLOOKUP($B10,andmed!$B$4:$AA$81,4,FALSE) -> 803081 | LF10: 839581 | LG10: 865013 | LH10: 837680 | LI10: 876648 | LJ10: 846103 | LK10: 835635 | LP10: =SUM(LC10:LN10)/SUM(KP10:KX10)-1 -> 0.059151531 | LQ10: =LC10/KP10-1 -> 0.0018292994 | LR10: =LD10/KQ10-1 -> 0.080054353 | LS10: =LE10/KR10-1 -> 0.056221345 | LT10: =LF10/KS10-1 -> 0.050499174 | LU10: =LG10/KT10-1 -> 0.062763537 | LV10: =LH10/KU10-1 -> 0.061154998 | LW10: =LI10/KV10-1 -> 0.069415489 | LX10: =LJ10/KW10-1 -> 0.083096408 | LY10: =LK10/KX10-1 -> 0.074196957 | MC10: =O10 -> 1383717.7 | MD10: =AB10 -> 1661207.3 | ME10: =AO10 -> 1863469.7 | MF10: =BB10 -> 2202177.1 | MG10: =BO10 -> 2694380.2 | MH10: =CB10 -> 3440642.5 | MI10: =CO10 -> 4045304.6 | MJ10: =DB10 -> 3445528.1 | MK10: =DO10 -> 3250427.6 | ML10: =EB10 -> 3436353 | MM10: =EO10 -> 3631994 | MN10: =FB10 -> 3904460 | MO10: =FO10 -> 4186808 | MP10: =GB10 -> 4445532 | MQ10: =GO10 -> 4857562 | MR10: =HB10 -> 5269872 | MS10: =HO10 -> 5663857 | MT10: =IB10 -> 6163983 | MU10: =IO10 -> 6338974 | MV10: =JB10 -> 6652836 | MW10: =JO10 -> 7495285 | MX10: =KB10 -> 8282138 | MY10: =KO10 -> 9073671 | MZ10: =LB10 -> 9583205
A11: Harju | B11: Loksa linn | C11: 89141.794 | D11: 47280.432 | E11: 62627.983 | F11: 72608.618 | G11: 23027.75 | H11: 52525.852 | I11: 70271.433 | J11: 66095.637 | K11: 87815.5 | L11: 51679.854 | M11: 56089.694 | N11: 63461.774 | O11: 742626.32 | P11: 53344.688 | Q11: 82775.044 | R11: 71985.991 | S11: 53096.583 | T11: 20730.063 | U11: 98646.607 | V11: 84613.654 | W11: 71119.157 | X11: 71325.719 | Y11: 60178.186 | Z11: 69036.085 | AA11: 77021.398 | AB11: 813873.17 | AC11: 145270.15 | AD11: 64608.797 | AE11: 60930.106 | AF11: 58390.385 | AG11: 40954.265 | AH11: 79422.43 | AI11: 76966.881 | AJ11: 88051.27 | AK11: 76650.007 | AL11: 70225.992 | AM11: 79524.625 | AN11: 103509.26 | AO11: 944504.17 | AP11: 103654.08 | AQ11: 73895.543 | AR11: 35780.297 | AS11: 84313.142 | AT11: 79910.971 | AU11: 120320.07 | AV11: 77370.867 | AW11: 83293.815 | AX11: 96655.503 | AY11: 131683.62 | AZ11: 83474.94 | BA11: 59279.907 | BB11: 1029632.8 | BC11: 135998.62 | BD11: 83638.107 | BE11: 91543.85 | BF11: 100678.04 | BG11: 81956.591 | BH11: 88275.152 | BI11: 140093.89 | BJ11: 107205.97 | BK11: 96993.98 | BL11: 167539.21 | BM11: 106985.67 | BN11: 100171.67 | BO11: 1301080.7 | BP11: 103668.98 | BQ11: 112972.79 | BR11: 148331.52 | BS11: 104786.6 | BT11: 104771.39 | BU11: 114587.39 | BV11: 182075.98 | BW11: 108732.82 | BX11: 121039.65 | BY11: 144337.56 | BZ11: 109868.85 | CA11: 133895.1 | CB11: 1489068.6 | CC11: 221551.52 | CD11: 127050.8 | CE11: 121513.68 | CF11: 129532.17 | CG11: 119483.4 | CH11: 131518.8 | CI11: 188250.87 | CJ11: 148584.04 | CK11: 128224.85 | CL11: 188702.79 | CM11: 128175 | CN11: 125942.89 | CO11: 1758530.8 | CP11: 150136.71 | CQ11: 132727.43 | CR11: 147753.06 | CS11: 140742.59 | CT11: 159404.22 | CU11: 138989.24 | CV11: 129401.72 | CW11: 120277.57 | CX11: 110775.95 | CY11: 118595.16 | CZ11: 116820.14 | DA11: 126021.05 | DB11: 1591644.8 | DC11: 132909.96 | DD11: 102986.14 | DE11: 120128.14 | DF11: 119870.77 | DG11: 155049.72 | DH11: 115417.53 | DI11: 105734.66 | DJ11: 96999.284 | DK11: 96381.322 | DL11: 80380.21 | DM11: 79488.771 | DN11: 97065.624 | DO11: 1302412.2 | DP11: 102571 | DQ11: 83067 | DR11: 93977 | DS11: 87119 | DT11: 98900 | DU11: 93041 | DV11: 97980 | DW11: 94270 | DX11: 91953 | DY11: 92492 | DZ11: 91230 | EA11: 91694 | EB11: 1118294 | EC11: 98870 | ED11: 83825 | EE11: 87927 | EF11: 93007 | EG11: 93798 | EH11: 105648 | EI11: 115290 | EJ11: 99964 | EK11: 84381 | EL11: 81583 | EM11: 85044 | EN11: 86397 | EO11: 1115734 | EP11: 99227 | EQ11: 84851 | ER11: 93031 | ES11: 104753 | ET11: 116634 | EU11: 105828 | EV11: 119493 | EW11: 99822 | EX11: 109294 | EY11: 98695 | EZ11: 100251 | FA11: 103343 | FB11: 1235222 | FC11: 101065 | FD11: 104569 | FE11: 116392 | FF11: 93756 | FG11: 106018 | FH11: 112097 | FI11: 108185 | FJ11: 110716 | FK11: 100483 | FL11: 96714 | FM11: 105534 | FN11: 112734 | FO11: 1268263 | FP11: 116795 | FQ11: 91089 | FR11: 106849 | FS11: 99783 | FT11: 100244 | FU11: 111335 | FV11: 124975 | FW11: 122466 | FX11: 96015 | FY11: 109872 | FZ11: 107106 | GA11: 105686 | GB11: 1292215 | GC11: 112434 | GD11: 101198 | GE11: 100846 | GF11: 104080 | GG11: 108933 | GH11: 126246 | GI11: 114040 | GJ11: 125322 | GK11: 106466 | GL11: 107335 | GM11: 104628 | GN11: 109013 | GO11: 1320541 | GP11: 120912 | GQ11: 101450 | GR11: 108817 | GS11: 106040 | GT11: 109898 | GU11: 102883 | GV11: 136899 | GW11: 126369 | GX11: 114986 | GY11: 104674 | GZ11: 101035 | HA11: 105069 | HB11: 1339032 | HC11: 122915 | HD11: 110683 | HE11: 113511 | HF11: 128123 | HG11: 117454 | HH11: 122818 | HI11: 129100 | HJ11: 126828 | HK11: 116285 | HL11: 127297 | HM11: 125444 | HN11: 139285 | HO11: =SUM(HC11:HN11) -> 1479743 | HP11: 153433 | HQ11: 177779 | HR11: 118932 | HS11: 98072 | HT11: 140877 | HU11: 138465 | HV11: 167356 | HW11: 184274 | HX11: 167962 | HY11: 156650 | HZ11: 146647 | IA11: 154002 | IB11: =SUM(HP11:IA11) -> 1804449 | IC11: 164743 | ID11: 140275 | IE11: 142335 | IF11: 135713 | IG11: 144299 | IH11: 146431 | II11: 152549 | IJ11: 148863 | IK11: 140732 | IL11: 149230 | IM11: 148603 | IN11: 144042 | IO11: =SUM(IC11:IN11) -> 1757815 | IP11: 154069 | IQ11: 132703 | IR11: 136722 | IS11: 129864 | IT11: 151286 | IU11: 132551 | IV11: 143683 | IW11: 148072 | IX11: 144902 | IY11: 148138 | IZ11: 147408 | JA11: 151684 | JB11: =SUM(IP11:JA11) -> 1721082 | JC11: 167205 | JD11: 138556 | JE11: 150195 | JF11: 192153 | JG11: 134187 | JH11: 133762 | JI11: 167104 | JJ11: 170348 | JK11: 148479 | JL11: 154243 | JM11: 157986 | JN11: 161132 | JO11: =SUM(JC11:JN11) -> 1875350 | JP11: 173896 | JQ11: 158322 | JR11: 166896 | JS11: 156974 | JT11: 169788 | JU11: 163549 | JV11: 186981 | JW11: 174871 | JX11: 163773 | JY11: 173508 | JZ11: 174019 | KA11: 168719 | KB11: =SUM(JP11:KA11) -> 2031296 | KC11: 194706 | KD11: 171768 | KE11: 178607 | KF11: 182970 | KG11: 184145 | KH11: 191460 | KI11: 205098 | KJ11: 192177 | KK11: 182978 | KL11: 186801 | KM11: 186327 | KN11: 196576 | KO11: =SUM(KC11:KN11) -> 2253613 | KP11: 200774 | KQ11: 194412 | KR11: 200410 | KS11: 201438 | KT11: 205548 | KU11: 211141 | KV11: 215646 | KW11: 214608 | KX11: 204839 | KY11: 217735 | KZ11: 209534 | LA11: 211246 | LB11: =SUM(KP11:LA11) -> 2487331 | LC11: =VLOOKUP($B11,andmed!$B$4:$C$81,2,FALSE) -> 219280 | LD11: =VLOOKUP($B11,andmed!$B$4:$AA$81,3,FALSE) -> 215064 | LE11: =VLOOKUP($B11,andmed!$B$4:$AA$81,4,FALSE) -> 221556 | LF11: 223365 | LG11: 227236 | LH11: 225394 | LI11: 238723 | LJ11: 232047 | LK11: 224189 | LP11: =SUM(LC11:LN11)/SUM(KP11:KX11)-1 -> 0.096298388 | LQ11: =LC11/KP11-1 -> 0.092173289 | LR11: =LD11/KQ11-1 -> 0.10622801 | LS11: =LE11/KR11-1 -> 0.1055137 | LT11: =LF11/KS11-1 -> 0.10885235 | LU11: =LG11/KT11-1 -> 0.10551307 | LV11: =LH11/KU11-1 -> 0.067504653 | LW11: =LI11/KV11-1 -> 0.10701335 | LX11: =LJ11/KW11-1 -> 0.081259785 | LY11: =LK11/KX11-1 -> 0.094464433 | MC11: =O11 -> 742626.32 | MD11: =AB11 -> 813873.17 | ME11: =AO11 -> 944504.17 | MF11: =BB11 -> 1029632.8 | MG11: =BO11 -> 1301080.7 | MH11: =CB11 -> 1489068.6 | MI11: =CO11 -> 1758530.8 | MJ11: =DB11 -> 1591644.8 | MK11: =DO11 -> 1302412.2 | ML11: =EB11 -> 1118294 | MM11: =EO11 -> 1115734 | MN11: =FB11 -> 1235222 | MO11: =FO11 -> 1268263 | MP11: =GB11 -> 1292215 | MQ11: =GO11 -> 1320541 | MR11: =HB11 -> 1339032 | MS11: =HO11 -> 1479743 | MT11: =IB11 -> 1804449 | MU11: =IO11 -> 1757815 | MV11: =JB11 -> 1721082 | MW11: =JO11 -> 1875350 | MX11: =KB11 -> 2031296 | MY11: =KO11 -> 2253613 | MZ11: =LB11 -> 2487331
